BEGIN:VCALENDAR
VERSION:2.0
PRODID:-//SchoolCalendarAPI//school-calendar//EN
URL:https://api.schools-calendar.com/calendar?district_id=mn-lakeview-scho
 ol-district&year=2025-26
NAME:Lakeview School District School Calendar 2025-26
X-WR-CALNAME:Lakeview School District School Calendar 2025-26
X-WR-CALDESC:Official school calendar for Lakeview School District for the
  2025-26 school year.
REFRESH-INTERVAL;VALUE=DURATION:P1D
X-PUBLISHED-TTL:P1D
BEGIN:VEVENT
UID:1fee899c-7c38-470d-ab5b-9a080ce594f2
SEQUENCE:0
DTSTAMP:20260424T200112Z
DTSTART;VALUE=DATE:20250820
X-MICROSOFT-CDO-ALLDAYEVENT:TRUE
X-MICROSOFT-MSNCALENDAR-ALLDAYEVENT:TRUE
SUMMARY:First Day of School
DESCRIPTION:First day of the 2025-26 school year
STATUS:CONFIRMED
END:VEVENT
BEGIN:VEVENT
UID:4d56056f-6b79-418e-8d8f-a057a8fa6e98
SEQUENCE:0
DTSTAMP:20260424T200112Z
DTSTART;VALUE=DATE:20260515
X-MICROSOFT-CDO-ALLDAYEVENT:TRUE
X-MICROSOFT-MSNCALENDAR-ALLDAYEVENT:TRUE
SUMMARY:Last Day of School
DESCRIPTION:Last day of the 2025-26 school year
STATUS:CONFIRMED
END:VEVENT
BEGIN:VEVENT
UID:f32b2128-8975-4801-a2b2-d1c35e542f84
SEQUENCE:0
DTSTAMP:20260424T200112Z
DTSTART;VALUE=DATE:20251127
DTEND;VALUE=DATE:20251129
X-MICROSOFT-CDO-ALLDAYEVENT:TRUE
X-MICROSOFT-MSNCALENDAR-ALLDAYEVENT:TRUE
SUMMARY:Thanksgiving Vacation
DESCRIPTION:Thanksgiving Vacation - No school
STATUS:CONFIRMED
END:VEVENT
BEGIN:VEVENT
UID:bd854da6-5f3e-4c79-8a56-9f053c0c3dcc
SEQUENCE:0
DTSTAMP:20260424T200112Z
DTSTART;VALUE=DATE:20251224
DTEND;VALUE=DATE:20260105
X-MICROSOFT-CDO-ALLDAYEVENT:TRUE
X-MICROSOFT-MSNCALENDAR-ALLDAYEVENT:TRUE
SUMMARY:Winter Vacation
DESCRIPTION:Winter Vacation - No school
STATUS:CONFIRMED
END:VEVENT
BEGIN:VEVENT
UID:60e90e4f-a46d-4856-8562-f1c74d214065
SEQUENCE:0
DTSTAMP:20260424T200112Z
DTSTART;VALUE=DATE:20260403
DTEND;VALUE=DATE:20260407
X-MICROSOFT-CDO-ALLDAYEVENT:TRUE
X-MICROSOFT-MSNCALENDAR-ALLDAYEVENT:TRUE
SUMMARY:Spring Break
DESCRIPTION:Spring Break - No school
STATUS:CONFIRMED
END:VEVENT
BEGIN:VEVENT
UID:86144e42-29a5-4ec5-9e11-f47fa57e527f
SEQUENCE:0
DTSTAMP:20260424T200112Z
DTSTART;VALUE=DATE:20250901
X-MICROSOFT-CDO-ALLDAYEVENT:TRUE
X-MICROSOFT-MSNCALENDAR-ALLDAYEVENT:TRUE
SUMMARY:Labor Day
DESCRIPTION:Labor Day - No school
STATUS:CONFIRMED
END:VEVENT
BEGIN:VEVENT
UID:8fd3ad0b-6940-4769-8483-68d370557e63
SEQUENCE:0
DTSTAMP:20260424T200112Z
DTSTART;VALUE=DATE:20251015
X-MICROSOFT-CDO-ALLDAYEVENT:TRUE
X-MICROSOFT-MSNCALENDAR-ALLDAYEVENT:TRUE
SUMMARY:MRVED Consortium – No School
DESCRIPTION:MRVED Consortium – No School - No school
STATUS:CONFIRMED
END:VEVENT
BEGIN:VEVENT
UID:29bd1117-04ba-43a2-b7e8-bb268ae11bf8
SEQUENCE:0
DTSTAMP:20260424T200112Z
DTSTART;VALUE=DATE:20251016
X-MICROSOFT-CDO-ALLDAYEVENT:TRUE
X-MICROSOFT-MSNCALENDAR-ALLDAYEVENT:TRUE
SUMMARY:Education Minnesota Conference – No School
DESCRIPTION:Education Minnesota Conference – No School - No school
STATUS:CONFIRMED
END:VEVENT
BEGIN:VEVENT
UID:c203272b-ed7b-4174-bfd0-f63ccbe87f26
SEQUENCE:0
DTSTAMP:20260424T200112Z
DTSTART;VALUE=DATE:20251017
X-MICROSOFT-CDO-ALLDAYEVENT:TRUE
X-MICROSOFT-MSNCALENDAR-ALLDAYEVENT:TRUE
SUMMARY:Education Minnesota Conference – No School
DESCRIPTION:Education Minnesota Conference – No School - No school
STATUS:CONFIRMED
END:VEVENT
BEGIN:VEVENT
UID:7dbbcb91-f2ed-41eb-a5d4-30e670512eb1
SEQUENCE:0
DTSTAMP:20260424T200112Z
DTSTART;VALUE=DATE:20260119
X-MICROSOFT-CDO-ALLDAYEVENT:TRUE
X-MICROSOFT-MSNCALENDAR-ALLDAYEVENT:TRUE
SUMMARY:MRVED Consortium-No School
DESCRIPTION:MRVED Consortium-No School - No school
STATUS:CONFIRMED
END:VEVENT
BEGIN:VEVENT
UID:1598f414-fd8e-45d0-8b86-fa7ab9a55a52
SEQUENCE:0
DTSTAMP:20260424T200112Z
DTSTART;VALUE=DATE:20260216
X-MICROSOFT-CDO-ALLDAYEVENT:TRUE
X-MICROSOFT-MSNCALENDAR-ALLDAYEVENT:TRUE
SUMMARY:President’s Day – No School
DESCRIPTION:President’s Day – No School - No school
STATUS:CONFIRMED
END:VEVENT
BEGIN:VEVENT
UID:ddc88bc6-c604-4bec-92b1-89fae7010524
SEQUENCE:0
DTSTAMP:20260424T200112Z
DTSTART;VALUE=DATE:20260309
X-MICROSOFT-CDO-ALLDAYEVENT:TRUE
X-MICROSOFT-MSNCALENDAR-ALLDAYEVENT:TRUE
SUMMARY:Teacher In-service – No School
DESCRIPTION:Teacher In-service – No School - No school
STATUS:CONFIRMED
END:VEVENT
BEGIN:VEVENT
UID:7f1e2c34-a512-4b69-a987-4f699409d111
SEQUENCE:0
DTSTAMP:20260424T200112Z
DTSTART;VALUE=DATE:20260402
X-MICROSOFT-CDO-ALLDAYEVENT:TRUE
X-MICROSOFT-MSNCALENDAR-ALLDAYEVENT:TRUE
SUMMARY:MRVED Consortium-No School
DESCRIPTION:MRVED Consortium-No School - No school
STATUS:CONFIRMED
END:VEVENT
END:VCALENDAR