BEGIN:VCALENDAR
VERSION:2.0
PRODID:-//SchoolCalendarAPI//school-calendar//EN
URL:https://api.schools-calendar.com/calendar?district_id=mn-lancaster-pub
 lic-school-district&year=2025-26
NAME:Lancaster Public School District School Calendar 2025-26
X-WR-CALNAME:Lancaster Public School District School Calendar 2025-26
X-WR-CALDESC:Official school calendar for Lancaster Public School District
  for the 2025-26 school year.
REFRESH-INTERVAL;VALUE=DURATION:P1D
X-PUBLISHED-TTL:P1D
BEGIN:VEVENT
UID:2eb1bd1a-fd59-44aa-9da2-27bc5ba952a6
SEQUENCE:0
DTSTAMP:20260424T200326Z
DTSTART;VALUE=DATE:20250820
X-MICROSOFT-CDO-ALLDAYEVENT:TRUE
X-MICROSOFT-MSNCALENDAR-ALLDAYEVENT:TRUE
SUMMARY:First Day of School
DESCRIPTION:First day of the 2025-26 school year
STATUS:CONFIRMED
END:VEVENT
BEGIN:VEVENT
UID:c13128c4-048d-4f3d-a013-8bb5b535c557
SEQUENCE:0
DTSTAMP:20260424T200326Z
DTSTART;VALUE=DATE:20260530
X-MICROSOFT-CDO-ALLDAYEVENT:TRUE
X-MICROSOFT-MSNCALENDAR-ALLDAYEVENT:TRUE
SUMMARY:Last Day of School
DESCRIPTION:Last day of the 2025-26 school year
STATUS:CONFIRMED
END:VEVENT
BEGIN:VEVENT
UID:4401f023-66c0-4638-aa2f-0eaccc9d03ea
SEQUENCE:0
DTSTAMP:20260424T200326Z
DTSTART;VALUE=DATE:20251127
DTEND;VALUE=DATE:20251130
X-MICROSOFT-CDO-ALLDAYEVENT:TRUE
X-MICROSOFT-MSNCALENDAR-ALLDAYEVENT:TRUE
SUMMARY:Thanksgiving Holiday
DESCRIPTION:Thanksgiving Holiday - No school
STATUS:CONFIRMED
END:VEVENT
BEGIN:VEVENT
UID:c78a5601-8e77-47a9-bdec-438d58fad1ae
SEQUENCE:0
DTSTAMP:20260424T200326Z
DTSTART;VALUE=DATE:20251223
DTEND;VALUE=DATE:20251231
X-MICROSOFT-CDO-ALLDAYEVENT:TRUE
X-MICROSOFT-MSNCALENDAR-ALLDAYEVENT:TRUE
SUMMARY:Winter Break
DESCRIPTION:Winter Break - No school
STATUS:CONFIRMED
END:VEVENT
BEGIN:VEVENT
UID:69125bd8-cb9c-43da-b8ca-ad3d3edd0435
SEQUENCE:0
DTSTAMP:20260424T200326Z
DTSTART;VALUE=DATE:20260418
DTEND;VALUE=DATE:20260422
X-MICROSOFT-CDO-ALLDAYEVENT:TRUE
X-MICROSOFT-MSNCALENDAR-ALLDAYEVENT:TRUE
SUMMARY:Easter Holiday
DESCRIPTION:Easter Holiday - No school
STATUS:CONFIRMED
END:VEVENT
BEGIN:VEVENT
UID:8c31b391-a666-4e34-9a4d-48596ce8f5ee
SEQUENCE:0
DTSTAMP:20260424T200326Z
DTSTART;VALUE=DATE:20250704
X-MICROSOFT-CDO-ALLDAYEVENT:TRUE
X-MICROSOFT-MSNCALENDAR-ALLDAYEVENT:TRUE
SUMMARY:Independence Day Holiday
DESCRIPTION:Independence Day Holiday - No school
STATUS:CONFIRMED
END:VEVENT
BEGIN:VEVENT
UID:150a460d-077f-471a-8f0a-8dc840584824
SEQUENCE:0
DTSTAMP:20260424T200326Z
DTSTART;VALUE=DATE:20250830
X-MICROSOFT-CDO-ALLDAYEVENT:TRUE
X-MICROSOFT-MSNCALENDAR-ALLDAYEVENT:TRUE
SUMMARY:Labor Day Recess
DESCRIPTION:Labor Day Recess - No school
STATUS:CONFIRMED
END:VEVENT
BEGIN:VEVENT
UID:48c534d6-d5a6-459a-89fd-cd9060c9e87c
SEQUENCE:0
DTSTAMP:20260424T200326Z
DTSTART;VALUE=DATE:20250902
X-MICROSOFT-CDO-ALLDAYEVENT:TRUE
X-MICROSOFT-MSNCALENDAR-ALLDAYEVENT:TRUE
SUMMARY:Labor Day Holiday
DESCRIPTION:Labor Day Holiday - No school
STATUS:CONFIRMED
END:VEVENT
BEGIN:VEVENT
UID:82595d3f-40a7-4ad2-adb3-20bdbc2531ed
SEQUENCE:0
DTSTAMP:20260424T200326Z
DTSTART;VALUE=DATE:20251014
X-MICROSOFT-CDO-ALLDAYEVENT:TRUE
X-MICROSOFT-MSNCALENDAR-ALLDAYEVENT:TRUE
SUMMARY:Indigenous Peoples Day
DESCRIPTION:Indigenous Peoples Day - No school
STATUS:CONFIRMED
END:VEVENT
BEGIN:VEVENT
UID:11c835a0-2a8b-4de8-85a7-70421c7eb3e3
SEQUENCE:0
DTSTAMP:20260424T200326Z
DTSTART;VALUE=DATE:20251224
X-MICROSOFT-CDO-ALLDAYEVENT:TRUE
X-MICROSOFT-MSNCALENDAR-ALLDAYEVENT:TRUE
SUMMARY:Christmas Holiday
DESCRIPTION:Christmas Holiday - No school
STATUS:CONFIRMED
END:VEVENT
BEGIN:VEVENT
UID:b2e6abb5-9a9b-4802-af14-675a3b0979ac
SEQUENCE:0
DTSTAMP:20260424T200326Z
DTSTART;VALUE=DATE:20251225
X-MICROSOFT-CDO-ALLDAYEVENT:TRUE
X-MICROSOFT-MSNCALENDAR-ALLDAYEVENT:TRUE
SUMMARY:Christmas Holiday
DESCRIPTION:Christmas Holiday - No school
STATUS:CONFIRMED
END:VEVENT
BEGIN:VEVENT
UID:80037aca-16c7-4e22-abe0-f0e9dd66deb9
SEQUENCE:0
DTSTAMP:20260424T200326Z
DTSTART;VALUE=DATE:20251231
X-MICROSOFT-CDO-ALLDAYEVENT:TRUE
X-MICROSOFT-MSNCALENDAR-ALLDAYEVENT:TRUE
SUMMARY:New Year's Holiday
DESCRIPTION:New Year's Holiday - No school
STATUS:CONFIRMED
END:VEVENT
BEGIN:VEVENT
UID:72f7bc58-3fd8-44ce-a46e-e9a7a9e92290
SEQUENCE:0
DTSTAMP:20260424T200326Z
DTSTART;VALUE=DATE:20260101
X-MICROSOFT-CDO-ALLDAYEVENT:TRUE
X-MICROSOFT-MSNCALENDAR-ALLDAYEVENT:TRUE
SUMMARY:New Year's Holiday
DESCRIPTION:New Year's Holiday - No school
STATUS:CONFIRMED
END:VEVENT
BEGIN:VEVENT
UID:41b29db5-87c4-4ad9-9486-433b31a83d65
SEQUENCE:0
DTSTAMP:20260424T200326Z
DTSTART;VALUE=DATE:20260120
X-MICROSOFT-CDO-ALLDAYEVENT:TRUE
X-MICROSOFT-MSNCALENDAR-ALLDAYEVENT:TRUE
SUMMARY:Martin Luther King Day Holiday
DESCRIPTION:Martin Luther King Day Holiday - No school
STATUS:CONFIRMED
END:VEVENT
BEGIN:VEVENT
UID:d1d69f5a-d1c0-4941-9baf-b82928e566c7
SEQUENCE:0
DTSTAMP:20260424T200326Z
DTSTART;VALUE=DATE:20260217
X-MICROSOFT-CDO-ALLDAYEVENT:TRUE
X-MICROSOFT-MSNCALENDAR-ALLDAYEVENT:TRUE
SUMMARY:Presidents Day Holiday
DESCRIPTION:Presidents Day Holiday - No school
STATUS:CONFIRMED
END:VEVENT
BEGIN:VEVENT
UID:2a2f2f27-21cc-4d14-b3e2-320b43dabfb2
SEQUENCE:0
DTSTAMP:20260424T200326Z
DTSTART;VALUE=DATE:20260526
X-MICROSOFT-CDO-ALLDAYEVENT:TRUE
X-MICROSOFT-MSNCALENDAR-ALLDAYEVENT:TRUE
SUMMARY:Memorial Day Holiday
DESCRIPTION:Memorial Day Holiday - No school
STATUS:CONFIRMED
END:VEVENT
BEGIN:VEVENT
UID:8aff7f0b-1d96-4a94-95b7-bdebbca6a1e4
SEQUENCE:0
DTSTAMP:20260424T200326Z
DTSTART;VALUE=DATE:20260619
X-MICROSOFT-CDO-ALLDAYEVENT:TRUE
X-MICROSOFT-MSNCALENDAR-ALLDAYEVENT:TRUE
SUMMARY:Juneteenth Holiday
DESCRIPTION:Juneteenth Holiday - No school
STATUS:CONFIRMED
END:VEVENT
END:VCALENDAR