BEGIN:VCALENDAR
VERSION:2.0
PRODID:-//SchoolCalendarAPI//school-calendar//EN
URL:https://api.schools-calendar.com/calendar?district_id=mn-rosemount-app
 le-valley-eagan&year=2025-26
NAME:Rosemount-Apple Valley-Eagan School Calendar 2025-26
X-WR-CALNAME:Rosemount-Apple Valley-Eagan School Calendar 2025-26
X-WR-CALDESC:Official school calendar for Rosemount-Apple Valley-Eagan for
  the 2025-26 school year.
REFRESH-INTERVAL;VALUE=DURATION:P1D
X-PUBLISHED-TTL:P1D
BEGIN:VEVENT
UID:39dd9b1a-c2c9-441d-a342-38b58859bb5c
SEQUENCE:0
DTSTAMP:20260424T195940Z
DTSTART;VALUE=DATE:20250827
X-MICROSOFT-CDO-ALLDAYEVENT:TRUE
X-MICROSOFT-MSNCALENDAR-ALLDAYEVENT:TRUE
SUMMARY:First Day of School
DESCRIPTION:First day of the 2025-26 school year
STATUS:CONFIRMED
END:VEVENT
BEGIN:VEVENT
UID:59b0f6b7-cec0-4dbf-b1ae-238ebfc36824
SEQUENCE:0
DTSTAMP:20260424T195940Z
DTSTART;VALUE=DATE:20260604
X-MICROSOFT-CDO-ALLDAYEVENT:TRUE
X-MICROSOFT-MSNCALENDAR-ALLDAYEVENT:TRUE
SUMMARY:Last Day of School
DESCRIPTION:Last day of the 2025-26 school year
STATUS:CONFIRMED
END:VEVENT
BEGIN:VEVENT
UID:0da7e008-7e32-4483-a6e8-ba8381e66c58
SEQUENCE:0
DTSTAMP:20260424T195940Z
DTSTART;VALUE=DATE:20251016
DTEND;VALUE=DATE:20251018
X-MICROSOFT-CDO-ALLDAYEVENT:TRUE
X-MICROSOFT-MSNCALENDAR-ALLDAYEVENT:TRUE
SUMMARY:MEA Break
DESCRIPTION:MEA Break - No school
STATUS:CONFIRMED
END:VEVENT
BEGIN:VEVENT
UID:29af32a7-64eb-48d0-b517-c16822cc6f6d
SEQUENCE:0
DTSTAMP:20260424T195940Z
DTSTART;VALUE=DATE:20251127
DTEND;VALUE=DATE:20251129
X-MICROSOFT-CDO-ALLDAYEVENT:TRUE
X-MICROSOFT-MSNCALENDAR-ALLDAYEVENT:TRUE
SUMMARY:Thanksgiving Break
DESCRIPTION:Thanksgiving Break - No school
STATUS:CONFIRMED
END:VEVENT
BEGIN:VEVENT
UID:32044756-5de0-4bde-b985-0fbfaa812348
SEQUENCE:0
DTSTAMP:20260424T195940Z
DTSTART;VALUE=DATE:20251224
DTEND;VALUE=DATE:20260103
X-MICROSOFT-CDO-ALLDAYEVENT:TRUE
X-MICROSOFT-MSNCALENDAR-ALLDAYEVENT:TRUE
SUMMARY:Winter Break
DESCRIPTION:Winter Break - No school
STATUS:CONFIRMED
END:VEVENT
BEGIN:VEVENT
UID:45ae0f0f-dbcc-4c92-9f32-dc7edab9db89
SEQUENCE:0
DTSTAMP:20260424T195940Z
DTSTART;VALUE=DATE:20260323
DTEND;VALUE=DATE:20260328
X-MICROSOFT-CDO-ALLDAYEVENT:TRUE
X-MICROSOFT-MSNCALENDAR-ALLDAYEVENT:TRUE
SUMMARY:Spring Break
DESCRIPTION:Spring Break - No school
STATUS:CONFIRMED
END:VEVENT
BEGIN:VEVENT
UID:6f95f383-ba52-4afe-bb0f-7128c41e466a
SEQUENCE:0
DTSTAMP:20260424T195940Z
DTSTART;VALUE=DATE:20250829
X-MICROSOFT-CDO-ALLDAYEVENT:TRUE
X-MICROSOFT-MSNCALENDAR-ALLDAYEVENT:TRUE
SUMMARY:No School Day
DESCRIPTION:No School Day - No school
STATUS:CONFIRMED
END:VEVENT
BEGIN:VEVENT
UID:1401d82e-f37d-4519-b8c2-0ea1e7a5acdd
SEQUENCE:0
DTSTAMP:20260424T195940Z
DTSTART;VALUE=DATE:20250901
X-MICROSOFT-CDO-ALLDAYEVENT:TRUE
X-MICROSOFT-MSNCALENDAR-ALLDAYEVENT:TRUE
SUMMARY:Labor Day
DESCRIPTION:Labor Day - No school
STATUS:CONFIRMED
END:VEVENT
BEGIN:VEVENT
UID:dc753a2c-8db4-4f86-a7cf-19e9a185aa1a
SEQUENCE:0
DTSTAMP:20260424T195940Z
DTSTART;VALUE=DATE:20250926
X-MICROSOFT-CDO-ALLDAYEVENT:TRUE
X-MICROSOFT-MSNCALENDAR-ALLDAYEVENT:TRUE
SUMMARY:Staff Data Analysis
DESCRIPTION:Staff Data Analysis - No school
STATUS:CONFIRMED
END:VEVENT
BEGIN:VEVENT
UID:701ae9a7-70b9-4e24-b51d-de909ac5d93f
SEQUENCE:0
DTSTAMP:20260424T195940Z
DTSTART;VALUE=DATE:20251010
X-MICROSOFT-CDO-ALLDAYEVENT:TRUE
X-MICROSOFT-MSNCALENDAR-ALLDAYEVENT:TRUE
SUMMARY:High School Conferences
DESCRIPTION:High School Conferences - No school
STATUS:CONFIRMED
END:VEVENT
BEGIN:VEVENT
UID:433f9536-65e4-46b0-9923-d0e30a64b435
SEQUENCE:0
DTSTAMP:20260424T195940Z
DTSTART;VALUE=DATE:20251030
X-MICROSOFT-CDO-ALLDAYEVENT:TRUE
X-MICROSOFT-MSNCALENDAR-ALLDAYEVENT:TRUE
SUMMARY:Elementary/Middle Conferences
DESCRIPTION:Elementary/Middle Conferences - No school
STATUS:CONFIRMED
END:VEVENT
BEGIN:VEVENT
UID:f8ac6009-0760-4788-b9a5-f01c7544c16c
SEQUENCE:0
DTSTAMP:20260424T195940Z
DTSTART;VALUE=DATE:20251031
X-MICROSOFT-CDO-ALLDAYEVENT:TRUE
X-MICROSOFT-MSNCALENDAR-ALLDAYEVENT:TRUE
SUMMARY:High School Staff Development
DESCRIPTION:High School Staff Development - No school
STATUS:CONFIRMED
END:VEVENT
BEGIN:VEVENT
UID:7ecb54d8-fe80-4363-a1ff-463163b5df51
SEQUENCE:0
DTSTAMP:20260424T195940Z
DTSTART;VALUE=DATE:20251126
X-MICROSOFT-CDO-ALLDAYEVENT:TRUE
X-MICROSOFT-MSNCALENDAR-ALLDAYEVENT:TRUE
SUMMARY:Staff Development
DESCRIPTION:Staff Development - No school
STATUS:CONFIRMED
END:VEVENT
BEGIN:VEVENT
UID:f6872769-7ea8-479c-b4ee-46f91439d07f
SEQUENCE:0
DTSTAMP:20260424T195940Z
DTSTART;VALUE=DATE:20251222
X-MICROSOFT-CDO-ALLDAYEVENT:TRUE
X-MICROSOFT-MSNCALENDAR-ALLDAYEVENT:TRUE
SUMMARY:Staff Data Analysis
DESCRIPTION:Staff Data Analysis - No school
STATUS:CONFIRMED
END:VEVENT
BEGIN:VEVENT
UID:be7624c4-2e30-463f-8256-c1d6554f4e17
SEQUENCE:0
DTSTAMP:20260424T195940Z
DTSTART;VALUE=DATE:20251223
X-MICROSOFT-CDO-ALLDAYEVENT:TRUE
X-MICROSOFT-MSNCALENDAR-ALLDAYEVENT:TRUE
SUMMARY:Staff Development
DESCRIPTION:Staff Development - No school
STATUS:CONFIRMED
END:VEVENT
BEGIN:VEVENT
UID:35a762af-74ba-490b-b085-518da1bf8ee0
SEQUENCE:0
DTSTAMP:20260424T195940Z
DTSTART;VALUE=DATE:20260119
X-MICROSOFT-CDO-ALLDAYEVENT:TRUE
X-MICROSOFT-MSNCALENDAR-ALLDAYEVENT:TRUE
SUMMARY:Martin Luther King Jr. Day
DESCRIPTION:Martin Luther King Jr. Day - No school
STATUS:CONFIRMED
END:VEVENT
BEGIN:VEVENT
UID:a391fbd4-5d07-4083-b870-4d1ffc2a58ae
SEQUENCE:0
DTSTAMP:20260424T195940Z
DTSTART;VALUE=DATE:20260123
X-MICROSOFT-CDO-ALLDAYEVENT:TRUE
X-MICROSOFT-MSNCALENDAR-ALLDAYEVENT:TRUE
SUMMARY:High School Conferences
DESCRIPTION:High School Conferences - No school
STATUS:CONFIRMED
END:VEVENT
BEGIN:VEVENT
UID:315bf232-dc35-4cba-aa86-543308ecc20a
SEQUENCE:0
DTSTAMP:20260424T195940Z
DTSTART;VALUE=DATE:20260205
X-MICROSOFT-CDO-ALLDAYEVENT:TRUE
X-MICROSOFT-MSNCALENDAR-ALLDAYEVENT:TRUE
SUMMARY:Elementary/Middle Conferences
DESCRIPTION:Elementary/Middle Conferences - No school
STATUS:CONFIRMED
END:VEVENT
BEGIN:VEVENT
UID:e881498d-bb21-4b52-982a-c9c08583a313
SEQUENCE:0
DTSTAMP:20260424T195940Z
DTSTART;VALUE=DATE:20260206
X-MICROSOFT-CDO-ALLDAYEVENT:TRUE
X-MICROSOFT-MSNCALENDAR-ALLDAYEVENT:TRUE
SUMMARY:High School Staff Development
DESCRIPTION:High School Staff Development - No school
STATUS:CONFIRMED
END:VEVENT
BEGIN:VEVENT
UID:9ec1da30-6daf-46bc-a299-973fe36691ff
SEQUENCE:0
DTSTAMP:20260424T195940Z
DTSTART;VALUE=DATE:20260216
X-MICROSOFT-CDO-ALLDAYEVENT:TRUE
X-MICROSOFT-MSNCALENDAR-ALLDAYEVENT:TRUE
SUMMARY:President’s Day
DESCRIPTION:President’s Day - No school
STATUS:CONFIRMED
END:VEVENT
BEGIN:VEVENT
UID:fd47ff87-9c06-4c64-b9cb-fb2802af8b34
SEQUENCE:0
DTSTAMP:20260424T195940Z
DTSTART;VALUE=DATE:20260306
X-MICROSOFT-CDO-ALLDAYEVENT:TRUE
X-MICROSOFT-MSNCALENDAR-ALLDAYEVENT:TRUE
SUMMARY:Staff Development
DESCRIPTION:Staff Development - No school
STATUS:CONFIRMED
END:VEVENT
BEGIN:VEVENT
UID:9059391c-2adf-4b10-b532-a0f59327fa19
SEQUENCE:0
DTSTAMP:20260424T195940Z
DTSTART;VALUE=DATE:20260320
X-MICROSOFT-CDO-ALLDAYEVENT:TRUE
X-MICROSOFT-MSNCALENDAR-ALLDAYEVENT:TRUE
SUMMARY:Staff Data Analysis
DESCRIPTION:Staff Data Analysis - No school
STATUS:CONFIRMED
END:VEVENT
BEGIN:VEVENT
UID:0b2f9b2c-ae2a-4499-bc6f-2aa7575bb4cb
SEQUENCE:0
DTSTAMP:20260424T195940Z
DTSTART;VALUE=DATE:20260410
X-MICROSOFT-CDO-ALLDAYEVENT:TRUE
X-MICROSOFT-MSNCALENDAR-ALLDAYEVENT:TRUE
SUMMARY:Staff Development
DESCRIPTION:Staff Development - No school
STATUS:CONFIRMED
END:VEVENT
BEGIN:VEVENT
UID:6fa4714d-f781-42b5-b47e-35cfc7fe5c4c
SEQUENCE:0
DTSTAMP:20260424T195940Z
DTSTART;VALUE=DATE:20260501
X-MICROSOFT-CDO-ALLDAYEVENT:TRUE
X-MICROSOFT-MSNCALENDAR-ALLDAYEVENT:TRUE
SUMMARY:Staff Development
DESCRIPTION:Staff Development - No school
STATUS:CONFIRMED
END:VEVENT
BEGIN:VEVENT
UID:f36b9461-1180-4310-b355-06b609c0f449
SEQUENCE:0
DTSTAMP:20260424T195940Z
DTSTART;VALUE=DATE:20260525
X-MICROSOFT-CDO-ALLDAYEVENT:TRUE
X-MICROSOFT-MSNCALENDAR-ALLDAYEVENT:TRUE
SUMMARY:Memorial Day
DESCRIPTION:Memorial Day - No school
STATUS:CONFIRMED
END:VEVENT
END:VCALENDAR