BEGIN:VCALENDAR
VERSION:2.0
PRODID:-//SchoolCalendarAPI//school-calendar//EN
URL:https://api.schools-calendar.com/calendar?district_id=mn-wabasso-publi
 c-school-district&year=2025-26
NAME:Wabasso Public School District School Calendar 2025-26
X-WR-CALNAME:Wabasso Public School District School Calendar 2025-26
X-WR-CALDESC:Official school calendar for Wabasso Public School District f
 or the 2025-26 school year.
REFRESH-INTERVAL;VALUE=DURATION:P1D
X-PUBLISHED-TTL:P1D
BEGIN:VEVENT
UID:1a38743b-ae6a-4ee0-904a-9fcad42fdf32
SEQUENCE:0
DTSTAMP:20260424T200303Z
DTSTART;VALUE=DATE:20250827
X-MICROSOFT-CDO-ALLDAYEVENT:TRUE
X-MICROSOFT-MSNCALENDAR-ALLDAYEVENT:TRUE
SUMMARY:First Day of School
DESCRIPTION:First day of the 2025-26 school year
STATUS:CONFIRMED
END:VEVENT
BEGIN:VEVENT
UID:a9b7a183-0460-43fd-a180-18439dfaa072
SEQUENCE:0
DTSTAMP:20260424T200303Z
DTSTART;VALUE=DATE:20260523
X-MICROSOFT-CDO-ALLDAYEVENT:TRUE
X-MICROSOFT-MSNCALENDAR-ALLDAYEVENT:TRUE
SUMMARY:Last Day of School
DESCRIPTION:Last day of the 2025-26 school year
STATUS:CONFIRMED
END:VEVENT
BEGIN:VEVENT
UID:60ef81d1-e586-401e-8f2e-b8fca6aee087
SEQUENCE:0
DTSTAMP:20260424T200303Z
DTSTART;VALUE=DATE:20251017
DTEND;VALUE=DATE:20251019
X-MICROSOFT-CDO-ALLDAYEVENT:TRUE
X-MICROSOFT-MSNCALENDAR-ALLDAYEVENT:TRUE
SUMMARY:Fall Break
DESCRIPTION:Fall Break - No school
STATUS:CONFIRMED
END:VEVENT
BEGIN:VEVENT
UID:2c81c40d-4324-4c7e-a3d5-dc386d991b04
SEQUENCE:0
DTSTAMP:20260424T200303Z
DTSTART;VALUE=DATE:20251128
DTEND;VALUE=DATE:20251130
X-MICROSOFT-CDO-ALLDAYEVENT:TRUE
X-MICROSOFT-MSNCALENDAR-ALLDAYEVENT:TRUE
SUMMARY:Thanksgiving Vacation
DESCRIPTION:Thanksgiving Vacation - No school
STATUS:CONFIRMED
END:VEVENT
BEGIN:VEVENT
UID:12a67e8a-28d0-470c-bd36-493a883181a3
SEQUENCE:0
DTSTAMP:20260424T200303Z
DTSTART;VALUE=DATE:20251223
DTEND;VALUE=DATE:20260102
X-MICROSOFT-CDO-ALLDAYEVENT:TRUE
X-MICROSOFT-MSNCALENDAR-ALLDAYEVENT:TRUE
SUMMARY:Winter Break
DESCRIPTION:Winter Break - No school
STATUS:CONFIRMED
END:VEVENT
BEGIN:VEVENT
UID:063f21e8-de0b-43b3-b40b-f6b6a2f37a44
SEQUENCE:0
DTSTAMP:20260424T200303Z
DTSTART;VALUE=DATE:20260417
DTEND;VALUE=DATE:20260422
X-MICROSOFT-CDO-ALLDAYEVENT:TRUE
X-MICROSOFT-MSNCALENDAR-ALLDAYEVENT:TRUE
SUMMARY:Easter Break
DESCRIPTION:Easter Break - No school
STATUS:CONFIRMED
END:VEVENT
BEGIN:VEVENT
UID:2b5a3894-bfe1-4b7e-9b92-61e9b848b53f
SEQUENCE:0
DTSTAMP:20260424T200303Z
DTSTART;VALUE=DATE:20250902
X-MICROSOFT-CDO-ALLDAYEVENT:TRUE
X-MICROSOFT-MSNCALENDAR-ALLDAYEVENT:TRUE
SUMMARY:Labor Day
DESCRIPTION:Labor Day - No school
STATUS:CONFIRMED
END:VEVENT
BEGIN:VEVENT
UID:daa6174f-bce1-4ac5-9034-d5c76bc591fc
SEQUENCE:0
DTSTAMP:20260424T200303Z
DTSTART;VALUE=DATE:20250830
X-MICROSOFT-CDO-ALLDAYEVENT:TRUE
X-MICROSOFT-MSNCALENDAR-ALLDAYEVENT:TRUE
SUMMARY:NO SCHOOL
DESCRIPTION:NO SCHOOL - No school
STATUS:CONFIRMED
END:VEVENT
BEGIN:VEVENT
UID:a7056945-e0ad-41a7-bf1e-bb1c3cbec048
SEQUENCE:0
DTSTAMP:20260424T200303Z
DTSTART;VALUE=DATE:20251101
X-MICROSOFT-CDO-ALLDAYEVENT:TRUE
X-MICROSOFT-MSNCALENDAR-ALLDAYEVENT:TRUE
SUMMARY:Teacher Workshop - NO SCHOOL
DESCRIPTION:Teacher Workshop - NO SCHOOL - No school
STATUS:CONFIRMED
END:VEVENT
BEGIN:VEVENT
UID:2bb12ae4-03fc-40d7-9e43-6227d1fff595
SEQUENCE:0
DTSTAMP:20260424T200303Z
DTSTART;VALUE=DATE:20260113
X-MICROSOFT-CDO-ALLDAYEVENT:TRUE
X-MICROSOFT-MSNCALENDAR-ALLDAYEVENT:TRUE
SUMMARY:Teacher Workshop NO SCHOOL
DESCRIPTION:Teacher Workshop NO SCHOOL - No school
STATUS:CONFIRMED
END:VEVENT
BEGIN:VEVENT
UID:49b5eb70-273a-4507-95d5-26d875642961
SEQUENCE:0
DTSTAMP:20260424T200303Z
DTSTART;VALUE=DATE:20260214
X-MICROSOFT-CDO-ALLDAYEVENT:TRUE
X-MICROSOFT-MSNCALENDAR-ALLDAYEVENT:TRUE
SUMMARY:NO SCHOOL
DESCRIPTION:NO SCHOOL - No school
STATUS:CONFIRMED
END:VEVENT
BEGIN:VEVENT
UID:75cf66dc-a1a1-408d-af70-0edf43efc7b7
SEQUENCE:0
DTSTAMP:20260424T200303Z
DTSTART;VALUE=DATE:20260217
X-MICROSOFT-CDO-ALLDAYEVENT:TRUE
X-MICROSOFT-MSNCALENDAR-ALLDAYEVENT:TRUE
SUMMARY:NO SCHOOL P-T Conferences
DESCRIPTION:NO SCHOOL P-T Conferences - No school
STATUS:CONFIRMED
END:VEVENT
BEGIN:VEVENT
UID:4ec8d929-09ca-4492-a02a-a33375bbca23
SEQUENCE:0
DTSTAMP:20260424T200303Z
DTSTART;VALUE=DATE:20260320
X-MICROSOFT-CDO-ALLDAYEVENT:TRUE
X-MICROSOFT-MSNCALENDAR-ALLDAYEVENT:TRUE
SUMMARY:Teacher Workshop NO SCHOOL
DESCRIPTION:Teacher Workshop NO SCHOOL - No school
STATUS:CONFIRMED
END:VEVENT
BEGIN:VEVENT
UID:97f30745-1f60-4197-91b2-ae70ec11bbc2
SEQUENCE:0
DTSTAMP:20260424T200303Z
DTSTART;VALUE=DATE:20260321
X-MICROSOFT-CDO-ALLDAYEVENT:TRUE
X-MICROSOFT-MSNCALENDAR-ALLDAYEVENT:TRUE
SUMMARY:NO SCHOOL
DESCRIPTION:NO SCHOOL - No school
STATUS:CONFIRMED
END:VEVENT
BEGIN:VEVENT
UID:9cad89ff-6864-498e-b7c5-0cad96838b1e
SEQUENCE:0
DTSTAMP:20260424T200303Z
DTSTART;VALUE=DATE:20260527
X-MICROSOFT-CDO-ALLDAYEVENT:TRUE
X-MICROSOFT-MSNCALENDAR-ALLDAYEVENT:TRUE
SUMMARY:Teacher Workshop Day
DESCRIPTION:Teacher Workshop Day - No school
STATUS:CONFIRMED
END:VEVENT
END:VCALENDAR