BEGIN:VCALENDAR
VERSION:2.0
PRODID:-//SchoolCalendarAPI//school-calendar//EN
URL:https://api.schools-calendar.com/calendar?district_id=mn-waconia-publi
 c-school-district&year=2025-26
NAME:Waconia Public School District School Calendar 2025-26
X-WR-CALNAME:Waconia Public School District School Calendar 2025-26
X-WR-CALDESC:Official school calendar for Waconia Public School District f
 or the 2025-26 school year.
REFRESH-INTERVAL;VALUE=DURATION:P1D
X-PUBLISHED-TTL:P1D
BEGIN:VEVENT
UID:24ba5632-c458-4587-9bfd-e37af3210e9a
SEQUENCE:0
DTSTAMP:20260424T200303Z
DTSTART;VALUE=DATE:20250825
X-MICROSOFT-CDO-ALLDAYEVENT:TRUE
X-MICROSOFT-MSNCALENDAR-ALLDAYEVENT:TRUE
SUMMARY:First Day of School
DESCRIPTION:First day of the 2025-26 school year
STATUS:CONFIRMED
END:VEVENT
BEGIN:VEVENT
UID:75a6730d-b642-469e-9baa-07ec6d1f8962
SEQUENCE:0
DTSTAMP:20260424T200303Z
DTSTART;VALUE=DATE:20260603
X-MICROSOFT-CDO-ALLDAYEVENT:TRUE
X-MICROSOFT-MSNCALENDAR-ALLDAYEVENT:TRUE
SUMMARY:Last Day of School
DESCRIPTION:Last day of the 2025-26 school year
STATUS:CONFIRMED
END:VEVENT
BEGIN:VEVENT
UID:e451dbc0-7df3-40bc-8367-dcd5ad79b681
SEQUENCE:0
DTSTAMP:20260424T200303Z
DTSTART;VALUE=DATE:20260101
DTEND;VALUE=DATE:20260103
X-MICROSOFT-CDO-ALLDAYEVENT:TRUE
X-MICROSOFT-MSNCALENDAR-ALLDAYEVENT:TRUE
SUMMARY:Winter Break
DESCRIPTION:Winter Break - No school
STATUS:CONFIRMED
END:VEVENT
BEGIN:VEVENT
UID:a430be82-7101-4fa0-8257-ef71863fee0e
SEQUENCE:0
DTSTAMP:20260424T200303Z
DTSTART;VALUE=DATE:20260309
DTEND;VALUE=DATE:20260314
X-MICROSOFT-CDO-ALLDAYEVENT:TRUE
X-MICROSOFT-MSNCALENDAR-ALLDAYEVENT:TRUE
SUMMARY:Spring Break
DESCRIPTION:Spring Break - No school
STATUS:CONFIRMED
END:VEVENT
BEGIN:VEVENT
UID:9354b78f-48c6-4649-8ab1-be307d00a219
SEQUENCE:0
DTSTAMP:20260424T200303Z
DTSTART;VALUE=DATE:20250829
X-MICROSOFT-CDO-ALLDAYEVENT:TRUE
X-MICROSOFT-MSNCALENDAR-ALLDAYEVENT:TRUE
SUMMARY:No School E-12
DESCRIPTION:No School E-12 - No school
STATUS:CONFIRMED
END:VEVENT
BEGIN:VEVENT
UID:fc61d36f-0882-41bf-bc96-f231d1a2b38a
SEQUENCE:0
DTSTAMP:20260424T200303Z
DTSTART;VALUE=DATE:20250901
X-MICROSOFT-CDO-ALLDAYEVENT:TRUE
X-MICROSOFT-MSNCALENDAR-ALLDAYEVENT:TRUE
SUMMARY:No School E-12
DESCRIPTION:No School E-12 - No school
STATUS:CONFIRMED
END:VEVENT
BEGIN:VEVENT
UID:0f1f76e5-c40d-4c4c-9db0-3cb88761bfad
SEQUENCE:0
DTSTAMP:20260424T200303Z
DTSTART;VALUE=DATE:20251013
X-MICROSOFT-CDO-ALLDAYEVENT:TRUE
X-MICROSOFT-MSNCALENDAR-ALLDAYEVENT:TRUE
SUMMARY:No School E-12
DESCRIPTION:No School E-12 - No school
STATUS:CONFIRMED
END:VEVENT
BEGIN:VEVENT
UID:c05d94d7-f7b4-4933-8738-b8e10afbb34e
SEQUENCE:0
DTSTAMP:20260424T200303Z
DTSTART;VALUE=DATE:20251111
X-MICROSOFT-CDO-ALLDAYEVENT:TRUE
X-MICROSOFT-MSNCALENDAR-ALLDAYEVENT:TRUE
SUMMARY:No School E-12
DESCRIPTION:No School E-12 - No school
STATUS:CONFIRMED
END:VEVENT
BEGIN:VEVENT
UID:9dc0bf88-3016-42fd-a078-c77f376f7d07
SEQUENCE:0
DTSTAMP:20260424T200303Z
DTSTART;VALUE=DATE:20251127
X-MICROSOFT-CDO-ALLDAYEVENT:TRUE
X-MICROSOFT-MSNCALENDAR-ALLDAYEVENT:TRUE
SUMMARY:No School E-12
DESCRIPTION:No School E-12 - No school
STATUS:CONFIRMED
END:VEVENT
BEGIN:VEVENT
UID:f33879fb-a090-4a65-a9e8-ceaadd756796
SEQUENCE:0
DTSTAMP:20260424T200303Z
DTSTART;VALUE=DATE:20251128
X-MICROSOFT-CDO-ALLDAYEVENT:TRUE
X-MICROSOFT-MSNCALENDAR-ALLDAYEVENT:TRUE
SUMMARY:No School E-12
DESCRIPTION:No School E-12 - No school
STATUS:CONFIRMED
END:VEVENT
BEGIN:VEVENT
UID:300c7096-7e0e-40f2-b285-584772d16ff3
SEQUENCE:0
DTSTAMP:20260424T200303Z
DTSTART;VALUE=DATE:20260119
X-MICROSOFT-CDO-ALLDAYEVENT:TRUE
X-MICROSOFT-MSNCALENDAR-ALLDAYEVENT:TRUE
SUMMARY:No School E-12
DESCRIPTION:No School E-12 - No school
STATUS:CONFIRMED
END:VEVENT
BEGIN:VEVENT
UID:39e8701c-f032-4ddf-ba4c-fd747a989860
SEQUENCE:0
DTSTAMP:20260424T200303Z
DTSTART;VALUE=DATE:20260216
X-MICROSOFT-CDO-ALLDAYEVENT:TRUE
X-MICROSOFT-MSNCALENDAR-ALLDAYEVENT:TRUE
SUMMARY:No School E-12
DESCRIPTION:No School E-12 - No school
STATUS:CONFIRMED
END:VEVENT
BEGIN:VEVENT
UID:c164107a-985c-4f27-a60d-9e49584ce577
SEQUENCE:0
DTSTAMP:20260424T200303Z
DTSTART;VALUE=DATE:20260403
X-MICROSOFT-CDO-ALLDAYEVENT:TRUE
X-MICROSOFT-MSNCALENDAR-ALLDAYEVENT:TRUE
SUMMARY:No School E-12
DESCRIPTION:No School E-12 - No school
STATUS:CONFIRMED
END:VEVENT
BEGIN:VEVENT
UID:8e297d50-bc16-4506-9300-279a62822041
SEQUENCE:0
DTSTAMP:20260424T200303Z
DTSTART;VALUE=DATE:20260525
X-MICROSOFT-CDO-ALLDAYEVENT:TRUE
X-MICROSOFT-MSNCALENDAR-ALLDAYEVENT:TRUE
SUMMARY:No School E-12
DESCRIPTION:No School E-12 - No school
STATUS:CONFIRMED
END:VEVENT
BEGIN:VEVENT
UID:444845a3-8c14-47f3-9af1-fefbba4bf0f9
SEQUENCE:0
DTSTAMP:20260424T200303Z
DTSTART;VALUE=DATE:20260619
X-MICROSOFT-CDO-ALLDAYEVENT:TRUE
X-MICROSOFT-MSNCALENDAR-ALLDAYEVENT:TRUE
SUMMARY:Holiday
DESCRIPTION:Holiday - No school
STATUS:CONFIRMED
END:VEVENT
END:VCALENDAR