BEGIN:VCALENDAR
VERSION:2.0
PRODID:-//SchoolCalendarAPI//school-calendar//EN
URL:https://api.schools-calendar.com/calendar?district_id=mn-wheaton-area-
 public-school-district&year=2025-26
NAME:Wheaton Area Public School District School Calendar 2025-26
X-WR-CALNAME:Wheaton Area Public School District School Calendar 2025-26
X-WR-CALDESC:Official school calendar for Wheaton Area Public School Distr
 ict for the 2025-26 school year.
REFRESH-INTERVAL;VALUE=DURATION:P1D
X-PUBLISHED-TTL:P1D
BEGIN:VEVENT
UID:11a9cd5b-289c-45f8-98c6-7f938c64728e
SEQUENCE:0
DTSTAMP:20260424T200912Z
DTSTART;VALUE=DATE:20250903
X-MICROSOFT-CDO-ALLDAYEVENT:TRUE
X-MICROSOFT-MSNCALENDAR-ALLDAYEVENT:TRUE
SUMMARY:First Day of School
DESCRIPTION:First day of the 2025-26 school year
STATUS:CONFIRMED
END:VEVENT
BEGIN:VEVENT
UID:0719344e-9fde-4137-8a4a-8d17cc5e4c8c
SEQUENCE:0
DTSTAMP:20260424T200912Z
DTSTART;VALUE=DATE:20260528
X-MICROSOFT-CDO-ALLDAYEVENT:TRUE
X-MICROSOFT-MSNCALENDAR-ALLDAYEVENT:TRUE
SUMMARY:Last Day of School
DESCRIPTION:Last day of the 2025-26 school year
STATUS:CONFIRMED
END:VEVENT
BEGIN:VEVENT
UID:4dd9ed33-41d1-4d17-b938-e51f2623c639
SEQUENCE:0
DTSTAMP:20260424T200912Z
DTSTART;VALUE=DATE:20250902
DTEND;VALUE=DATE:20250903
X-MICROSOFT-CDO-ALLDAYEVENT:TRUE
X-MICROSOFT-MSNCALENDAR-ALLDAYEVENT:TRUE
SUMMARY:Labor Day
DESCRIPTION:Labor Day - No school
STATUS:CONFIRMED
END:VEVENT
BEGIN:VEVENT
UID:89e623b2-52b4-43f8-a148-0577842f28c7
SEQUENCE:0
DTSTAMP:20260424T200912Z
DTSTART;VALUE=DATE:20251127
DTEND;VALUE=DATE:20251130
X-MICROSOFT-CDO-ALLDAYEVENT:TRUE
X-MICROSOFT-MSNCALENDAR-ALLDAYEVENT:TRUE
SUMMARY:Thanksgiving Break
DESCRIPTION:Thanksgiving Break - No school
STATUS:CONFIRMED
END:VEVENT
BEGIN:VEVENT
UID:959eff5d-e3ca-4fd9-a78a-9c4596d1f9e0
SEQUENCE:0
DTSTAMP:20260424T200912Z
DTSTART;VALUE=DATE:20251223
DTEND;VALUE=DATE:20260102
X-MICROSOFT-CDO-ALLDAYEVENT:TRUE
X-MICROSOFT-MSNCALENDAR-ALLDAYEVENT:TRUE
SUMMARY:Winter Break
DESCRIPTION:Winter Break - No school
STATUS:CONFIRMED
END:VEVENT
BEGIN:VEVENT
UID:6b045ae2-97f7-4bad-9900-dcc0b1f7ca37
SEQUENCE:0
DTSTAMP:20260424T200912Z
DTSTART;VALUE=DATE:20260418
DTEND;VALUE=DATE:20260422
X-MICROSOFT-CDO-ALLDAYEVENT:TRUE
X-MICROSOFT-MSNCALENDAR-ALLDAYEVENT:TRUE
SUMMARY:Easter Break
DESCRIPTION:Easter Break - No school
STATUS:CONFIRMED
END:VEVENT
BEGIN:VEVENT
UID:4e62cead-1ac3-4990-acfa-0532d2634952
SEQUENCE:0
DTSTAMP:20260424T200912Z
DTSTART;VALUE=DATE:20250821
X-MICROSOFT-CDO-ALLDAYEVENT:TRUE
X-MICROSOFT-MSNCALENDAR-ALLDAYEVENT:TRUE
SUMMARY:Inservice Day/Student Holiday
DESCRIPTION:Inservice Day/Student Holiday - No school
STATUS:CONFIRMED
END:VEVENT
BEGIN:VEVENT
UID:3e1c4054-bfd5-4566-986b-bbf25e292afa
SEQUENCE:0
DTSTAMP:20260424T200912Z
DTSTART;VALUE=DATE:20251010
X-MICROSOFT-CDO-ALLDAYEVENT:TRUE
X-MICROSOFT-MSNCALENDAR-ALLDAYEVENT:TRUE
SUMMARY:Elementary P-T Conferences
DESCRIPTION:Elementary P-T Conferences - No school
STATUS:CONFIRMED
END:VEVENT
BEGIN:VEVENT
UID:6762cfe3-dd38-4cdb-b102-cb6d257ab76d
SEQUENCE:0
DTSTAMP:20260424T200912Z
DTSTART;VALUE=DATE:20251014
X-MICROSOFT-CDO-ALLDAYEVENT:TRUE
X-MICROSOFT-MSNCALENDAR-ALLDAYEVENT:TRUE
SUMMARY:MS/HS P-T Conferences
DESCRIPTION:MS/HS P-T Conferences - No school
STATUS:CONFIRMED
END:VEVENT
BEGIN:VEVENT
UID:b994095b-1757-40a3-a5a0-884c477387a1
SEQUENCE:0
DTSTAMP:20260424T200912Z
DTSTART;VALUE=DATE:20251127
X-MICROSOFT-CDO-ALLDAYEVENT:TRUE
X-MICROSOFT-MSNCALENDAR-ALLDAYEVENT:TRUE
SUMMARY:Teacher Comp. Day
DESCRIPTION:Teacher Comp. Day - No school
STATUS:CONFIRMED
END:VEVENT
BEGIN:VEVENT
UID:5a36a234-e47d-4b50-8e03-cda4d5483238
SEQUENCE:0
DTSTAMP:20260424T200912Z
DTSTART;VALUE=DATE:20251209
X-MICROSOFT-CDO-ALLDAYEVENT:TRUE
X-MICROSOFT-MSNCALENDAR-ALLDAYEVENT:TRUE
SUMMARY:MS/HS P-T Conferences
DESCRIPTION:MS/HS P-T Conferences - No school
STATUS:CONFIRMED
END:VEVENT
BEGIN:VEVENT
UID:65c64d76-935f-4381-8dd4-5ee6ad34db38
SEQUENCE:0
DTSTAMP:20260424T200912Z
DTSTART;VALUE=DATE:20260217
X-MICROSOFT-CDO-ALLDAYEVENT:TRUE
X-MICROSOFT-MSNCALENDAR-ALLDAYEVENT:TRUE
SUMMARY:Teacher Comp. Day
DESCRIPTION:Teacher Comp. Day - No school
STATUS:CONFIRMED
END:VEVENT
BEGIN:VEVENT
UID:5f736598-5845-41c8-abe7-899f3405be9f
SEQUENCE:0
DTSTAMP:20260424T200912Z
DTSTART;VALUE=DATE:20260220
X-MICROSOFT-CDO-ALLDAYEVENT:TRUE
X-MICROSOFT-MSNCALENDAR-ALLDAYEVENT:TRUE
SUMMARY:Elementary P-T Conferences
DESCRIPTION:Elementary P-T Conferences - No school
STATUS:CONFIRMED
END:VEVENT
BEGIN:VEVENT
UID:6d9f4c8a-6d38-4f15-b908-e656f3ac4495
SEQUENCE:0
DTSTAMP:20260424T200912Z
DTSTART;VALUE=DATE:20260225
X-MICROSOFT-CDO-ALLDAYEVENT:TRUE
X-MICROSOFT-MSNCALENDAR-ALLDAYEVENT:TRUE
SUMMARY:MS/HS P-T Conferences
DESCRIPTION:MS/HS P-T Conferences - No school
STATUS:CONFIRMED
END:VEVENT
BEGIN:VEVENT
UID:71bf5350-2ab7-435f-b5f5-150480df0619
SEQUENCE:0
DTSTAMP:20260424T200912Z
DTSTART;VALUE=DATE:20260214
X-MICROSOFT-CDO-ALLDAYEVENT:TRUE
X-MICROSOFT-MSNCALENDAR-ALLDAYEVENT:TRUE
SUMMARY:1st Makeup Day
DESCRIPTION:1st Makeup Day - No school
STATUS:CONFIRMED
END:VEVENT
BEGIN:VEVENT
UID:ed344406-1e31-4b59-a0ce-0c3176ea1baa
SEQUENCE:0
DTSTAMP:20260424T200912Z
DTSTART;VALUE=DATE:20260321
X-MICROSOFT-CDO-ALLDAYEVENT:TRUE
X-MICROSOFT-MSNCALENDAR-ALLDAYEVENT:TRUE
SUMMARY:2nd Makeup Day
DESCRIPTION:2nd Makeup Day - No school
STATUS:CONFIRMED
END:VEVENT
BEGIN:VEVENT
UID:d208766c-4f64-465d-a20c-7ba243143699
SEQUENCE:0
DTSTAMP:20260424T200912Z
DTSTART;VALUE=DATE:20260415
X-MICROSOFT-CDO-ALLDAYEVENT:TRUE
X-MICROSOFT-MSNCALENDAR-ALLDAYEVENT:TRUE
SUMMARY:MS/HS P-T Conferences
DESCRIPTION:MS/HS P-T Conferences - No school
STATUS:CONFIRMED
END:VEVENT
BEGIN:VEVENT
UID:c7d27110-eba4-4443-be50-dbaa91de2e6e
SEQUENCE:0
DTSTAMP:20260424T200912Z
DTSTART;VALUE=DATE:20260529
X-MICROSOFT-CDO-ALLDAYEVENT:TRUE
X-MICROSOFT-MSNCALENDAR-ALLDAYEVENT:TRUE
SUMMARY:3rd Makeup Day
DESCRIPTION:3rd Makeup Day - No school
STATUS:CONFIRMED
END:VEVENT
BEGIN:VEVENT
UID:47c25599-8321-4d8d-a97d-cc304e9cde97
SEQUENCE:0
DTSTAMP:20260424T200912Z
DTSTART;VALUE=DATE:20260530
X-MICROSOFT-CDO-ALLDAYEVENT:TRUE
X-MICROSOFT-MSNCALENDAR-ALLDAYEVENT:TRUE
SUMMARY:4th Makeup Day
DESCRIPTION:4th Makeup Day - No school
STATUS:CONFIRMED
END:VEVENT
BEGIN:VEVENT
UID:1d593cb9-5c95-43a6-a7d8-a59262fd4dba
SEQUENCE:0
DTSTAMP:20260424T200912Z
DTSTART;VALUE=DATE:20260530
X-MICROSOFT-CDO-ALLDAYEVENT:TRUE
X-MICROSOFT-MSNCALENDAR-ALLDAYEVENT:TRUE
SUMMARY:Teacher Comp/Student Holiday
DESCRIPTION:Teacher Comp/Student Holiday - No school
STATUS:CONFIRMED
END:VEVENT
BEGIN:VEVENT
UID:89e61a2c-1cca-457a-bbba-4a96d6634bcf
SEQUENCE:0
DTSTAMP:20260424T200912Z
DTSTART;VALUE=DATE:20260530
X-MICROSOFT-CDO-ALLDAYEVENT:TRUE
X-MICROSOFT-MSNCALENDAR-ALLDAYEVENT:TRUE
SUMMARY:Graduation
DESCRIPTION:Graduation - No school
STATUS:CONFIRMED
END:VEVENT
BEGIN:VEVENT
UID:a424ee14-d097-4348-95c2-393f9316a80c
SEQUENCE:0
DTSTAMP:20260424T200912Z
DTSTART;VALUE=DATE:20260529
X-MICROSOFT-CDO-ALLDAYEVENT:TRUE
X-MICROSOFT-MSNCALENDAR-ALLDAYEVENT:TRUE
SUMMARY:Last Teacher Day
DESCRIPTION:Last Teacher Day - No school
STATUS:CONFIRMED
END:VEVENT
END:VCALENDAR