BEGIN:VCALENDAR
VERSION:2.0
PRODID:-//SchoolCalendarAPI//school-calendar//EN
URL:https://api.schools-calendar.com/calendar?district_id=mn-yellow-medici
 ne-east&year=2025-26
NAME:Yellow Medicine East School Calendar 2025-26
X-WR-CALNAME:Yellow Medicine East School Calendar 2025-26
X-WR-CALDESC:Official school calendar for Yellow Medicine East for the 202
 5-26 school year.
REFRESH-INTERVAL;VALUE=DURATION:P1D
X-PUBLISHED-TTL:P1D
BEGIN:VEVENT
UID:e6e24711-f9ba-472a-a82c-4b3e2d0f61ea
SEQUENCE:0
DTSTAMP:20260424T201758Z
DTSTART;VALUE=DATE:20250902
X-MICROSOFT-CDO-ALLDAYEVENT:TRUE
X-MICROSOFT-MSNCALENDAR-ALLDAYEVENT:TRUE
SUMMARY:First Day of School
DESCRIPTION:First day of the 2025-26 school year
STATUS:CONFIRMED
END:VEVENT
BEGIN:VEVENT
UID:34c42c82-6ba0-49ee-b98d-05d9049327d2
SEQUENCE:0
DTSTAMP:20260424T201758Z
DTSTART;VALUE=DATE:20260602
X-MICROSOFT-CDO-ALLDAYEVENT:TRUE
X-MICROSOFT-MSNCALENDAR-ALLDAYEVENT:TRUE
SUMMARY:Last Day of School
DESCRIPTION:Last day of the 2025-26 school year
STATUS:CONFIRMED
END:VEVENT
BEGIN:VEVENT
UID:3b3e85d8-7dde-4b28-96d3-2992dd0bfcfa
SEQUENCE:0
DTSTAMP:20260424T201758Z
DTSTART;VALUE=DATE:20251015
DTEND;VALUE=DATE:20251018
X-MICROSOFT-CDO-ALLDAYEVENT:TRUE
X-MICROSOFT-MSNCALENDAR-ALLDAYEVENT:TRUE
SUMMARY:EM Break
DESCRIPTION:EM Break - No school
STATUS:CONFIRMED
END:VEVENT
BEGIN:VEVENT
UID:c10098e2-6995-43d4-8cd3-1dd8a9189380
SEQUENCE:0
DTSTAMP:20260424T201758Z
DTSTART;VALUE=DATE:20251127
DTEND;VALUE=DATE:20251129
X-MICROSOFT-CDO-ALLDAYEVENT:TRUE
X-MICROSOFT-MSNCALENDAR-ALLDAYEVENT:TRUE
SUMMARY:Thanksgiving Break
DESCRIPTION:Thanksgiving Break - No school
STATUS:CONFIRMED
END:VEVENT
BEGIN:VEVENT
UID:64877705-8695-4382-982d-eaf0c340788d
SEQUENCE:0
DTSTAMP:20260424T201758Z
DTSTART;VALUE=DATE:20251222
DTEND;VALUE=DATE:20260101
X-MICROSOFT-CDO-ALLDAYEVENT:TRUE
X-MICROSOFT-MSNCALENDAR-ALLDAYEVENT:TRUE
SUMMARY:Christmas Break
DESCRIPTION:Christmas Break - No school
STATUS:CONFIRMED
END:VEVENT
BEGIN:VEVENT
UID:98ce21c2-2eec-47e3-93bd-67302e8ab444
SEQUENCE:0
DTSTAMP:20260424T201758Z
DTSTART;VALUE=DATE:20260101
DTEND;VALUE=DATE:20260103
X-MICROSOFT-CDO-ALLDAYEVENT:TRUE
X-MICROSOFT-MSNCALENDAR-ALLDAYEVENT:TRUE
SUMMARY:New Year's Break
DESCRIPTION:New Year's Break - No school
STATUS:CONFIRMED
END:VEVENT
BEGIN:VEVENT
UID:b4c3fa65-202e-4b6c-8973-2a926c56fcb7
SEQUENCE:0
DTSTAMP:20260424T201758Z
DTSTART;VALUE=DATE:20260402
DTEND;VALUE=DATE:20260407
X-MICROSOFT-CDO-ALLDAYEVENT:TRUE
X-MICROSOFT-MSNCALENDAR-ALLDAYEVENT:TRUE
SUMMARY:Easter Break
DESCRIPTION:Easter Break - No school
STATUS:CONFIRMED
END:VEVENT
BEGIN:VEVENT
UID:9408003e-b3de-48aa-b5a6-3e65619332e9
SEQUENCE:0
DTSTAMP:20260424T201758Z
DTSTART;VALUE=DATE:20250901
X-MICROSOFT-CDO-ALLDAYEVENT:TRUE
X-MICROSOFT-MSNCALENDAR-ALLDAYEVENT:TRUE
SUMMARY:Labor Day
DESCRIPTION:Labor Day - No school
STATUS:CONFIRMED
END:VEVENT
BEGIN:VEVENT
UID:71fbce21-4717-45f2-9204-aca471d4f930
SEQUENCE:0
DTSTAMP:20260424T201758Z
DTSTART;VALUE=DATE:20251107
X-MICROSOFT-CDO-ALLDAYEVENT:TRUE
X-MICROSOFT-MSNCALENDAR-ALLDAYEVENT:TRUE
SUMMARY:No School Day
DESCRIPTION:No School Day - No school
STATUS:CONFIRMED
END:VEVENT
BEGIN:VEVENT
UID:87ae6058-bc41-4f27-8f6c-5dbe5864e695
SEQUENCE:0
DTSTAMP:20260424T201758Z
DTSTART;VALUE=DATE:20260119
X-MICROSOFT-CDO-ALLDAYEVENT:TRUE
X-MICROSOFT-MSNCALENDAR-ALLDAYEVENT:TRUE
SUMMARY:No School Days
DESCRIPTION:No School Days - No school
STATUS:CONFIRMED
END:VEVENT
BEGIN:VEVENT
UID:7fe25eb5-7cf0-4fd6-b248-ebfb8cabd66e
SEQUENCE:0
DTSTAMP:20260424T201758Z
DTSTART;VALUE=DATE:20260120
X-MICROSOFT-CDO-ALLDAYEVENT:TRUE
X-MICROSOFT-MSNCALENDAR-ALLDAYEVENT:TRUE
SUMMARY:No School Days
DESCRIPTION:No School Days - No school
STATUS:CONFIRMED
END:VEVENT
BEGIN:VEVENT
UID:5d2bae33-fd26-4796-8afc-7b4649331529
SEQUENCE:0
DTSTAMP:20260424T201758Z
DTSTART;VALUE=DATE:20260213
X-MICROSOFT-CDO-ALLDAYEVENT:TRUE
X-MICROSOFT-MSNCALENDAR-ALLDAYEVENT:TRUE
SUMMARY:No School Days
DESCRIPTION:No School Days - No school
STATUS:CONFIRMED
END:VEVENT
BEGIN:VEVENT
UID:c0fe8307-624a-4508-bb4c-87c89cb21a8b
SEQUENCE:0
DTSTAMP:20260424T201758Z
DTSTART;VALUE=DATE:20260216
X-MICROSOFT-CDO-ALLDAYEVENT:TRUE
X-MICROSOFT-MSNCALENDAR-ALLDAYEVENT:TRUE
SUMMARY:No School Days
DESCRIPTION:No School Days - No school
STATUS:CONFIRMED
END:VEVENT
BEGIN:VEVENT
UID:00bf4700-2fbe-49b5-9ffe-ae3212213ab4
SEQUENCE:0
DTSTAMP:20260424T201758Z
DTSTART;VALUE=DATE:20260327
X-MICROSOFT-CDO-ALLDAYEVENT:TRUE
X-MICROSOFT-MSNCALENDAR-ALLDAYEVENT:TRUE
SUMMARY:No School Day
DESCRIPTION:No School Day - No school
STATUS:CONFIRMED
END:VEVENT
BEGIN:VEVENT
UID:47777f8d-d779-42e4-9a2f-5f3c82a8385c
SEQUENCE:0
DTSTAMP:20260424T201758Z
DTSTART;VALUE=DATE:20260525
X-MICROSOFT-CDO-ALLDAYEVENT:TRUE
X-MICROSOFT-MSNCALENDAR-ALLDAYEVENT:TRUE
SUMMARY:Memorial Day
DESCRIPTION:Memorial Day - No school
STATUS:CONFIRMED
END:VEVENT
END:VCALENDAR