BEGIN:VCALENDAR
VERSION:2.0
PRODID:-//SchoolCalendarAPI//school-calendar//EN
URL:https://api.schools-calendar.com/calendar?district_id=ne-adams-central
 -public-schools&year=2025-26
NAME:Adams Central Public Schools School Calendar 2025-26
X-WR-CALNAME:Adams Central Public Schools School Calendar 2025-26
X-WR-CALDESC:Official school calendar for Adams Central Public Schools for
  the 2025-26 school year.
REFRESH-INTERVAL;VALUE=DURATION:P1D
X-PUBLISHED-TTL:P1D
BEGIN:VEVENT
UID:19cdaa5c-99d6-4a89-ad8e-14adf3bca117
SEQUENCE:0
DTSTAMP:20260422T184029Z
DTSTART;VALUE=DATE:20250813
X-MICROSOFT-CDO-ALLDAYEVENT:TRUE
X-MICROSOFT-MSNCALENDAR-ALLDAYEVENT:TRUE
SUMMARY:First Day of School
DESCRIPTION:First day of the 2025-26 school year
STATUS:CONFIRMED
END:VEVENT
BEGIN:VEVENT
UID:00a82cfe-5ce7-48fb-8a57-1c35800b5046
SEQUENCE:0
DTSTAMP:20260422T184029Z
DTSTART;VALUE=DATE:20260520
X-MICROSOFT-CDO-ALLDAYEVENT:TRUE
X-MICROSOFT-MSNCALENDAR-ALLDAYEVENT:TRUE
SUMMARY:Last Day of School
DESCRIPTION:Last day of the 2025-26 school year
STATUS:CONFIRMED
END:VEVENT
BEGIN:VEVENT
UID:eee772ce-a6c4-4848-b040-aae2cc933f37
SEQUENCE:0
DTSTAMP:20260422T184029Z
DTSTART;VALUE=DATE:20251126
DTEND;VALUE=DATE:20251129
X-MICROSOFT-CDO-ALLDAYEVENT:TRUE
X-MICROSOFT-MSNCALENDAR-ALLDAYEVENT:TRUE
SUMMARY:Thanksgiving Break
DESCRIPTION:Thanksgiving Break - No school
STATUS:CONFIRMED
END:VEVENT
BEGIN:VEVENT
UID:42777c09-e697-4880-b468-4eeff0f72956
SEQUENCE:0
DTSTAMP:20260422T184029Z
DTSTART;VALUE=DATE:20251222
DTEND;VALUE=DATE:20260102
X-MICROSOFT-CDO-ALLDAYEVENT:TRUE
X-MICROSOFT-MSNCALENDAR-ALLDAYEVENT:TRUE
SUMMARY:Winter Break
DESCRIPTION:Winter Break - No school
STATUS:CONFIRMED
END:VEVENT
BEGIN:VEVENT
UID:10fb49ef-6aea-4182-9fbb-0f090a4557c9
SEQUENCE:0
DTSTAMP:20260422T184029Z
DTSTART;VALUE=DATE:20260403
DTEND;VALUE=DATE:20260407
X-MICROSOFT-CDO-ALLDAYEVENT:TRUE
X-MICROSOFT-MSNCALENDAR-ALLDAYEVENT:TRUE
SUMMARY:Spring Break
DESCRIPTION:Spring Break - No school
STATUS:CONFIRMED
END:VEVENT
BEGIN:VEVENT
UID:5a9cd0ba-feb1-4c77-81fc-2e3318f9ef21
SEQUENCE:0
DTSTAMP:20260422T184029Z
DTSTART;VALUE=DATE:20250901
X-MICROSOFT-CDO-ALLDAYEVENT:TRUE
X-MICROSOFT-MSNCALENDAR-ALLDAYEVENT:TRUE
SUMMARY:Labor Day
DESCRIPTION:Labor Day - No school
STATUS:CONFIRMED
END:VEVENT
BEGIN:VEVENT
UID:6d0b85b0-6a78-4844-87ba-e04bff56ee73
SEQUENCE:0
DTSTAMP:20260422T184029Z
DTSTART;VALUE=DATE:20250926
X-MICROSOFT-CDO-ALLDAYEVENT:TRUE
X-MICROSOFT-MSNCALENDAR-ALLDAYEVENT:TRUE
SUMMARY:No School Pre-12: P-T Conf
DESCRIPTION:No School Pre-12: P-T Conf - No school
STATUS:CONFIRMED
END:VEVENT
BEGIN:VEVENT
UID:f2d17259-b9b2-4a3b-9789-88312955a4e6
SEQUENCE:0
DTSTAMP:20260422T184029Z
DTSTART;VALUE=DATE:20251017
X-MICROSOFT-CDO-ALLDAYEVENT:TRUE
X-MICROSOFT-MSNCALENDAR-ALLDAYEVENT:TRUE
SUMMARY:No School Pre-12
DESCRIPTION:No School Pre-12 - No school
STATUS:CONFIRMED
END:VEVENT
BEGIN:VEVENT
UID:65476af5-167b-4f6f-8e73-192487428fe1
SEQUENCE:0
DTSTAMP:20260422T184029Z
DTSTART;VALUE=DATE:20251020
X-MICROSOFT-CDO-ALLDAYEVENT:TRUE
X-MICROSOFT-MSNCALENDAR-ALLDAYEVENT:TRUE
SUMMARY:No School Pre-12\; Teacher PD
DESCRIPTION:No School Pre-12\; Teacher PD - No school
STATUS:CONFIRMED
END:VEVENT
BEGIN:VEVENT
UID:7148f581-be80-4b48-997a-11bc4d2d509e
SEQUENCE:0
DTSTAMP:20260422T184029Z
DTSTART;VALUE=DATE:20251031
X-MICROSOFT-CDO-ALLDAYEVENT:TRUE
X-MICROSOFT-MSNCALENDAR-ALLDAYEVENT:TRUE
SUMMARY:No school K-6\, Teacher PD
DESCRIPTION:No school K-6\, Teacher PD - No school
STATUS:CONFIRMED
END:VEVENT
BEGIN:VEVENT
UID:87427eff-8374-4d9c-bf30-396bf96bc055
SEQUENCE:0
DTSTAMP:20260422T184029Z
DTSTART;VALUE=DATE:20251107
X-MICROSOFT-CDO-ALLDAYEVENT:TRUE
X-MICROSOFT-MSNCALENDAR-ALLDAYEVENT:TRUE
SUMMARY:No Students Pre-12: Teacher PD
DESCRIPTION:No Students Pre-12: Teacher PD - No school
STATUS:CONFIRMED
END:VEVENT
BEGIN:VEVENT
UID:7b370bf4-3d7f-48b9-a05f-4c7dbd7d6c06
SEQUENCE:0
DTSTAMP:20260422T184029Z
DTSTART;VALUE=DATE:20251219
X-MICROSOFT-CDO-ALLDAYEVENT:TRUE
X-MICROSOFT-MSNCALENDAR-ALLDAYEVENT:TRUE
SUMMARY:Elementary no school-Teacher PD
DESCRIPTION:Elementary no school-Teacher PD - No school
STATUS:CONFIRMED
END:VEVENT
BEGIN:VEVENT
UID:2ac281cb-d156-4369-b88b-1670703cfbe9
SEQUENCE:0
DTSTAMP:20260422T184029Z
DTSTART;VALUE=DATE:20260102
X-MICROSOFT-CDO-ALLDAYEVENT:TRUE
X-MICROSOFT-MSNCALENDAR-ALLDAYEVENT:TRUE
SUMMARY:No School Pre-12 Teacher PD
DESCRIPTION:No School Pre-12 Teacher PD - No school
STATUS:CONFIRMED
END:VEVENT
BEGIN:VEVENT
UID:ec5dd7d8-0513-4f24-b37d-f2da34c39203
SEQUENCE:0
DTSTAMP:20260422T184029Z
DTSTART;VALUE=DATE:20260206
X-MICROSOFT-CDO-ALLDAYEVENT:TRUE
X-MICROSOFT-MSNCALENDAR-ALLDAYEVENT:TRUE
SUMMARY:No School Pre-12\, Teacher PD
DESCRIPTION:No School Pre-12\, Teacher PD - No school
STATUS:CONFIRMED
END:VEVENT
BEGIN:VEVENT
UID:e19fe0c4-94b5-4045-bc55-f015a189b8e5
SEQUENCE:0
DTSTAMP:20260422T184029Z
DTSTART;VALUE=DATE:20260220
X-MICROSOFT-CDO-ALLDAYEVENT:TRUE
X-MICROSOFT-MSNCALENDAR-ALLDAYEVENT:TRUE
SUMMARY:No School Pre-12
DESCRIPTION:No School Pre-12 - No school
STATUS:CONFIRMED
END:VEVENT
BEGIN:VEVENT
UID:90056097-b5c1-4721-ac9a-646a4a77fb8d
SEQUENCE:0
DTSTAMP:20260422T184029Z
DTSTART;VALUE=DATE:20260308
X-MICROSOFT-CDO-ALLDAYEVENT:TRUE
X-MICROSOFT-MSNCALENDAR-ALLDAYEVENT:TRUE
SUMMARY:No School Pre-12
DESCRIPTION:No School Pre-12 - No school
STATUS:CONFIRMED
END:VEVENT
BEGIN:VEVENT
UID:75ab3035-f29f-4b0f-ade6-5f2fac1a0c30
SEQUENCE:0
DTSTAMP:20260422T184029Z
DTSTART;VALUE=DATE:20260313
X-MICROSOFT-CDO-ALLDAYEVENT:TRUE
X-MICROSOFT-MSNCALENDAR-ALLDAYEVENT:TRUE
SUMMARY:No School Pre-12
DESCRIPTION:No School Pre-12 - No school
STATUS:CONFIRMED
END:VEVENT
BEGIN:VEVENT
UID:5d7378a0-3d15-47f6-a1d0-4b1edc7d2566
SEQUENCE:0
DTSTAMP:20260422T184029Z
DTSTART;VALUE=DATE:20260331
X-MICROSOFT-CDO-ALLDAYEVENT:TRUE
X-MICROSOFT-MSNCALENDAR-ALLDAYEVENT:TRUE
SUMMARY:K-12 half day of school\, Teacher PD
DESCRIPTION:K-12 half day of school\, Teacher PD - No school
STATUS:CONFIRMED
END:VEVENT
END:VCALENDAR