BEGIN:VCALENDAR
VERSION:2.0
PRODID:-//SchoolCalendarAPI//school-calendar//EN
URL:https://api.schools-calendar.com/calendar?district_id=ne-arlington-pub
 lic-schools&year=2025-26
NAME:Arlington Public Schools School Calendar 2025-26
X-WR-CALNAME:Arlington Public Schools School Calendar 2025-26
X-WR-CALDESC:Official school calendar for Arlington Public Schools for the
  2025-26 school year.
REFRESH-INTERVAL;VALUE=DURATION:P1D
X-PUBLISHED-TTL:P1D
BEGIN:VEVENT
UID:7e27e977-0107-4eef-8b6a-329b3567bde7
SEQUENCE:0
DTSTAMP:20260422T203402Z
DTSTART;VALUE=DATE:20250825
X-MICROSOFT-CDO-ALLDAYEVENT:TRUE
X-MICROSOFT-MSNCALENDAR-ALLDAYEVENT:TRUE
SUMMARY:First Day of School
DESCRIPTION:First day of the 2025-26 school year
STATUS:CONFIRMED
END:VEVENT
BEGIN:VEVENT
UID:e7cd9716-5ff0-46ad-ba26-78ebeaa27e86
SEQUENCE:0
DTSTAMP:20260422T203402Z
DTSTART;VALUE=DATE:20260618
X-MICROSOFT-CDO-ALLDAYEVENT:TRUE
X-MICROSOFT-MSNCALENDAR-ALLDAYEVENT:TRUE
SUMMARY:Last Day of School
DESCRIPTION:Last day of the 2025-26 school year
STATUS:CONFIRMED
END:VEVENT
BEGIN:VEVENT
UID:525fe3a8-3f1a-4c49-9f8e-3e2c8edd48ac
SEQUENCE:0
DTSTAMP:20260422T203402Z
DTSTART;VALUE=DATE:20251126
DTEND;VALUE=DATE:20251129
X-MICROSOFT-CDO-ALLDAYEVENT:TRUE
X-MICROSOFT-MSNCALENDAR-ALLDAYEVENT:TRUE
SUMMARY:Thanksgiving Break
DESCRIPTION:Thanksgiving Break - No school
STATUS:CONFIRMED
END:VEVENT
BEGIN:VEVENT
UID:4f4fa15b-44dd-4551-bdd3-a7d8ea02a3ba
SEQUENCE:0
DTSTAMP:20260422T203402Z
DTSTART;VALUE=DATE:20251222
DTEND;VALUE=DATE:20260103
X-MICROSOFT-CDO-ALLDAYEVENT:TRUE
X-MICROSOFT-MSNCALENDAR-ALLDAYEVENT:TRUE
SUMMARY:Winter Break
DESCRIPTION:Winter Break - No school
STATUS:CONFIRMED
END:VEVENT
BEGIN:VEVENT
UID:0227aa56-c922-44dd-ad72-8aea14e729a3
SEQUENCE:0
DTSTAMP:20260422T203402Z
DTSTART;VALUE=DATE:20260330
DTEND;VALUE=DATE:20260404
X-MICROSOFT-CDO-ALLDAYEVENT:TRUE
X-MICROSOFT-MSNCALENDAR-ALLDAYEVENT:TRUE
SUMMARY:Spring Break
DESCRIPTION:Spring Break - No school
STATUS:CONFIRMED
END:VEVENT
BEGIN:VEVENT
UID:85395d7b-756e-4039-a475-41bf77f700d3
SEQUENCE:0
DTSTAMP:20260422T203402Z
DTSTART;VALUE=DATE:20250901
X-MICROSOFT-CDO-ALLDAYEVENT:TRUE
X-MICROSOFT-MSNCALENDAR-ALLDAYEVENT:TRUE
SUMMARY:Labor Day
DESCRIPTION:Labor Day - No school
STATUS:CONFIRMED
END:VEVENT
BEGIN:VEVENT
UID:0950f730-1a7e-40cf-b4e2-c8350ee3f066
SEQUENCE:0
DTSTAMP:20260422T203402Z
DTSTART;VALUE=DATE:20251013
X-MICROSOFT-CDO-ALLDAYEVENT:TRUE
X-MICROSOFT-MSNCALENDAR-ALLDAYEVENT:TRUE
SUMMARY:Indigenous Peoples Day
DESCRIPTION:Indigenous Peoples Day - No school
STATUS:CONFIRMED
END:VEVENT
BEGIN:VEVENT
UID:900e4d6b-b95b-4a61-b6c3-48874816f673
SEQUENCE:0
DTSTAMP:20260422T203402Z
DTSTART;VALUE=DATE:20251111
X-MICROSOFT-CDO-ALLDAYEVENT:TRUE
X-MICROSOFT-MSNCALENDAR-ALLDAYEVENT:TRUE
SUMMARY:Veterans Day
DESCRIPTION:Veterans Day - No school
STATUS:CONFIRMED
END:VEVENT
BEGIN:VEVENT
UID:3d41707f-1d83-4aab-9617-a72ab8e04561
SEQUENCE:0
DTSTAMP:20260422T203402Z
DTSTART;VALUE=DATE:20260119
X-MICROSOFT-CDO-ALLDAYEVENT:TRUE
X-MICROSOFT-MSNCALENDAR-ALLDAYEVENT:TRUE
SUMMARY:MLK Holiday
DESCRIPTION:MLK Holiday - No school
STATUS:CONFIRMED
END:VEVENT
BEGIN:VEVENT
UID:605c91d1-a3e6-4762-9a82-3fed976a0ee6
SEQUENCE:0
DTSTAMP:20260422T203402Z
DTSTART;VALUE=DATE:20260216
X-MICROSOFT-CDO-ALLDAYEVENT:TRUE
X-MICROSOFT-MSNCALENDAR-ALLDAYEVENT:TRUE
SUMMARY:President's Day
DESCRIPTION:President's Day - No school
STATUS:CONFIRMED
END:VEVENT
BEGIN:VEVENT
UID:245fcaf6-bf4f-43bf-bb6e-ae45936d3d42
SEQUENCE:0
DTSTAMP:20260422T203402Z
DTSTART;VALUE=DATE:20260525
X-MICROSOFT-CDO-ALLDAYEVENT:TRUE
X-MICROSOFT-MSNCALENDAR-ALLDAYEVENT:TRUE
SUMMARY:Memorial Day
DESCRIPTION:Memorial Day - No school
STATUS:CONFIRMED
END:VEVENT
BEGIN:VEVENT
UID:c127c08a-b8c9-4d2f-aa1d-eff0834a294b
SEQUENCE:0
DTSTAMP:20260422T203402Z
DTSTART;VALUE=DATE:20260619
X-MICROSOFT-CDO-ALLDAYEVENT:TRUE
X-MICROSOFT-MSNCALENDAR-ALLDAYEVENT:TRUE
SUMMARY:Juneteenth
DESCRIPTION:Juneteenth - No school
STATUS:CONFIRMED
END:VEVENT
BEGIN:VEVENT
UID:c91bdd7e-f52b-4af0-ae6b-baf91425862c
SEQUENCE:0
DTSTAMP:20260422T203402Z
DTSTART;VALUE=DATE:20250704
X-MICROSOFT-CDO-ALLDAYEVENT:TRUE
X-MICROSOFT-MSNCALENDAR-ALLDAYEVENT:TRUE
SUMMARY:Independence Day
DESCRIPTION:Independence Day - No school
STATUS:CONFIRMED
END:VEVENT
BEGIN:VEVENT
UID:dc61c3a4-6341-42bf-86ca-1b00f3b65f75
SEQUENCE:0
DTSTAMP:20260422T203402Z
DTSTART;VALUE=DATE:20250829
X-MICROSOFT-CDO-ALLDAYEVENT:TRUE
X-MICROSOFT-MSNCALENDAR-ALLDAYEVENT:TRUE
SUMMARY:August 29 Holiday
DESCRIPTION:August 29 Holiday - No school
STATUS:CONFIRMED
END:VEVENT
BEGIN:VEVENT
UID:e81c9f9c-be80-4eda-bfbd-d612f7d39be2
SEQUENCE:0
DTSTAMP:20260422T203402Z
DTSTART;VALUE=DATE:20260526
X-MICROSOFT-CDO-ALLDAYEVENT:TRUE
X-MICROSOFT-MSNCALENDAR-ALLDAYEVENT:TRUE
SUMMARY:May 26 Holiday
DESCRIPTION:May 26 Holiday - No school
STATUS:CONFIRMED
END:VEVENT
BEGIN:VEVENT
UID:a3f9b6b4-5010-4528-8223-f1ca6cd47f27
SEQUENCE:0
DTSTAMP:20260422T203402Z
DTSTART;VALUE=DATE:20251008
X-MICROSOFT-CDO-ALLDAYEVENT:TRUE
X-MICROSOFT-MSNCALENDAR-ALLDAYEVENT:TRUE
SUMMARY:Grade Preparation Day (No School)
DESCRIPTION:Grade Preparation Day (No School) - No school
STATUS:CONFIRMED
END:VEVENT
BEGIN:VEVENT
UID:0e5f06a9-b39a-418e-9605-e35c1c193225
SEQUENCE:0
DTSTAMP:20260422T203402Z
DTSTART;VALUE=DATE:20251104
X-MICROSOFT-CDO-ALLDAYEVENT:TRUE
X-MICROSOFT-MSNCALENDAR-ALLDAYEVENT:TRUE
SUMMARY:Grade Preparation Day (No School)
DESCRIPTION:Grade Preparation Day (No School) - No school
STATUS:CONFIRMED
END:VEVENT
BEGIN:VEVENT
UID:7ed8d72e-bd98-4cc4-b0a2-fdcaf6bad424
SEQUENCE:0
DTSTAMP:20260422T203402Z
DTSTART;VALUE=DATE:20260130
X-MICROSOFT-CDO-ALLDAYEVENT:TRUE
X-MICROSOFT-MSNCALENDAR-ALLDAYEVENT:TRUE
SUMMARY:Grade Preparation Day (No School)
DESCRIPTION:Grade Preparation Day (No School) - No school
STATUS:CONFIRMED
END:VEVENT
BEGIN:VEVENT
UID:ae5d928a-3492-4211-b510-223512ec94a7
SEQUENCE:0
DTSTAMP:20260422T203402Z
DTSTART;VALUE=DATE:20260413
X-MICROSOFT-CDO-ALLDAYEVENT:TRUE
X-MICROSOFT-MSNCALENDAR-ALLDAYEVENT:TRUE
SUMMARY:Grade Preparation Day (No School)
DESCRIPTION:Grade Preparation Day (No School) - No school
STATUS:CONFIRMED
END:VEVENT
BEGIN:VEVENT
UID:01213089-2754-4c1e-8099-bc6c89df67fb
SEQUENCE:0
DTSTAMP:20260422T203402Z
DTSTART;VALUE=DATE:20251210
X-MICROSOFT-CDO-ALLDAYEVENT:TRUE
X-MICROSOFT-MSNCALENDAR-ALLDAYEVENT:TRUE
SUMMARY:Professional Learning Day (No School)
DESCRIPTION:Professional Learning Day (No School) - No school
STATUS:CONFIRMED
END:VEVENT
BEGIN:VEVENT
UID:de9ad99b-6fda-48e7-9d64-d97db18463bc
SEQUENCE:0
DTSTAMP:20260422T203402Z
DTSTART;VALUE=DATE:20260114
X-MICROSOFT-CDO-ALLDAYEVENT:TRUE
X-MICROSOFT-MSNCALENDAR-ALLDAYEVENT:TRUE
SUMMARY:Professional Learning Day (No School)
DESCRIPTION:Professional Learning Day (No School) - No school
STATUS:CONFIRMED
END:VEVENT
BEGIN:VEVENT
UID:cb934d4f-df3a-4ade-a06e-b8cc63a71006
SEQUENCE:0
DTSTAMP:20260422T203402Z
DTSTART;VALUE=DATE:20260211
X-MICROSOFT-CDO-ALLDAYEVENT:TRUE
X-MICROSOFT-MSNCALENDAR-ALLDAYEVENT:TRUE
SUMMARY:Professional Learning Day (No School)
DESCRIPTION:Professional Learning Day (No School) - No school
STATUS:CONFIRMED
END:VEVENT
BEGIN:VEVENT
UID:4636b026-46ea-4f0b-a071-bcd895d28612
SEQUENCE:0
DTSTAMP:20260422T203402Z
DTSTART;VALUE=DATE:20260422
X-MICROSOFT-CDO-ALLDAYEVENT:TRUE
X-MICROSOFT-MSNCALENDAR-ALLDAYEVENT:TRUE
SUMMARY:Professional Learning Day (No School)
DESCRIPTION:Professional Learning Day (No School) - No school
STATUS:CONFIRMED
END:VEVENT
BEGIN:VEVENT
UID:ab72f5bc-a948-463c-9b7f-67bcb145480b
SEQUENCE:0
DTSTAMP:20260422T203402Z
DTSTART;VALUE=DATE:20260603
X-MICROSOFT-CDO-ALLDAYEVENT:TRUE
X-MICROSOFT-MSNCALENDAR-ALLDAYEVENT:TRUE
SUMMARY:Elementary Teacher Records/Closeout Day
DESCRIPTION:Elementary Teacher Records/Closeout Day - No school
STATUS:CONFIRMED
END:VEVENT
BEGIN:VEVENT
UID:738d813c-6594-4243-beb1-ad5c18c816c8
SEQUENCE:0
DTSTAMP:20260422T203402Z
DTSTART;VALUE=DATE:20260610
X-MICROSOFT-CDO-ALLDAYEVENT:TRUE
X-MICROSOFT-MSNCALENDAR-ALLDAYEVENT:TRUE
SUMMARY:Elementary Teacher Records/Closeout Day
DESCRIPTION:Elementary Teacher Records/Closeout Day - No school
STATUS:CONFIRMED
END:VEVENT
BEGIN:VEVENT
UID:52fff810-f966-42a7-95e0-89a100f84adf
SEQUENCE:0
DTSTAMP:20260422T203402Z
DTSTART;VALUE=DATE:20250923
X-MICROSOFT-CDO-ALLDAYEVENT:TRUE
X-MICROSOFT-MSNCALENDAR-ALLDAYEVENT:TRUE
SUMMARY:Rosh Hashana**
DESCRIPTION:Rosh Hashana** - No school
STATUS:CONFIRMED
END:VEVENT
BEGIN:VEVENT
UID:da23ffac-85f9-4819-a474-6be5c9782b56
SEQUENCE:0
DTSTAMP:20260422T203402Z
DTSTART;VALUE=DATE:20251002
X-MICROSOFT-CDO-ALLDAYEVENT:TRUE
X-MICROSOFT-MSNCALENDAR-ALLDAYEVENT:TRUE
SUMMARY:Yom Kippur**
DESCRIPTION:Yom Kippur** - No school
STATUS:CONFIRMED
END:VEVENT
BEGIN:VEVENT
UID:a0c2bdc2-067b-4158-85fd-f513ef444d5b
SEQUENCE:0
DTSTAMP:20260422T203402Z
DTSTART;VALUE=DATE:20251020
X-MICROSOFT-CDO-ALLDAYEVENT:TRUE
X-MICROSOFT-MSNCALENDAR-ALLDAYEVENT:TRUE
SUMMARY:Diwali**
DESCRIPTION:Diwali** - No school
STATUS:CONFIRMED
END:VEVENT
BEGIN:VEVENT
UID:98597460-e5da-40d0-9d90-318e5cd39fe5
SEQUENCE:0
DTSTAMP:20260422T203402Z
DTSTART;VALUE=DATE:20260320
X-MICROSOFT-CDO-ALLDAYEVENT:TRUE
X-MICROSOFT-MSNCALENDAR-ALLDAYEVENT:TRUE
SUMMARY:Eid Al-fitr**
DESCRIPTION:Eid Al-fitr** - No school
STATUS:CONFIRMED
END:VEVENT
BEGIN:VEVENT
UID:78c51be5-10fd-4644-89b8-ff25937908e3
SEQUENCE:0
DTSTAMP:20260422T203402Z
DTSTART;VALUE=DATE:20260527
X-MICROSOFT-CDO-ALLDAYEVENT:TRUE
X-MICROSOFT-MSNCALENDAR-ALLDAYEVENT:TRUE
SUMMARY:Eidai Adha**
DESCRIPTION:Eidai Adha** - No school
STATUS:CONFIRMED
END:VEVENT
END:VCALENDAR