BEGIN:VCALENDAR
VERSION:2.0
PRODID:-//SchoolCalendarAPI//school-calendar//EN
URL:https://api.schools-calendar.com/calendar?district_id=ne-columbus-publ
 ic-schools&year=2025-26
NAME:Columbus Public Schools School Calendar 2025-26
X-WR-CALNAME:Columbus Public Schools School Calendar 2025-26
X-WR-CALDESC:Official school calendar for Columbus Public Schools for the 
 2025-26 school year.
REFRESH-INTERVAL;VALUE=DURATION:P1D
X-PUBLISHED-TTL:P1D
BEGIN:VEVENT
UID:8b6b451f-12ae-4463-a768-cfe0262d2467
SEQUENCE:0
DTSTAMP:20260422T201811Z
DTSTART;VALUE=DATE:20250820
X-MICROSOFT-CDO-ALLDAYEVENT:TRUE
X-MICROSOFT-MSNCALENDAR-ALLDAYEVENT:TRUE
SUMMARY:First Day of School
DESCRIPTION:First day of the 2025-26 school year
STATUS:CONFIRMED
END:VEVENT
BEGIN:VEVENT
UID:ad59463e-498b-4dc9-9f14-5a3aa1fc15e5
SEQUENCE:0
DTSTAMP:20260422T201811Z
DTSTART;VALUE=DATE:20260527
X-MICROSOFT-CDO-ALLDAYEVENT:TRUE
X-MICROSOFT-MSNCALENDAR-ALLDAYEVENT:TRUE
SUMMARY:Last Day of School
DESCRIPTION:Last day of the 2025-26 school year
STATUS:CONFIRMED
END:VEVENT
BEGIN:VEVENT
UID:cd5bdd7a-c29c-4c1a-ba10-7ca92370cb31
SEQUENCE:0
DTSTAMP:20260422T201811Z
DTSTART;VALUE=DATE:20251126
DTEND;VALUE=DATE:20251129
X-MICROSOFT-CDO-ALLDAYEVENT:TRUE
X-MICROSOFT-MSNCALENDAR-ALLDAYEVENT:TRUE
SUMMARY:Thanksgiving Break
DESCRIPTION:Thanksgiving Break - No school
STATUS:CONFIRMED
END:VEVENT
BEGIN:VEVENT
UID:90445738-f02f-40b2-9868-b64a2cf26eb0
SEQUENCE:0
DTSTAMP:20260422T201811Z
DTSTART;VALUE=DATE:20251222
DTEND;VALUE=DATE:20260103
X-MICROSOFT-CDO-ALLDAYEVENT:TRUE
X-MICROSOFT-MSNCALENDAR-ALLDAYEVENT:TRUE
SUMMARY:Holiday Break
DESCRIPTION:Holiday Break - No school
STATUS:CONFIRMED
END:VEVENT
BEGIN:VEVENT
UID:1b30b3fb-61eb-44f0-affa-746fcef4032f
SEQUENCE:0
DTSTAMP:20260422T201811Z
DTSTART;VALUE=DATE:20260401
DTEND;VALUE=DATE:20260407
X-MICROSOFT-CDO-ALLDAYEVENT:TRUE
X-MICROSOFT-MSNCALENDAR-ALLDAYEVENT:TRUE
SUMMARY:Spring Break
DESCRIPTION:Spring Break - No school
STATUS:CONFIRMED
END:VEVENT
BEGIN:VEVENT
UID:4db4b9bc-af8f-4a2a-888c-8cb0d8652766
SEQUENCE:0
DTSTAMP:20260422T201811Z
DTSTART;VALUE=DATE:20250818
X-MICROSOFT-CDO-ALLDAYEVENT:TRUE
X-MICROSOFT-MSNCALENDAR-ALLDAYEVENT:TRUE
SUMMARY:Teacher Institute
DESCRIPTION:Teacher Institute - No school
STATUS:CONFIRMED
END:VEVENT
BEGIN:VEVENT
UID:4f49c647-18bf-4107-aad6-7524c5ddef9b
SEQUENCE:0
DTSTAMP:20260422T201811Z
DTSTART;VALUE=DATE:20250819
X-MICROSOFT-CDO-ALLDAYEVENT:TRUE
X-MICROSOFT-MSNCALENDAR-ALLDAYEVENT:TRUE
SUMMARY:Teacher Institute
DESCRIPTION:Teacher Institute - No school
STATUS:CONFIRMED
END:VEVENT
BEGIN:VEVENT
UID:546a6012-22e9-4fee-bc72-ff8c6c4bfc04
SEQUENCE:0
DTSTAMP:20260422T201811Z
DTSTART;VALUE=DATE:20251029
X-MICROSOFT-CDO-ALLDAYEVENT:TRUE
X-MICROSOFT-MSNCALENDAR-ALLDAYEVENT:TRUE
SUMMARY:Parent/Teacher Conferences
DESCRIPTION:Parent/Teacher Conferences - No school
STATUS:CONFIRMED
END:VEVENT
BEGIN:VEVENT
UID:db45c508-3ff4-4cb2-b046-5b76c903f69d
SEQUENCE:0
DTSTAMP:20260422T201811Z
DTSTART;VALUE=DATE:20251030
X-MICROSOFT-CDO-ALLDAYEVENT:TRUE
X-MICROSOFT-MSNCALENDAR-ALLDAYEVENT:TRUE
SUMMARY:Parent/Teacher Conferences
DESCRIPTION:Parent/Teacher Conferences - No school
STATUS:CONFIRMED
END:VEVENT
BEGIN:VEVENT
UID:c852ea56-9106-463c-8cba-0a4421d7efbf
SEQUENCE:0
DTSTAMP:20260422T201811Z
DTSTART;VALUE=DATE:20251031
X-MICROSOFT-CDO-ALLDAYEVENT:TRUE
X-MICROSOFT-MSNCALENDAR-ALLDAYEVENT:TRUE
SUMMARY:Teacher Institute
DESCRIPTION:Teacher Institute - No school
STATUS:CONFIRMED
END:VEVENT
BEGIN:VEVENT
UID:e0a75777-0c28-4132-aa0c-1d0cf5c9a14f
SEQUENCE:0
DTSTAMP:20260422T201811Z
DTSTART;VALUE=DATE:20260105
X-MICROSOFT-CDO-ALLDAYEVENT:TRUE
X-MICROSOFT-MSNCALENDAR-ALLDAYEVENT:TRUE
SUMMARY:Teacher Institute
DESCRIPTION:Teacher Institute - No school
STATUS:CONFIRMED
END:VEVENT
END:VCALENDAR