BEGIN:VCALENDAR
VERSION:2.0
PRODID:-//SchoolCalendarAPI//school-calendar//EN
URL:https://api.schools-calendar.com/calendar?district_id=ne-louisville-pu
 blic-schools&year=2025-26
NAME:Louisville Public Schools School Calendar 2025-26
X-WR-CALNAME:Louisville Public Schools School Calendar 2025-26
X-WR-CALDESC:Official school calendar for Louisville Public Schools for th
 e 2025-26 school year.
REFRESH-INTERVAL;VALUE=DURATION:P1D
X-PUBLISHED-TTL:P1D
BEGIN:VEVENT
UID:786a678b-8076-4935-b659-1428fc008286
SEQUENCE:0
DTSTAMP:20260422T202531Z
DTSTART;VALUE=DATE:20250814
X-MICROSOFT-CDO-ALLDAYEVENT:TRUE
X-MICROSOFT-MSNCALENDAR-ALLDAYEVENT:TRUE
SUMMARY:First Day of School
DESCRIPTION:First day of the 2025-26 school year
STATUS:CONFIRMED
END:VEVENT
BEGIN:VEVENT
UID:494b373f-8b38-45d0-99cc-882ca690835a
SEQUENCE:0
DTSTAMP:20260422T202531Z
DTSTART;VALUE=DATE:20260519
X-MICROSOFT-CDO-ALLDAYEVENT:TRUE
X-MICROSOFT-MSNCALENDAR-ALLDAYEVENT:TRUE
SUMMARY:Last Day of School
DESCRIPTION:Last day of the 2025-26 school year
STATUS:CONFIRMED
END:VEVENT
BEGIN:VEVENT
UID:9d858d11-7cbc-4f0c-8752-c044dc4dd1dd
SEQUENCE:0
DTSTAMP:20260422T202531Z
DTSTART;VALUE=DATE:20251126
DTEND;VALUE=DATE:20251201
X-MICROSOFT-CDO-ALLDAYEVENT:TRUE
X-MICROSOFT-MSNCALENDAR-ALLDAYEVENT:TRUE
SUMMARY:Thanksgiving Break
DESCRIPTION:Thanksgiving Break - No school
STATUS:CONFIRMED
END:VEVENT
BEGIN:VEVENT
UID:cdd539dc-59f8-4136-b2ea-a24834bdd6dc
SEQUENCE:0
DTSTAMP:20260422T202531Z
DTSTART;VALUE=DATE:20251220
DTEND;VALUE=DATE:20260106
X-MICROSOFT-CDO-ALLDAYEVENT:TRUE
X-MICROSOFT-MSNCALENDAR-ALLDAYEVENT:TRUE
SUMMARY:Winter Break
DESCRIPTION:Winter Break - No school
STATUS:CONFIRMED
END:VEVENT
BEGIN:VEVENT
UID:5f968b69-9809-41b4-b31d-e8d98b6e70e5
SEQUENCE:0
DTSTAMP:20260422T202531Z
DTSTART;VALUE=DATE:20260403
DTEND;VALUE=DATE:20260407
X-MICROSOFT-CDO-ALLDAYEVENT:TRUE
X-MICROSOFT-MSNCALENDAR-ALLDAYEVENT:TRUE
SUMMARY:Spring Break
DESCRIPTION:Spring Break - No school
STATUS:CONFIRMED
END:VEVENT
BEGIN:VEVENT
UID:0a999a3a-0749-4913-ad18-c6789bcc494f
SEQUENCE:0
DTSTAMP:20260422T202531Z
DTSTART;VALUE=DATE:20250901
X-MICROSOFT-CDO-ALLDAYEVENT:TRUE
X-MICROSOFT-MSNCALENDAR-ALLDAYEVENT:TRUE
SUMMARY:Labor Day
DESCRIPTION:Labor Day - No school
STATUS:CONFIRMED
END:VEVENT
BEGIN:VEVENT
UID:938b57b2-2809-4f21-a517-8e9fe2995a14
SEQUENCE:0
DTSTAMP:20260422T202531Z
DTSTART;VALUE=DATE:20251017
X-MICROSOFT-CDO-ALLDAYEVENT:TRUE
X-MICROSOFT-MSNCALENDAR-ALLDAYEVENT:TRUE
SUMMARY:No School Staff Reports
DESCRIPTION:No School Staff Reports - No school
STATUS:CONFIRMED
END:VEVENT
BEGIN:VEVENT
UID:7aa04bb0-e769-4e96-b3f3-c53709622110
SEQUENCE:0
DTSTAMP:20260422T202531Z
DTSTART;VALUE=DATE:20251024
X-MICROSOFT-CDO-ALLDAYEVENT:TRUE
X-MICROSOFT-MSNCALENDAR-ALLDAYEVENT:TRUE
SUMMARY:No School
DESCRIPTION:No School - No school
STATUS:CONFIRMED
END:VEVENT
BEGIN:VEVENT
UID:81db1227-6f1e-4edd-96e4-4bf08ddf614f
SEQUENCE:0
DTSTAMP:20260422T202531Z
DTSTART;VALUE=DATE:20251110
X-MICROSOFT-CDO-ALLDAYEVENT:TRUE
X-MICROSOFT-MSNCALENDAR-ALLDAYEVENT:TRUE
SUMMARY:No School Staff Reports
DESCRIPTION:No School Staff Reports - No school
STATUS:CONFIRMED
END:VEVENT
BEGIN:VEVENT
UID:77a4ff18-6b65-4eb7-8cf2-0d6c860b0ce3
SEQUENCE:0
DTSTAMP:20260422T202531Z
DTSTART;VALUE=DATE:20260105
X-MICROSOFT-CDO-ALLDAYEVENT:TRUE
X-MICROSOFT-MSNCALENDAR-ALLDAYEVENT:TRUE
SUMMARY:No School Staff Reports
DESCRIPTION:No School Staff Reports - No school
STATUS:CONFIRMED
END:VEVENT
BEGIN:VEVENT
UID:b1718861-872e-4c4f-ad94-c0e593ed3da8
SEQUENCE:0
DTSTAMP:20260422T202531Z
DTSTART;VALUE=DATE:20260302
X-MICROSOFT-CDO-ALLDAYEVENT:TRUE
X-MICROSOFT-MSNCALENDAR-ALLDAYEVENT:TRUE
SUMMARY:No School
DESCRIPTION:No School - No school
STATUS:CONFIRMED
END:VEVENT
BEGIN:VEVENT
UID:4c3401e8-53eb-4ba7-8083-44bd2be066b8
SEQUENCE:0
DTSTAMP:20260422T202531Z
DTSTART;VALUE=DATE:20260303
X-MICROSOFT-CDO-ALLDAYEVENT:TRUE
X-MICROSOFT-MSNCALENDAR-ALLDAYEVENT:TRUE
SUMMARY:No School
DESCRIPTION:No School - No school
STATUS:CONFIRMED
END:VEVENT
BEGIN:VEVENT
UID:3e1ca497-eb64-43b6-b886-4a503117dd24
SEQUENCE:0
DTSTAMP:20260422T202531Z
DTSTART;VALUE=DATE:20260306
X-MICROSOFT-CDO-ALLDAYEVENT:TRUE
X-MICROSOFT-MSNCALENDAR-ALLDAYEVENT:TRUE
SUMMARY:No School Spring Break
DESCRIPTION:No School Spring Break - No school
STATUS:CONFIRMED
END:VEVENT
BEGIN:VEVENT
UID:8a53d41e-192c-4afa-afbe-2238faf6eec4
SEQUENCE:0
DTSTAMP:20260422T202531Z
DTSTART;VALUE=DATE:20260313
X-MICROSOFT-CDO-ALLDAYEVENT:TRUE
X-MICROSOFT-MSNCALENDAR-ALLDAYEVENT:TRUE
SUMMARY:No School Staff Reports
DESCRIPTION:No School Staff Reports - No school
STATUS:CONFIRMED
END:VEVENT
BEGIN:VEVENT
UID:a2ca168e-29d3-4494-bba7-7b176285f255
SEQUENCE:0
DTSTAMP:20260422T202531Z
DTSTART;VALUE=DATE:20260424
X-MICROSOFT-CDO-ALLDAYEVENT:TRUE
X-MICROSOFT-MSNCALENDAR-ALLDAYEVENT:TRUE
SUMMARY:No School Staff Reports
DESCRIPTION:No School Staff Reports - No school
STATUS:CONFIRMED
END:VEVENT
END:VCALENDAR