BEGIN:VCALENDAR
VERSION:2.0
PRODID:-//SchoolCalendarAPI//school-calendar//EN
URL:https://api.schools-calendar.com/calendar?district_id=ne-loup-county-p
 ublic-schools&year=2025-26
NAME:Loup County Public Schools School Calendar 2025-26
X-WR-CALNAME:Loup County Public Schools School Calendar 2025-26
X-WR-CALDESC:Official school calendar for Loup County Public Schools for t
 he 2025-26 school year.
REFRESH-INTERVAL;VALUE=DURATION:P1D
X-PUBLISHED-TTL:P1D
BEGIN:VEVENT
UID:adee1c71-2556-4d0c-92dd-2a2e9f087c7b
SEQUENCE:0
DTSTAMP:20260422T203647Z
DTSTART;VALUE=DATE:20250814
X-MICROSOFT-CDO-ALLDAYEVENT:TRUE
X-MICROSOFT-MSNCALENDAR-ALLDAYEVENT:TRUE
SUMMARY:First Day of School
DESCRIPTION:First day of the 2025-26 school year
STATUS:CONFIRMED
END:VEVENT
BEGIN:VEVENT
UID:709c259c-cf74-4534-bdfb-5a798585d6cc
SEQUENCE:0
DTSTAMP:20260422T203647Z
DTSTART;VALUE=DATE:20260515
X-MICROSOFT-CDO-ALLDAYEVENT:TRUE
X-MICROSOFT-MSNCALENDAR-ALLDAYEVENT:TRUE
SUMMARY:Last Day of School
DESCRIPTION:Last day of the 2025-26 school year
STATUS:CONFIRMED
END:VEVENT
BEGIN:VEVENT
UID:14e09cd6-0122-4323-9b62-9df8d3f0eaf3
SEQUENCE:0
DTSTAMP:20260422T203647Z
DTSTART;VALUE=DATE:20251127
DTEND;VALUE=DATE:20251129
X-MICROSOFT-CDO-ALLDAYEVENT:TRUE
X-MICROSOFT-MSNCALENDAR-ALLDAYEVENT:TRUE
SUMMARY:Thanksgiving Holiday
DESCRIPTION:Thanksgiving Holiday - No school
STATUS:CONFIRMED
END:VEVENT
BEGIN:VEVENT
UID:36d5a30f-bfcc-46b8-9e6a-a3aa3b2153af
SEQUENCE:0
DTSTAMP:20260422T203647Z
DTSTART;VALUE=DATE:20260323
DTEND;VALUE=DATE:20260401
X-MICROSOFT-CDO-ALLDAYEVENT:TRUE
X-MICROSOFT-MSNCALENDAR-ALLDAYEVENT:TRUE
SUMMARY:Holiday Break
DESCRIPTION:Holiday Break - No school
STATUS:CONFIRMED
END:VEVENT
BEGIN:VEVENT
UID:0aee03c3-d8f0-4235-8c8b-71796786a3dc
SEQUENCE:0
DTSTAMP:20260422T203647Z
DTSTART;VALUE=DATE:20250901
X-MICROSOFT-CDO-ALLDAYEVENT:TRUE
X-MICROSOFT-MSNCALENDAR-ALLDAYEVENT:TRUE
SUMMARY:Labor Day
DESCRIPTION:Labor Day - No school
STATUS:CONFIRMED
END:VEVENT
BEGIN:VEVENT
UID:a9aa4810-5720-400a-a8d6-2e6c543e0576
SEQUENCE:0
DTSTAMP:20260422T203647Z
DTSTART;VALUE=DATE:20251003
X-MICROSOFT-CDO-ALLDAYEVENT:TRUE
X-MICROSOFT-MSNCALENDAR-ALLDAYEVENT:TRUE
SUMMARY:Teacher Professional Development
DESCRIPTION:Teacher Professional Development - No school
STATUS:CONFIRMED
END:VEVENT
BEGIN:VEVENT
UID:39f0d408-530b-422b-9705-e1eddaf10813
SEQUENCE:0
DTSTAMP:20260422T203647Z
DTSTART;VALUE=DATE:20251111
X-MICROSOFT-CDO-ALLDAYEVENT:TRUE
X-MICROSOFT-MSNCALENDAR-ALLDAYEVENT:TRUE
SUMMARY:Teacher Inservice
DESCRIPTION:Teacher Inservice - No school
STATUS:CONFIRMED
END:VEVENT
BEGIN:VEVENT
UID:00220db1-4b03-4e63-9cae-ab30d00b56b7
SEQUENCE:0
DTSTAMP:20260422T203647Z
DTSTART;VALUE=DATE:20251112
X-MICROSOFT-CDO-ALLDAYEVENT:TRUE
X-MICROSOFT-MSNCALENDAR-ALLDAYEVENT:TRUE
SUMMARY:Teacher Inservice
DESCRIPTION:Teacher Inservice - No school
STATUS:CONFIRMED
END:VEVENT
BEGIN:VEVENT
UID:62bd5066-14ea-43ad-baba-b8c2a27b4b57
SEQUENCE:0
DTSTAMP:20260422T203647Z
DTSTART;VALUE=DATE:20251113
X-MICROSOFT-CDO-ALLDAYEVENT:TRUE
X-MICROSOFT-MSNCALENDAR-ALLDAYEVENT:TRUE
SUMMARY:Teacher Inservice
DESCRIPTION:Teacher Inservice - No school
STATUS:CONFIRMED
END:VEVENT
BEGIN:VEVENT
UID:0c89eea3-7852-4bfb-95ea-560217b7d505
SEQUENCE:0
DTSTAMP:20260422T203647Z
DTSTART;VALUE=DATE:20251206
X-MICROSOFT-CDO-ALLDAYEVENT:TRUE
X-MICROSOFT-MSNCALENDAR-ALLDAYEVENT:TRUE
SUMMARY:Teacher Professional Development
DESCRIPTION:Teacher Professional Development - No school
STATUS:CONFIRMED
END:VEVENT
BEGIN:VEVENT
UID:f4d565fc-dbb8-487f-bb07-bec81761b1cd
SEQUENCE:0
DTSTAMP:20260422T203647Z
DTSTART;VALUE=DATE:20260105
X-MICROSOFT-CDO-ALLDAYEVENT:TRUE
X-MICROSOFT-MSNCALENDAR-ALLDAYEVENT:TRUE
SUMMARY:Teacher Professional Development
DESCRIPTION:Teacher Professional Development - No school
STATUS:CONFIRMED
END:VEVENT
BEGIN:VEVENT
UID:0fa0b4a9-1720-4203-9b3d-cdd1bc2dc575
SEQUENCE:0
DTSTAMP:20260422T203647Z
DTSTART;VALUE=DATE:20260119
X-MICROSOFT-CDO-ALLDAYEVENT:TRUE
X-MICROSOFT-MSNCALENDAR-ALLDAYEVENT:TRUE
SUMMARY:Teacher Professional Development
DESCRIPTION:Teacher Professional Development - No school
STATUS:CONFIRMED
END:VEVENT
BEGIN:VEVENT
UID:77d3778c-4a9c-4234-8575-b0c7fd8ad6b7
SEQUENCE:0
DTSTAMP:20260422T203647Z
DTSTART;VALUE=DATE:20260206
X-MICROSOFT-CDO-ALLDAYEVENT:TRUE
X-MICROSOFT-MSNCALENDAR-ALLDAYEVENT:TRUE
SUMMARY:Teacher Professional Development
DESCRIPTION:Teacher Professional Development - No school
STATUS:CONFIRMED
END:VEVENT
BEGIN:VEVENT
UID:0eaa51de-089b-4e0c-af96-f22d14006bec
SEQUENCE:0
DTSTAMP:20260422T203647Z
DTSTART;VALUE=DATE:20260213
X-MICROSOFT-CDO-ALLDAYEVENT:TRUE
X-MICROSOFT-MSNCALENDAR-ALLDAYEVENT:TRUE
SUMMARY:Teacher Professional Development
DESCRIPTION:Teacher Professional Development - No school
STATUS:CONFIRMED
END:VEVENT
BEGIN:VEVENT
UID:e1f0b3b2-f3f5-4d62-9fd4-d97f44150968
SEQUENCE:0
DTSTAMP:20260422T203647Z
DTSTART;VALUE=DATE:20260226
X-MICROSOFT-CDO-ALLDAYEVENT:TRUE
X-MICROSOFT-MSNCALENDAR-ALLDAYEVENT:TRUE
SUMMARY:Teacher Professional Development
DESCRIPTION:Teacher Professional Development - No school
STATUS:CONFIRMED
END:VEVENT
BEGIN:VEVENT
UID:8adb3424-394b-4257-8087-7ead2295b0b4
SEQUENCE:0
DTSTAMP:20260422T203647Z
DTSTART;VALUE=DATE:20260403
X-MICROSOFT-CDO-ALLDAYEVENT:TRUE
X-MICROSOFT-MSNCALENDAR-ALLDAYEVENT:TRUE
SUMMARY:Easter
DESCRIPTION:Easter - No school
STATUS:CONFIRMED
END:VEVENT
BEGIN:VEVENT
UID:4f782631-9de1-4623-8f41-02a64897469f
SEQUENCE:0
DTSTAMP:20260422T203647Z
DTSTART;VALUE=DATE:20260405
X-MICROSOFT-CDO-ALLDAYEVENT:TRUE
X-MICROSOFT-MSNCALENDAR-ALLDAYEVENT:TRUE
SUMMARY:Easter
DESCRIPTION:Easter - No school
STATUS:CONFIRMED
END:VEVENT
BEGIN:VEVENT
UID:18d94b3a-6c19-4e6c-98b1-6a6256777dc9
SEQUENCE:0
DTSTAMP:20260422T203647Z
DTSTART;VALUE=DATE:20260406
X-MICROSOFT-CDO-ALLDAYEVENT:TRUE
X-MICROSOFT-MSNCALENDAR-ALLDAYEVENT:TRUE
SUMMARY:No School
DESCRIPTION:No School - No school
STATUS:CONFIRMED
END:VEVENT
BEGIN:VEVENT
UID:f9522011-bb4a-40f4-912b-a6553fcb4af3
SEQUENCE:0
DTSTAMP:20260422T203647Z
DTSTART;VALUE=DATE:20260525
X-MICROSOFT-CDO-ALLDAYEVENT:TRUE
X-MICROSOFT-MSNCALENDAR-ALLDAYEVENT:TRUE
SUMMARY:Memorial Day
DESCRIPTION:Memorial Day - No school
STATUS:CONFIRMED
END:VEVENT
END:VCALENDAR