BEGIN:VCALENDAR
VERSION:2.0
PRODID:-//SchoolCalendarAPI//school-calendar//EN
URL:https://api.schools-calendar.com/calendar?district_id=ne-lyons-decatur
 -northeast-schools&year=2025-26
NAME:Lyons-Decatur Northeast Schools School Calendar 2025-26
X-WR-CALNAME:Lyons-Decatur Northeast Schools School Calendar 2025-26
X-WR-CALDESC:Official school calendar for Lyons-Decatur Northeast Schools 
 for the 2025-26 school year.
REFRESH-INTERVAL;VALUE=DURATION:P1D
X-PUBLISHED-TTL:P1D
BEGIN:VEVENT
UID:863a62b0-f36d-460c-9fed-17403d664c0b
SEQUENCE:0
DTSTAMP:20260422T202429Z
DTSTART;VALUE=DATE:20250814
X-MICROSOFT-CDO-ALLDAYEVENT:TRUE
X-MICROSOFT-MSNCALENDAR-ALLDAYEVENT:TRUE
SUMMARY:First Day of School
DESCRIPTION:First day of the 2025-26 school year
STATUS:CONFIRMED
END:VEVENT
BEGIN:VEVENT
UID:14635780-e5e7-4849-b0d0-ed77d6f2d26c
SEQUENCE:0
DTSTAMP:20260422T202429Z
DTSTART;VALUE=DATE:20260519
X-MICROSOFT-CDO-ALLDAYEVENT:TRUE
X-MICROSOFT-MSNCALENDAR-ALLDAYEVENT:TRUE
SUMMARY:Last Day of School
DESCRIPTION:Last day of the 2025-26 school year
STATUS:CONFIRMED
END:VEVENT
BEGIN:VEVENT
UID:34feba35-8ce5-4131-b267-5947a16d605d
SEQUENCE:0
DTSTAMP:20260422T202429Z
DTSTART;VALUE=DATE:20251127
DTEND;VALUE=DATE:20251129
X-MICROSOFT-CDO-ALLDAYEVENT:TRUE
X-MICROSOFT-MSNCALENDAR-ALLDAYEVENT:TRUE
SUMMARY:Thanksgiving Break
DESCRIPTION:Thanksgiving Break - No school
STATUS:CONFIRMED
END:VEVENT
BEGIN:VEVENT
UID:89ca97fb-ee16-42c5-bbac-55d50536fc20
SEQUENCE:0
DTSTAMP:20260422T202429Z
DTSTART;VALUE=DATE:20251222
DTEND;VALUE=DATE:20260106
X-MICROSOFT-CDO-ALLDAYEVENT:TRUE
X-MICROSOFT-MSNCALENDAR-ALLDAYEVENT:TRUE
SUMMARY:Winter Break
DESCRIPTION:Winter Break - No school
STATUS:CONFIRMED
END:VEVENT
BEGIN:VEVENT
UID:b4ef1f7d-4720-4a4c-8ed6-e33a0b0a2911
SEQUENCE:0
DTSTAMP:20260422T202429Z
DTSTART;VALUE=DATE:20250901
X-MICROSOFT-CDO-ALLDAYEVENT:TRUE
X-MICROSOFT-MSNCALENDAR-ALLDAYEVENT:TRUE
SUMMARY:Labor Day
DESCRIPTION:Labor Day - No school
STATUS:CONFIRMED
END:VEVENT
BEGIN:VEVENT
UID:9fc2f64a-922e-4a7a-a13a-f4d560b7e194
SEQUENCE:0
DTSTAMP:20260422T202429Z
DTSTART;VALUE=DATE:20251127
X-MICROSOFT-CDO-ALLDAYEVENT:TRUE
X-MICROSOFT-MSNCALENDAR-ALLDAYEVENT:TRUE
SUMMARY:Thanksgiving Day
DESCRIPTION:Thanksgiving Day - No school
STATUS:CONFIRMED
END:VEVENT
BEGIN:VEVENT
UID:2ab6effe-e329-4a78-af51-03cef9da291d
SEQUENCE:0
DTSTAMP:20260422T202429Z
DTSTART;VALUE=DATE:20251128
X-MICROSOFT-CDO-ALLDAYEVENT:TRUE
X-MICROSOFT-MSNCALENDAR-ALLDAYEVENT:TRUE
SUMMARY:Day after Thanksgiving
DESCRIPTION:Day after Thanksgiving - No school
STATUS:CONFIRMED
END:VEVENT
BEGIN:VEVENT
UID:89708e7c-33b1-4912-805e-f21ffb288267
SEQUENCE:0
DTSTAMP:20260422T202429Z
DTSTART;VALUE=DATE:20251224
X-MICROSOFT-CDO-ALLDAYEVENT:TRUE
X-MICROSOFT-MSNCALENDAR-ALLDAYEVENT:TRUE
SUMMARY:Christmas Break Day
DESCRIPTION:Christmas Break Day - No school
STATUS:CONFIRMED
END:VEVENT
BEGIN:VEVENT
UID:b1fdb06d-997f-4297-9dd3-82dcaed6275b
SEQUENCE:0
DTSTAMP:20260422T202429Z
DTSTART;VALUE=DATE:20251225
X-MICROSOFT-CDO-ALLDAYEVENT:TRUE
X-MICROSOFT-MSNCALENDAR-ALLDAYEVENT:TRUE
SUMMARY:Christmas Break Day
DESCRIPTION:Christmas Break Day - No school
STATUS:CONFIRMED
END:VEVENT
BEGIN:VEVENT
UID:bbb6b4b8-38a1-4976-b8f4-fceffd7afa8a
SEQUENCE:0
DTSTAMP:20260422T202429Z
DTSTART;VALUE=DATE:20251226
X-MICROSOFT-CDO-ALLDAYEVENT:TRUE
X-MICROSOFT-MSNCALENDAR-ALLDAYEVENT:TRUE
SUMMARY:Christmas Break Day
DESCRIPTION:Christmas Break Day - No school
STATUS:CONFIRMED
END:VEVENT
BEGIN:VEVENT
UID:50843462-4cc7-4c3b-b97a-6293abf1e91e
SEQUENCE:0
DTSTAMP:20260422T202429Z
DTSTART;VALUE=DATE:20251227
X-MICROSOFT-CDO-ALLDAYEVENT:TRUE
X-MICROSOFT-MSNCALENDAR-ALLDAYEVENT:TRUE
SUMMARY:Christmas Break Day
DESCRIPTION:Christmas Break Day - No school
STATUS:CONFIRMED
END:VEVENT
BEGIN:VEVENT
UID:d2352442-c7bb-41cc-bb3a-446bf35ebb0d
SEQUENCE:0
DTSTAMP:20260422T202429Z
DTSTART;VALUE=DATE:20251228
X-MICROSOFT-CDO-ALLDAYEVENT:TRUE
X-MICROSOFT-MSNCALENDAR-ALLDAYEVENT:TRUE
SUMMARY:Christmas Break Day
DESCRIPTION:Christmas Break Day - No school
STATUS:CONFIRMED
END:VEVENT
BEGIN:VEVENT
UID:755365d6-8f3c-4d73-90de-135ba2b2f08a
SEQUENCE:0
DTSTAMP:20260422T202429Z
DTSTART;VALUE=DATE:20251229
X-MICROSOFT-CDO-ALLDAYEVENT:TRUE
X-MICROSOFT-MSNCALENDAR-ALLDAYEVENT:TRUE
SUMMARY:Christmas Break Day
DESCRIPTION:Christmas Break Day - No school
STATUS:CONFIRMED
END:VEVENT
BEGIN:VEVENT
UID:89307430-203c-4ac8-bc34-b8f0ba3fa660
SEQUENCE:0
DTSTAMP:20260422T202429Z
DTSTART;VALUE=DATE:20251230
X-MICROSOFT-CDO-ALLDAYEVENT:TRUE
X-MICROSOFT-MSNCALENDAR-ALLDAYEVENT:TRUE
SUMMARY:Christmas Break Day
DESCRIPTION:Christmas Break Day - No school
STATUS:CONFIRMED
END:VEVENT
BEGIN:VEVENT
UID:5031fdf6-fac6-443d-9dc7-62abfd55c2c4
SEQUENCE:0
DTSTAMP:20260422T202429Z
DTSTART;VALUE=DATE:20251231
X-MICROSOFT-CDO-ALLDAYEVENT:TRUE
X-MICROSOFT-MSNCALENDAR-ALLDAYEVENT:TRUE
SUMMARY:Christmas Break Day
DESCRIPTION:Christmas Break Day - No school
STATUS:CONFIRMED
END:VEVENT
BEGIN:VEVENT
UID:f656877b-4870-4b25-a9a2-9f4a0335c5cd
SEQUENCE:0
DTSTAMP:20260422T202429Z
DTSTART;VALUE=DATE:20260101
X-MICROSOFT-CDO-ALLDAYEVENT:TRUE
X-MICROSOFT-MSNCALENDAR-ALLDAYEVENT:TRUE
SUMMARY:New Year's Day
DESCRIPTION:New Year's Day - No school
STATUS:CONFIRMED
END:VEVENT
BEGIN:VEVENT
UID:7428da4b-f3c7-4ab1-be2c-06d0e66431d7
SEQUENCE:0
DTSTAMP:20260422T202429Z
DTSTART;VALUE=DATE:20260102
X-MICROSOFT-CDO-ALLDAYEVENT:TRUE
X-MICROSOFT-MSNCALENDAR-ALLDAYEVENT:TRUE
SUMMARY:Christmas Break Day
DESCRIPTION:Christmas Break Day - No school
STATUS:CONFIRMED
END:VEVENT
BEGIN:VEVENT
UID:1920f1fb-a5b2-45dd-82d7-c0f2215cf97c
SEQUENCE:0
DTSTAMP:20260422T202429Z
DTSTART;VALUE=DATE:20260103
X-MICROSOFT-CDO-ALLDAYEVENT:TRUE
X-MICROSOFT-MSNCALENDAR-ALLDAYEVENT:TRUE
SUMMARY:Christmas Break Day
DESCRIPTION:Christmas Break Day - No school
STATUS:CONFIRMED
END:VEVENT
BEGIN:VEVENT
UID:84dc3d57-637f-4cb4-91ba-9fae02941b80
SEQUENCE:0
DTSTAMP:20260422T202429Z
DTSTART;VALUE=DATE:20260104
X-MICROSOFT-CDO-ALLDAYEVENT:TRUE
X-MICROSOFT-MSNCALENDAR-ALLDAYEVENT:TRUE
SUMMARY:Christmas Break Day
DESCRIPTION:Christmas Break Day - No school
STATUS:CONFIRMED
END:VEVENT
BEGIN:VEVENT
UID:54749f09-f7cc-44e0-8da3-d3c8bc767ac9
SEQUENCE:0
DTSTAMP:20260422T202429Z
DTSTART;VALUE=DATE:20260105
X-MICROSOFT-CDO-ALLDAYEVENT:TRUE
X-MICROSOFT-MSNCALENDAR-ALLDAYEVENT:TRUE
SUMMARY:Christmas Break Day
DESCRIPTION:Christmas Break Day - No school
STATUS:CONFIRMED
END:VEVENT
END:VCALENDAR