BEGIN:VCALENDAR
VERSION:2.0
PRODID:-//SchoolCalendarAPI//school-calendar//EN
URL:https://api.schools-calendar.com/calendar?district_id=ne-niobrara-publ
 ic-schools&year=2025-26
NAME:Niobrara Public Schools School Calendar 2025-26
X-WR-CALNAME:Niobrara Public Schools School Calendar 2025-26
X-WR-CALDESC:Official school calendar for Niobrara Public Schools for the 
 2025-26 school year.
REFRESH-INTERVAL;VALUE=DURATION:P1D
X-PUBLISHED-TTL:P1D
BEGIN:VEVENT
UID:7f271787-3544-4f38-afc7-eba275fcc240
SEQUENCE:0
DTSTAMP:20260422T203709Z
DTSTART;VALUE=DATE:20250820
X-MICROSOFT-CDO-ALLDAYEVENT:TRUE
X-MICROSOFT-MSNCALENDAR-ALLDAYEVENT:TRUE
SUMMARY:First Day of School
DESCRIPTION:First day of the 2025-26 school year
STATUS:CONFIRMED
END:VEVENT
BEGIN:VEVENT
UID:63d2c68e-e074-4753-8449-ccbc240f9949
SEQUENCE:0
DTSTAMP:20260422T203709Z
DTSTART;VALUE=DATE:20260521
X-MICROSOFT-CDO-ALLDAYEVENT:TRUE
X-MICROSOFT-MSNCALENDAR-ALLDAYEVENT:TRUE
SUMMARY:Last Day of School
DESCRIPTION:Last day of the 2025-26 school year
STATUS:CONFIRMED
END:VEVENT
BEGIN:VEVENT
UID:fa9f33ef-f9b5-469f-8cb4-1441b61c2f63
SEQUENCE:0
DTSTAMP:20260422T203709Z
DTSTART;VALUE=DATE:20251012
DTEND;VALUE=DATE:20251013
X-MICROSOFT-CDO-ALLDAYEVENT:TRUE
X-MICROSOFT-MSNCALENDAR-ALLDAYEVENT:TRUE
SUMMARY:Fall Break
DESCRIPTION:Fall Break - No school
STATUS:CONFIRMED
END:VEVENT
BEGIN:VEVENT
UID:6df9aa3c-6042-4812-80e6-d5f59853e66e
SEQUENCE:0
DTSTAMP:20260422T203709Z
DTSTART;VALUE=DATE:20251126
DTEND;VALUE=DATE:20251128
X-MICROSOFT-CDO-ALLDAYEVENT:TRUE
X-MICROSOFT-MSNCALENDAR-ALLDAYEVENT:TRUE
SUMMARY:Thanksgiving Vacation
DESCRIPTION:Thanksgiving Vacation - No school
STATUS:CONFIRMED
END:VEVENT
BEGIN:VEVENT
UID:36c7bdcb-e227-4e00-b449-0b396ca351c7
SEQUENCE:0
DTSTAMP:20260422T203709Z
DTSTART;VALUE=DATE:20251223
DTEND;VALUE=DATE:20260104
X-MICROSOFT-CDO-ALLDAYEVENT:TRUE
X-MICROSOFT-MSNCALENDAR-ALLDAYEVENT:TRUE
SUMMARY:Winter Break
DESCRIPTION:Winter Break - No school
STATUS:CONFIRMED
END:VEVENT
BEGIN:VEVENT
UID:00142adb-b22e-4ce2-991c-05d2b7a7e3f0
SEQUENCE:0
DTSTAMP:20260422T203709Z
DTSTART;VALUE=DATE:20260402
DTEND;VALUE=DATE:20260406
X-MICROSOFT-CDO-ALLDAYEVENT:TRUE
X-MICROSOFT-MSNCALENDAR-ALLDAYEVENT:TRUE
SUMMARY:Spring Break
DESCRIPTION:Spring Break - No school
STATUS:CONFIRMED
END:VEVENT
BEGIN:VEVENT
UID:cbea82fb-1dce-4551-a157-b046de32eff2
SEQUENCE:0
DTSTAMP:20260422T203709Z
DTSTART;VALUE=DATE:20250907
X-MICROSOFT-CDO-ALLDAYEVENT:TRUE
X-MICROSOFT-MSNCALENDAR-ALLDAYEVENT:TRUE
SUMMARY:Labor Day
DESCRIPTION:Labor Day - No school
STATUS:CONFIRMED
END:VEVENT
BEGIN:VEVENT
UID:fe6e6738-1f61-44a4-b5ff-25c3302d6df8
SEQUENCE:0
DTSTAMP:20260422T203709Z
DTSTART;VALUE=DATE:20260118
X-MICROSOFT-CDO-ALLDAYEVENT:TRUE
X-MICROSOFT-MSNCALENDAR-ALLDAYEVENT:TRUE
SUMMARY:No School
DESCRIPTION:No School - No school
STATUS:CONFIRMED
END:VEVENT
BEGIN:VEVENT
UID:e37c7702-69a0-4376-be2a-5479b2454631
SEQUENCE:0
DTSTAMP:20260422T203709Z
DTSTART;VALUE=DATE:20260215
X-MICROSOFT-CDO-ALLDAYEVENT:TRUE
X-MICROSOFT-MSNCALENDAR-ALLDAYEVENT:TRUE
SUMMARY:No School
DESCRIPTION:No School - No school
STATUS:CONFIRMED
END:VEVENT
BEGIN:VEVENT
UID:7dd17e35-115d-4978-9709-def636edca05
SEQUENCE:0
DTSTAMP:20260422T203709Z
DTSTART;VALUE=DATE:20260305
X-MICROSOFT-CDO-ALLDAYEVENT:TRUE
X-MICROSOFT-MSNCALENDAR-ALLDAYEVENT:TRUE
SUMMARY:No School
DESCRIPTION:No School - No school
STATUS:CONFIRMED
END:VEVENT
BEGIN:VEVENT
UID:91b260d8-769b-49c2-8f2a-5ce8bbd93b2b
SEQUENCE:0
DTSTAMP:20260422T203709Z
DTSTART;VALUE=DATE:20260312
X-MICROSOFT-CDO-ALLDAYEVENT:TRUE
X-MICROSOFT-MSNCALENDAR-ALLDAYEVENT:TRUE
SUMMARY:No School
DESCRIPTION:No School - No school
STATUS:CONFIRMED
END:VEVENT
BEGIN:VEVENT
UID:a1931a6a-be98-45e3-91d1-f56bf31ce7a5
SEQUENCE:0
DTSTAMP:20260422T203709Z
DTSTART;VALUE=DATE:20260531
X-MICROSOFT-CDO-ALLDAYEVENT:TRUE
X-MICROSOFT-MSNCALENDAR-ALLDAYEVENT:TRUE
SUMMARY:Memorial Day
DESCRIPTION:Memorial Day - No school
STATUS:CONFIRMED
END:VEVENT
END:VCALENDAR