BEGIN:VCALENDAR
VERSION:2.0
PRODID:-//SchoolCalendarAPI//school-calendar//EN
URL:https://api.schools-calendar.com/calendar?district_id=ne-north-bend-ce
 ntral-public-schools&year=2025-26
NAME:North Bend Central Public Schools School Calendar 2025-26
X-WR-CALNAME:North Bend Central Public Schools School Calendar 2025-26
X-WR-CALDESC:Official school calendar for North Bend Central Public School
 s for the 2025-26 school year.
REFRESH-INTERVAL;VALUE=DURATION:P1D
X-PUBLISHED-TTL:P1D
BEGIN:VEVENT
UID:e8aee733-de26-4e13-a16f-f6de43b31c15
SEQUENCE:0
DTSTAMP:20260422T201701Z
DTSTART;VALUE=DATE:20250812
X-MICROSOFT-CDO-ALLDAYEVENT:TRUE
X-MICROSOFT-MSNCALENDAR-ALLDAYEVENT:TRUE
SUMMARY:First Day of School
DESCRIPTION:First day of the 2025-26 school year
STATUS:CONFIRMED
END:VEVENT
BEGIN:VEVENT
UID:7e6cbcb7-31ef-4e7b-abf0-301ffc7a8fd7
SEQUENCE:0
DTSTAMP:20260422T201701Z
DTSTART;VALUE=DATE:20260519
X-MICROSOFT-CDO-ALLDAYEVENT:TRUE
X-MICROSOFT-MSNCALENDAR-ALLDAYEVENT:TRUE
SUMMARY:Last Day of School
DESCRIPTION:Last day of the 2025-26 school year
STATUS:CONFIRMED
END:VEVENT
BEGIN:VEVENT
UID:ea8fb584-d690-4800-99f8-4836c70087fe
SEQUENCE:0
DTSTAMP:20260422T201701Z
DTSTART;VALUE=DATE:20251031
DTEND;VALUE=DATE:20251102
X-MICROSOFT-CDO-ALLDAYEVENT:TRUE
X-MICROSOFT-MSNCALENDAR-ALLDAYEVENT:TRUE
SUMMARY:Fall Break
DESCRIPTION:Fall Break - No school
STATUS:CONFIRMED
END:VEVENT
BEGIN:VEVENT
UID:8c136eb1-0664-4b84-909d-72bf0993bcbe
SEQUENCE:0
DTSTAMP:20260422T201701Z
DTSTART;VALUE=DATE:20251128
DTEND;VALUE=DATE:20251130
X-MICROSOFT-CDO-ALLDAYEVENT:TRUE
X-MICROSOFT-MSNCALENDAR-ALLDAYEVENT:TRUE
SUMMARY:Thanksgiving Break
DESCRIPTION:Thanksgiving Break - No school
STATUS:CONFIRMED
END:VEVENT
BEGIN:VEVENT
UID:f4036618-9ead-44d2-95ad-1b135c60c250
SEQUENCE:0
DTSTAMP:20260422T201701Z
DTSTART;VALUE=DATE:20251223
DTEND;VALUE=DATE:20260104
X-MICROSOFT-CDO-ALLDAYEVENT:TRUE
X-MICROSOFT-MSNCALENDAR-ALLDAYEVENT:TRUE
SUMMARY:Holiday Vacation
DESCRIPTION:Holiday Vacation - No school
STATUS:CONFIRMED
END:VEVENT
BEGIN:VEVENT
UID:cf545b7a-254c-433a-8a54-a922225a1215
SEQUENCE:0
DTSTAMP:20260422T201701Z
DTSTART;VALUE=DATE:20260221
DTEND;VALUE=DATE:20260222
X-MICROSOFT-CDO-ALLDAYEVENT:TRUE
X-MICROSOFT-MSNCALENDAR-ALLDAYEVENT:TRUE
SUMMARY:Winter Break
DESCRIPTION:Winter Break - No school
STATUS:CONFIRMED
END:VEVENT
BEGIN:VEVENT
UID:b6f8fd47-192e-4a04-984f-9958e19b15a7
SEQUENCE:0
DTSTAMP:20260422T201701Z
DTSTART;VALUE=DATE:20260418
DTEND;VALUE=DATE:20260419
X-MICROSOFT-CDO-ALLDAYEVENT:TRUE
X-MICROSOFT-MSNCALENDAR-ALLDAYEVENT:TRUE
SUMMARY:Spring Break
DESCRIPTION:Spring Break - No school
STATUS:CONFIRMED
END:VEVENT
BEGIN:VEVENT
UID:5bf3b980-68d7-4d74-a5e4-c31a1ef31e8c
SEQUENCE:0
DTSTAMP:20260422T201701Z
DTSTART;VALUE=DATE:20250902
X-MICROSOFT-CDO-ALLDAYEVENT:TRUE
X-MICROSOFT-MSNCALENDAR-ALLDAYEVENT:TRUE
SUMMARY:Labor Day
DESCRIPTION:Labor Day - No school
STATUS:CONFIRMED
END:VEVENT
BEGIN:VEVENT
UID:e1ebc7c0-f56b-40c1-a7ac-86dc206526eb
SEQUENCE:0
DTSTAMP:20260422T201701Z
DTSTART;VALUE=DATE:20250923
X-MICROSOFT-CDO-ALLDAYEVENT:TRUE
X-MICROSOFT-MSNCALENDAR-ALLDAYEVENT:TRUE
SUMMARY:Teacher Inservice (No Students)
DESCRIPTION:Teacher Inservice (No Students) - No school
STATUS:CONFIRMED
END:VEVENT
BEGIN:VEVENT
UID:aaa23f00-3022-410d-8418-101fb6b07057
SEQUENCE:0
DTSTAMP:20260422T201701Z
DTSTART;VALUE=DATE:20251030
X-MICROSOFT-CDO-ALLDAYEVENT:TRUE
X-MICROSOFT-MSNCALENDAR-ALLDAYEVENT:TRUE
SUMMARY:Teacher Inservice (No Students)
DESCRIPTION:Teacher Inservice (No Students) - No school
STATUS:CONFIRMED
END:VEVENT
BEGIN:VEVENT
UID:9544650b-0a45-43cf-b60f-df3902988a4e
SEQUENCE:0
DTSTAMP:20260422T201701Z
DTSTART;VALUE=DATE:20260106
X-MICROSOFT-CDO-ALLDAYEVENT:TRUE
X-MICROSOFT-MSNCALENDAR-ALLDAYEVENT:TRUE
SUMMARY:Teacher Inservice (No Students)
DESCRIPTION:Teacher Inservice (No Students) - No school
STATUS:CONFIRMED
END:VEVENT
BEGIN:VEVENT
UID:e15acf66-8bb1-4c09-9fc9-bf48bcef6acd
SEQUENCE:0
DTSTAMP:20260422T201701Z
DTSTART;VALUE=DATE:20260224
X-MICROSOFT-CDO-ALLDAYEVENT:TRUE
X-MICROSOFT-MSNCALENDAR-ALLDAYEVENT:TRUE
SUMMARY:Teacher Inservice (No Students)
DESCRIPTION:Teacher Inservice (No Students) - No school
STATUS:CONFIRMED
END:VEVENT
BEGIN:VEVENT
UID:1c03ca44-4ed2-46f9-885a-524a2c84e74c
SEQUENCE:0
DTSTAMP:20260422T201701Z
DTSTART;VALUE=DATE:20260314
X-MICROSOFT-CDO-ALLDAYEVENT:TRUE
X-MICROSOFT-MSNCALENDAR-ALLDAYEVENT:TRUE
SUMMARY:Teacher Inservice (No Students)
DESCRIPTION:Teacher Inservice (No Students) - No school
STATUS:CONFIRMED
END:VEVENT
BEGIN:VEVENT
UID:b36b11e6-e2ab-4b12-bb7a-d0ad084406dc
SEQUENCE:0
DTSTAMP:20260422T201701Z
DTSTART;VALUE=DATE:20260429
X-MICROSOFT-CDO-ALLDAYEVENT:TRUE
X-MICROSOFT-MSNCALENDAR-ALLDAYEVENT:TRUE
SUMMARY:Teacher Inservice (No Students)
DESCRIPTION:Teacher Inservice (No Students) - No school
STATUS:CONFIRMED
END:VEVENT
BEGIN:VEVENT
UID:c2122ee8-2838-4e04-a555-be346c7d0936
SEQUENCE:0
DTSTAMP:20260422T201701Z
DTSTART;VALUE=DATE:20260520
X-MICROSOFT-CDO-ALLDAYEVENT:TRUE
X-MICROSOFT-MSNCALENDAR-ALLDAYEVENT:TRUE
SUMMARY:Staff Workday
DESCRIPTION:Staff Workday - No school
STATUS:CONFIRMED
END:VEVENT
END:VCALENDAR