BEGIN:VCALENDAR
VERSION:2.0
PRODID:-//SchoolCalendarAPI//school-calendar//EN
URL:https://api.schools-calendar.com/calendar?district_id=ne-papillion-la-
 vista-community-schools&year=2025-26
NAME:Papillion-La Vista Community Schools School Calendar 2025-26
X-WR-CALNAME:Papillion-La Vista Community Schools School Calendar 2025-26
X-WR-CALDESC:Official school calendar for Papillion-La Vista Community Sch
 ools for the 2025-26 school year.
REFRESH-INTERVAL;VALUE=DURATION:P1D
X-PUBLISHED-TTL:P1D
BEGIN:VEVENT
UID:f7afa5ff-adc2-4731-b8ff-fd88b9b43e39
SEQUENCE:0
DTSTAMP:20260422T202654Z
DTSTART;VALUE=DATE:20250812
X-MICROSOFT-CDO-ALLDAYEVENT:TRUE
X-MICROSOFT-MSNCALENDAR-ALLDAYEVENT:TRUE
SUMMARY:First Day of School
DESCRIPTION:First day of the 2025-26 school year
STATUS:CONFIRMED
END:VEVENT
BEGIN:VEVENT
UID:d9eb9952-44a2-43fc-84ea-461dc7178c32
SEQUENCE:0
DTSTAMP:20260422T202654Z
DTSTART;VALUE=DATE:20260521
X-MICROSOFT-CDO-ALLDAYEVENT:TRUE
X-MICROSOFT-MSNCALENDAR-ALLDAYEVENT:TRUE
SUMMARY:Last Day of School
DESCRIPTION:Last day of the 2025-26 school year
STATUS:CONFIRMED
END:VEVENT
BEGIN:VEVENT
UID:cc7aa2ce-0ae5-448b-b42b-d45602360844
SEQUENCE:0
DTSTAMP:20260422T202654Z
DTSTART;VALUE=DATE:20251126
DTEND;VALUE=DATE:20251128
X-MICROSOFT-CDO-ALLDAYEVENT:TRUE
X-MICROSOFT-MSNCALENDAR-ALLDAYEVENT:TRUE
SUMMARY:Fall Break
DESCRIPTION:Fall Break - No school
STATUS:CONFIRMED
END:VEVENT
BEGIN:VEVENT
UID:02847273-2bda-4285-97e9-cd8d5be415e2
SEQUENCE:0
DTSTAMP:20260422T202654Z
DTSTART;VALUE=DATE:20251221
DTEND;VALUE=DATE:20260104
X-MICROSOFT-CDO-ALLDAYEVENT:TRUE
X-MICROSOFT-MSNCALENDAR-ALLDAYEVENT:TRUE
SUMMARY:Winter Break
DESCRIPTION:Winter Break - No school
STATUS:CONFIRMED
END:VEVENT
BEGIN:VEVENT
UID:b45f9ed4-d4a0-49a7-acf8-88e435c03252
SEQUENCE:0
DTSTAMP:20260422T202654Z
DTSTART;VALUE=DATE:20260322
DTEND;VALUE=DATE:20260327
X-MICROSOFT-CDO-ALLDAYEVENT:TRUE
X-MICROSOFT-MSNCALENDAR-ALLDAYEVENT:TRUE
SUMMARY:Spring Break
DESCRIPTION:Spring Break - No school
STATUS:CONFIRMED
END:VEVENT
BEGIN:VEVENT
UID:28344a43-98e0-41dd-89d7-fecdb3ff49db
SEQUENCE:0
DTSTAMP:20260422T202654Z
DTSTART;VALUE=DATE:20260522
DTEND;VALUE=DATE:20260812
X-MICROSOFT-CDO-ALLDAYEVENT:TRUE
X-MICROSOFT-MSNCALENDAR-ALLDAYEVENT:TRUE
SUMMARY:Summer Break
DESCRIPTION:Summer Break - No school
STATUS:CONFIRMED
END:VEVENT
BEGIN:VEVENT
UID:ac055529-48ff-4e50-9877-e329daf36b49
SEQUENCE:0
DTSTAMP:20260422T202654Z
DTSTART;VALUE=DATE:20250907
X-MICROSOFT-CDO-ALLDAYEVENT:TRUE
X-MICROSOFT-MSNCALENDAR-ALLDAYEVENT:TRUE
SUMMARY:Labor Day
DESCRIPTION:Labor Day - No school
STATUS:CONFIRMED
END:VEVENT
BEGIN:VEVENT
UID:8221c950-2b4b-46f4-a40d-de116f7e2b7d
SEQUENCE:0
DTSTAMP:20260422T202654Z
DTSTART;VALUE=DATE:20250908
X-MICROSOFT-CDO-ALLDAYEVENT:TRUE
X-MICROSOFT-MSNCALENDAR-ALLDAYEVENT:TRUE
SUMMARY:Staff Development Day
DESCRIPTION:Staff Development Day - No school
STATUS:CONFIRMED
END:VEVENT
BEGIN:VEVENT
UID:7a0da880-e245-426a-a643-616f0d150db3
SEQUENCE:0
DTSTAMP:20260422T202654Z
DTSTART;VALUE=DATE:20251009
X-MICROSOFT-CDO-ALLDAYEVENT:TRUE
X-MICROSOFT-MSNCALENDAR-ALLDAYEVENT:TRUE
SUMMARY:No School Day
DESCRIPTION:No School Day - No school
STATUS:CONFIRMED
END:VEVENT
BEGIN:VEVENT
UID:44d7fa35-ea10-4bc6-b41e-8305a4c1105a
SEQUENCE:0
DTSTAMP:20260422T202654Z
DTSTART;VALUE=DATE:20251012
X-MICROSOFT-CDO-ALLDAYEVENT:TRUE
X-MICROSOFT-MSNCALENDAR-ALLDAYEVENT:TRUE
SUMMARY:Staff Development & Paraprofessional Day
DESCRIPTION:Staff Development & Paraprofessional Day - No school
STATUS:CONFIRMED
END:VEVENT
BEGIN:VEVENT
UID:fd953c51-fb58-42d0-bb85-7336dcc8d578
SEQUENCE:0
DTSTAMP:20260422T202654Z
DTSTART;VALUE=DATE:20251102
X-MICROSOFT-CDO-ALLDAYEVENT:TRUE
X-MICROSOFT-MSNCALENDAR-ALLDAYEVENT:TRUE
SUMMARY:Elementary Teacher Staff Development Day
DESCRIPTION:Elementary Teacher Staff Development Day - No school
STATUS:CONFIRMED
END:VEVENT
BEGIN:VEVENT
UID:b0956fb4-055d-4c32-9a1b-83aafee2e5d7
SEQUENCE:0
DTSTAMP:20260422T202654Z
DTSTART;VALUE=DATE:20251125
X-MICROSOFT-CDO-ALLDAYEVENT:TRUE
X-MICROSOFT-MSNCALENDAR-ALLDAYEVENT:TRUE
SUMMARY:Staff Development & Trade Day
DESCRIPTION:Staff Development & Trade Day - No school
STATUS:CONFIRMED
END:VEVENT
BEGIN:VEVENT
UID:c9667f01-cb6f-4eed-ab25-592042cce125
SEQUENCE:0
DTSTAMP:20260422T202654Z
DTSTART;VALUE=DATE:20260101
X-MICROSOFT-CDO-ALLDAYEVENT:TRUE
X-MICROSOFT-MSNCALENDAR-ALLDAYEVENT:TRUE
SUMMARY:Winter Break
DESCRIPTION:Winter Break - No school
STATUS:CONFIRMED
END:VEVENT
BEGIN:VEVENT
UID:7196ad06-f79a-4185-9c54-67e8e9e3d90f
SEQUENCE:0
DTSTAMP:20260422T202654Z
DTSTART;VALUE=DATE:20260104
X-MICROSOFT-CDO-ALLDAYEVENT:TRUE
X-MICROSOFT-MSNCALENDAR-ALLDAYEVENT:TRUE
SUMMARY:Staff Development Day
DESCRIPTION:Staff Development Day - No school
STATUS:CONFIRMED
END:VEVENT
BEGIN:VEVENT
UID:57c21a33-d0ff-4393-982b-4dc3bbbcd87e
SEQUENCE:0
DTSTAMP:20260422T202654Z
DTSTART;VALUE=DATE:20260118
X-MICROSOFT-CDO-ALLDAYEVENT:TRUE
X-MICROSOFT-MSNCALENDAR-ALLDAYEVENT:TRUE
SUMMARY:Staff Development Day
DESCRIPTION:Staff Development Day - No school
STATUS:CONFIRMED
END:VEVENT
BEGIN:VEVENT
UID:50bcd9f4-72ba-4f8f-bfb7-ddd8738c838e
SEQUENCE:0
DTSTAMP:20260422T202654Z
DTSTART;VALUE=DATE:20260205
X-MICROSOFT-CDO-ALLDAYEVENT:TRUE
X-MICROSOFT-MSNCALENDAR-ALLDAYEVENT:TRUE
SUMMARY:Elementary Teacher Staff Development Day
DESCRIPTION:Elementary Teacher Staff Development Day - No school
STATUS:CONFIRMED
END:VEVENT
BEGIN:VEVENT
UID:e56ed520-ff8c-4df3-85c6-ae8b2d3c3df2
SEQUENCE:0
DTSTAMP:20260422T202654Z
DTSTART;VALUE=DATE:20260215
X-MICROSOFT-CDO-ALLDAYEVENT:TRUE
X-MICROSOFT-MSNCALENDAR-ALLDAYEVENT:TRUE
SUMMARY:Staff Development & Paraprofessional Conference
DESCRIPTION:Staff Development & Paraprofessional Conference - No school
STATUS:CONFIRMED
END:VEVENT
BEGIN:VEVENT
UID:d990b809-2c35-4255-b54a-53d8505a490f
SEQUENCE:0
DTSTAMP:20260422T202654Z
DTSTART;VALUE=DATE:20260329
X-MICROSOFT-CDO-ALLDAYEVENT:TRUE
X-MICROSOFT-MSNCALENDAR-ALLDAYEVENT:TRUE
SUMMARY:Staff Development Day
DESCRIPTION:Staff Development Day - No school
STATUS:CONFIRMED
END:VEVENT
BEGIN:VEVENT
UID:445cb0fd-f55c-4542-829e-adae682f33e2
SEQUENCE:0
DTSTAMP:20260422T202654Z
DTSTART;VALUE=DATE:20260426
X-MICROSOFT-CDO-ALLDAYEVENT:TRUE
X-MICROSOFT-MSNCALENDAR-ALLDAYEVENT:TRUE
SUMMARY:Possible Makeup Day
DESCRIPTION:Possible Makeup Day - No school
STATUS:CONFIRMED
END:VEVENT
BEGIN:VEVENT
UID:815da161-5f4d-4734-a916-ba364cdb0930
SEQUENCE:0
DTSTAMP:20260422T202654Z
DTSTART;VALUE=DATE:20260507
X-MICROSOFT-CDO-ALLDAYEVENT:TRUE
X-MICROSOFT-MSNCALENDAR-ALLDAYEVENT:TRUE
SUMMARY:Possible Makeup Day for Seniors
DESCRIPTION:Possible Makeup Day for Seniors - No school
STATUS:CONFIRMED
END:VEVENT
BEGIN:VEVENT
UID:f602b767-5fd7-487d-86e3-c3c3bbb863cf
SEQUENCE:0
DTSTAMP:20260422T202654Z
DTSTART;VALUE=DATE:20260509
X-MICROSOFT-CDO-ALLDAYEVENT:TRUE
X-MICROSOFT-MSNCALENDAR-ALLDAYEVENT:TRUE
SUMMARY:Graduation
DESCRIPTION:Graduation - No school
STATUS:CONFIRMED
END:VEVENT
BEGIN:VEVENT
UID:20e9839c-e5ff-4d3b-955b-da9fc4faaad0
SEQUENCE:0
DTSTAMP:20260422T202654Z
DTSTART;VALUE=DATE:20260524
X-MICROSOFT-CDO-ALLDAYEVENT:TRUE
X-MICROSOFT-MSNCALENDAR-ALLDAYEVENT:TRUE
SUMMARY:Possible Makeup Days
DESCRIPTION:Possible Makeup Days - No school
STATUS:CONFIRMED
END:VEVENT
BEGIN:VEVENT
UID:1d1785d5-c001-4199-a660-76387f801371
SEQUENCE:0
DTSTAMP:20260422T202654Z
DTSTART;VALUE=DATE:20260525
X-MICROSOFT-CDO-ALLDAYEVENT:TRUE
X-MICROSOFT-MSNCALENDAR-ALLDAYEVENT:TRUE
SUMMARY:Possible Makeup Days
DESCRIPTION:Possible Makeup Days - No school
STATUS:CONFIRMED
END:VEVENT
BEGIN:VEVENT
UID:a0b61f5a-94a0-4b1a-b440-fd4371195e79
SEQUENCE:0
DTSTAMP:20260422T202654Z
DTSTART;VALUE=DATE:20260526
X-MICROSOFT-CDO-ALLDAYEVENT:TRUE
X-MICROSOFT-MSNCALENDAR-ALLDAYEVENT:TRUE
SUMMARY:Possible Makeup Days
DESCRIPTION:Possible Makeup Days - No school
STATUS:CONFIRMED
END:VEVENT
BEGIN:VEVENT
UID:64e481eb-9293-43d6-b4a6-32758352e047
SEQUENCE:0
DTSTAMP:20260422T202654Z
DTSTART;VALUE=DATE:20260531
X-MICROSOFT-CDO-ALLDAYEVENT:TRUE
X-MICROSOFT-MSNCALENDAR-ALLDAYEVENT:TRUE
SUMMARY:Memorial Day
DESCRIPTION:Memorial Day - No school
STATUS:CONFIRMED
END:VEVENT
END:VCALENDAR