BEGIN:VCALENDAR
VERSION:2.0
PRODID:-//SchoolCalendarAPI//school-calendar//EN
URL:https://api.schools-calendar.com/calendar?district_id=ne-shelton-publi
 c-schools&year=2025-26
NAME:Shelton Public Schools School Calendar 2025-26
X-WR-CALNAME:Shelton Public Schools School Calendar 2025-26
X-WR-CALDESC:Official school calendar for Shelton Public Schools for the 2
 025-26 school year.
REFRESH-INTERVAL;VALUE=DURATION:P1D
X-PUBLISHED-TTL:P1D
BEGIN:VEVENT
UID:cb42ad31-335b-495f-9989-fc6d1076cdfd
SEQUENCE:0
DTSTAMP:20260422T201708Z
DTSTART;VALUE=DATE:20250819
X-MICROSOFT-CDO-ALLDAYEVENT:TRUE
X-MICROSOFT-MSNCALENDAR-ALLDAYEVENT:TRUE
SUMMARY:First Day of School
DESCRIPTION:First day of the 2025-26 school year
STATUS:CONFIRMED
END:VEVENT
BEGIN:VEVENT
UID:bdd42b7d-fff7-416c-9e58-75b2714a7b92
SEQUENCE:0
DTSTAMP:20260422T201708Z
DTSTART;VALUE=DATE:20260522
X-MICROSOFT-CDO-ALLDAYEVENT:TRUE
X-MICROSOFT-MSNCALENDAR-ALLDAYEVENT:TRUE
SUMMARY:Last Day of School
DESCRIPTION:Last day of the 2025-26 school year
STATUS:CONFIRMED
END:VEVENT
BEGIN:VEVENT
UID:d32f45fd-929a-4e81-8597-3d8355a29eac
SEQUENCE:0
DTSTAMP:20260422T201708Z
DTSTART;VALUE=DATE:20251124
DTEND;VALUE=DATE:20251129
X-MICROSOFT-CDO-ALLDAYEVENT:TRUE
X-MICROSOFT-MSNCALENDAR-ALLDAYEVENT:TRUE
SUMMARY:Thanksgiving Holidays
DESCRIPTION:Thanksgiving Holidays - No school
STATUS:CONFIRMED
END:VEVENT
BEGIN:VEVENT
UID:ea67d9b6-02c3-4052-914e-57511c21908d
SEQUENCE:0
DTSTAMP:20260422T201708Z
DTSTART;VALUE=DATE:20251222
DTEND;VALUE=DATE:20260103
X-MICROSOFT-CDO-ALLDAYEVENT:TRUE
X-MICROSOFT-MSNCALENDAR-ALLDAYEVENT:TRUE
SUMMARY:Winter Holidays
DESCRIPTION:Winter Holidays - No school
STATUS:CONFIRMED
END:VEVENT
BEGIN:VEVENT
UID:b0d8af68-5507-48ab-b835-e227f0609bf5
SEQUENCE:0
DTSTAMP:20260422T201708Z
DTSTART;VALUE=DATE:20260316
DTEND;VALUE=DATE:20260321
X-MICROSOFT-CDO-ALLDAYEVENT:TRUE
X-MICROSOFT-MSNCALENDAR-ALLDAYEVENT:TRUE
SUMMARY:Spring Break
DESCRIPTION:Spring Break - No school
STATUS:CONFIRMED
END:VEVENT
BEGIN:VEVENT
UID:155b2dea-962f-4e54-b922-97d7fc475119
SEQUENCE:0
DTSTAMP:20260422T201708Z
DTSTART;VALUE=DATE:20250619
X-MICROSOFT-CDO-ALLDAYEVENT:TRUE
X-MICROSOFT-MSNCALENDAR-ALLDAYEVENT:TRUE
SUMMARY:Holiday/No School
DESCRIPTION:Holiday/No School - No school
STATUS:CONFIRMED
END:VEVENT
BEGIN:VEVENT
UID:4ffed31b-9732-4e90-aa8f-d32912b5aad4
SEQUENCE:0
DTSTAMP:20260422T201708Z
DTSTART;VALUE=DATE:20250704
X-MICROSOFT-CDO-ALLDAYEVENT:TRUE
X-MICROSOFT-MSNCALENDAR-ALLDAYEVENT:TRUE
SUMMARY:Holiday/No School
DESCRIPTION:Holiday/No School - No school
STATUS:CONFIRMED
END:VEVENT
BEGIN:VEVENT
UID:2b4b58b0-79aa-4449-bae0-242ee5a7b202
SEQUENCE:0
DTSTAMP:20260422T201708Z
DTSTART;VALUE=DATE:20250901
X-MICROSOFT-CDO-ALLDAYEVENT:TRUE
X-MICROSOFT-MSNCALENDAR-ALLDAYEVENT:TRUE
SUMMARY:Holiday/No School
DESCRIPTION:Holiday/No School - No school
STATUS:CONFIRMED
END:VEVENT
BEGIN:VEVENT
UID:ea995697-90c6-4683-94a4-61adbe1efc23
SEQUENCE:0
DTSTAMP:20260422T201708Z
DTSTART;VALUE=DATE:20250919
X-MICROSOFT-CDO-ALLDAYEVENT:TRUE
X-MICROSOFT-MSNCALENDAR-ALLDAYEVENT:TRUE
SUMMARY:In-Service for Staff/No School
DESCRIPTION:In-Service for Staff/No School - No school
STATUS:CONFIRMED
END:VEVENT
BEGIN:VEVENT
UID:4be8d087-fe19-45df-8dab-27836e4569fd
SEQUENCE:0
DTSTAMP:20260422T201708Z
DTSTART;VALUE=DATE:20251013
X-MICROSOFT-CDO-ALLDAYEVENT:TRUE
X-MICROSOFT-MSNCALENDAR-ALLDAYEVENT:TRUE
SUMMARY:Holiday/No School
DESCRIPTION:Holiday/No School - No school
STATUS:CONFIRMED
END:VEVENT
BEGIN:VEVENT
UID:99fe8348-8f70-4771-bbd9-162371ab30dc
SEQUENCE:0
DTSTAMP:20260422T201708Z
DTSTART;VALUE=DATE:20251023
X-MICROSOFT-CDO-ALLDAYEVENT:TRUE
X-MICROSOFT-MSNCALENDAR-ALLDAYEVENT:TRUE
SUMMARY:Parent Conferences/No School
DESCRIPTION:Parent Conferences/No School - No school
STATUS:CONFIRMED
END:VEVENT
BEGIN:VEVENT
UID:f8a7fb30-bc6f-4f11-b573-1c27ac0f08d4
SEQUENCE:0
DTSTAMP:20260422T201708Z
DTSTART;VALUE=DATE:20251024
X-MICROSOFT-CDO-ALLDAYEVENT:TRUE
X-MICROSOFT-MSNCALENDAR-ALLDAYEVENT:TRUE
SUMMARY:Parent Conferences/No School
DESCRIPTION:Parent Conferences/No School - No school
STATUS:CONFIRMED
END:VEVENT
BEGIN:VEVENT
UID:286ea87b-97f7-4c0c-89b9-b44358cb13b0
SEQUENCE:0
DTSTAMP:20260422T201708Z
DTSTART;VALUE=DATE:20260105
X-MICROSOFT-CDO-ALLDAYEVENT:TRUE
X-MICROSOFT-MSNCALENDAR-ALLDAYEVENT:TRUE
SUMMARY:In-Service for Staff/No School
DESCRIPTION:In-Service for Staff/No School - No school
STATUS:CONFIRMED
END:VEVENT
BEGIN:VEVENT
UID:4b16a040-8941-4f93-b236-df8ac571152d
SEQUENCE:0
DTSTAMP:20260422T201708Z
DTSTART;VALUE=DATE:20260119
X-MICROSOFT-CDO-ALLDAYEVENT:TRUE
X-MICROSOFT-MSNCALENDAR-ALLDAYEVENT:TRUE
SUMMARY:Holiday/No School
DESCRIPTION:Holiday/No School - No school
STATUS:CONFIRMED
END:VEVENT
BEGIN:VEVENT
UID:3ce7d377-898a-44de-995b-581dc95e2412
SEQUENCE:0
DTSTAMP:20260422T201708Z
DTSTART;VALUE=DATE:20260212
X-MICROSOFT-CDO-ALLDAYEVENT:TRUE
X-MICROSOFT-MSNCALENDAR-ALLDAYEVENT:TRUE
SUMMARY:Parent Conferences/No School
DESCRIPTION:Parent Conferences/No School - No school
STATUS:CONFIRMED
END:VEVENT
BEGIN:VEVENT
UID:d18ea53d-cd91-4ab6-9b44-4411c48797ba
SEQUENCE:0
DTSTAMP:20260422T201708Z
DTSTART;VALUE=DATE:20260213
X-MICROSOFT-CDO-ALLDAYEVENT:TRUE
X-MICROSOFT-MSNCALENDAR-ALLDAYEVENT:TRUE
SUMMARY:Parent Conferences/No School
DESCRIPTION:Parent Conferences/No School - No school
STATUS:CONFIRMED
END:VEVENT
BEGIN:VEVENT
UID:59686eef-2039-44cf-9ea1-b4195911fb78
SEQUENCE:0
DTSTAMP:20260422T201708Z
DTSTART;VALUE=DATE:20260216
X-MICROSOFT-CDO-ALLDAYEVENT:TRUE
X-MICROSOFT-MSNCALENDAR-ALLDAYEVENT:TRUE
SUMMARY:Holiday/No School
DESCRIPTION:Holiday/No School - No school
STATUS:CONFIRMED
END:VEVENT
BEGIN:VEVENT
UID:1f456af5-a53b-4e0e-9b88-206e400016eb
SEQUENCE:0
DTSTAMP:20260422T201708Z
DTSTART;VALUE=DATE:20260403
X-MICROSOFT-CDO-ALLDAYEVENT:TRUE
X-MICROSOFT-MSNCALENDAR-ALLDAYEVENT:TRUE
SUMMARY:Holiday/No School
DESCRIPTION:Holiday/No School - No school
STATUS:CONFIRMED
END:VEVENT
BEGIN:VEVENT
UID:49ab9a18-da6f-4569-a475-288ed33d9b16
SEQUENCE:0
DTSTAMP:20260422T201708Z
DTSTART;VALUE=DATE:20260424
X-MICROSOFT-CDO-ALLDAYEVENT:TRUE
X-MICROSOFT-MSNCALENDAR-ALLDAYEVENT:TRUE
SUMMARY:In-Service for Staff/No School
DESCRIPTION:In-Service for Staff/No School - No school
STATUS:CONFIRMED
END:VEVENT
BEGIN:VEVENT
UID:012099c8-fcf9-4778-aa37-430976cc55c0
SEQUENCE:0
DTSTAMP:20260422T201708Z
DTSTART;VALUE=DATE:20260525
X-MICROSOFT-CDO-ALLDAYEVENT:TRUE
X-MICROSOFT-MSNCALENDAR-ALLDAYEVENT:TRUE
SUMMARY:Holiday/No School
DESCRIPTION:Holiday/No School - No school
STATUS:CONFIRMED
END:VEVENT
BEGIN:VEVENT
UID:9e6c0069-76f0-41b3-86ce-36e4a4903466
SEQUENCE:0
DTSTAMP:20260422T201708Z
DTSTART;VALUE=DATE:20260526
X-MICROSOFT-CDO-ALLDAYEVENT:TRUE
X-MICROSOFT-MSNCALENDAR-ALLDAYEVENT:TRUE
SUMMARY:Parent Conference Days
DESCRIPTION:Parent Conference Days - No school
STATUS:CONFIRMED
END:VEVENT
BEGIN:VEVENT
UID:a74176b3-7e05-42f3-9b03-29e097d1126e
SEQUENCE:0
DTSTAMP:20260422T201708Z
DTSTART;VALUE=DATE:20260527
X-MICROSOFT-CDO-ALLDAYEVENT:TRUE
X-MICROSOFT-MSNCALENDAR-ALLDAYEVENT:TRUE
SUMMARY:Parent Conference Days
DESCRIPTION:Parent Conference Days - No school
STATUS:CONFIRMED
END:VEVENT
END:VCALENDAR