BEGIN:VCALENDAR
VERSION:2.0
PRODID:-//SchoolCalendarAPI//school-calendar//EN
URL:https://api.schools-calendar.com/calendar?district_id=ne-tekamah-herma
 n-community-schools&year=2025-26
NAME:Tekamah-Herman Community Schools School Calendar 2025-26
X-WR-CALNAME:Tekamah-Herman Community Schools School Calendar 2025-26
X-WR-CALDESC:Official school calendar for Tekamah-Herman Community Schools
  for the 2025-26 school year.
REFRESH-INTERVAL;VALUE=DURATION:P1D
X-PUBLISHED-TTL:P1D
BEGIN:VEVENT
UID:3f8226bb-b5c5-4aa2-986b-9e7d4a19980f
SEQUENCE:0
DTSTAMP:20260422T203525Z
DTSTART;VALUE=DATE:20250812
X-MICROSOFT-CDO-ALLDAYEVENT:TRUE
X-MICROSOFT-MSNCALENDAR-ALLDAYEVENT:TRUE
SUMMARY:First Day of School
DESCRIPTION:First day of the 2025-26 school year
STATUS:CONFIRMED
END:VEVENT
BEGIN:VEVENT
UID:4662a2de-bcb2-40e2-aa9c-fab8bdc5db54
SEQUENCE:0
DTSTAMP:20260422T203525Z
DTSTART;VALUE=DATE:20260515
X-MICROSOFT-CDO-ALLDAYEVENT:TRUE
X-MICROSOFT-MSNCALENDAR-ALLDAYEVENT:TRUE
SUMMARY:Last Day of School
DESCRIPTION:Last day of the 2025-26 school year
STATUS:CONFIRMED
END:VEVENT
BEGIN:VEVENT
UID:c6388928-ea8b-433a-a165-2d1a369c88c2
SEQUENCE:0
DTSTAMP:20260422T203525Z
DTSTART;VALUE=DATE:20251127
DTEND;VALUE=DATE:20251129
X-MICROSOFT-CDO-ALLDAYEVENT:TRUE
X-MICROSOFT-MSNCALENDAR-ALLDAYEVENT:TRUE
SUMMARY:Thanksgiving Break
DESCRIPTION:Thanksgiving Break - No school
STATUS:CONFIRMED
END:VEVENT
BEGIN:VEVENT
UID:9beba890-3a85-4cb3-b4df-dc8aa4cd06eb
SEQUENCE:0
DTSTAMP:20260422T203525Z
DTSTART;VALUE=DATE:20251222
DTEND;VALUE=DATE:20260103
X-MICROSOFT-CDO-ALLDAYEVENT:TRUE
X-MICROSOFT-MSNCALENDAR-ALLDAYEVENT:TRUE
SUMMARY:Winter Break
DESCRIPTION:Winter Break - No school
STATUS:CONFIRMED
END:VEVENT
BEGIN:VEVENT
UID:81ad7a81-c7dd-4184-b15f-9c346fd9b8bf
SEQUENCE:0
DTSTAMP:20260422T203525Z
DTSTART;VALUE=DATE:20260327
DTEND;VALUE=DATE:20260328
X-MICROSOFT-CDO-ALLDAYEVENT:TRUE
X-MICROSOFT-MSNCALENDAR-ALLDAYEVENT:TRUE
SUMMARY:Spring Break
DESCRIPTION:Spring Break - No school
STATUS:CONFIRMED
END:VEVENT
BEGIN:VEVENT
UID:360accbf-b3e0-45d3-88b5-5c9f5c97ed4c
SEQUENCE:0
DTSTAMP:20260422T203525Z
DTSTART;VALUE=DATE:20260403
DTEND;VALUE=DATE:20260404
X-MICROSOFT-CDO-ALLDAYEVENT:TRUE
X-MICROSOFT-MSNCALENDAR-ALLDAYEVENT:TRUE
SUMMARY:Easter Break
DESCRIPTION:Easter Break - No school
STATUS:CONFIRMED
END:VEVENT
BEGIN:VEVENT
UID:9b590e1d-89c4-46ed-95f9-299b66438bda
SEQUENCE:0
DTSTAMP:20260422T203525Z
DTSTART;VALUE=DATE:20250901
X-MICROSOFT-CDO-ALLDAYEVENT:TRUE
X-MICROSOFT-MSNCALENDAR-ALLDAYEVENT:TRUE
SUMMARY:Labor Day
DESCRIPTION:Labor Day - No school
STATUS:CONFIRMED
END:VEVENT
BEGIN:VEVENT
UID:78490526-d2ed-4e48-9075-9169f1fa56d8
SEQUENCE:0
DTSTAMP:20260422T203525Z
DTSTART;VALUE=DATE:20251127
X-MICROSOFT-CDO-ALLDAYEVENT:TRUE
X-MICROSOFT-MSNCALENDAR-ALLDAYEVENT:TRUE
SUMMARY:Thanksgiving Day
DESCRIPTION:Thanksgiving Day - No school
STATUS:CONFIRMED
END:VEVENT
BEGIN:VEVENT
UID:818b048f-0118-4232-8af4-54684d013ee7
SEQUENCE:0
DTSTAMP:20260422T203525Z
DTSTART;VALUE=DATE:20260101
X-MICROSOFT-CDO-ALLDAYEVENT:TRUE
X-MICROSOFT-MSNCALENDAR-ALLDAYEVENT:TRUE
SUMMARY:Winter Break (New Year's Day)
DESCRIPTION:Winter Break (New Year's Day) - No school
STATUS:CONFIRMED
END:VEVENT
BEGIN:VEVENT
UID:d86eb690-8dab-440c-81da-f9bd155735e2
SEQUENCE:0
DTSTAMP:20260422T203525Z
DTSTART;VALUE=DATE:20260403
X-MICROSOFT-CDO-ALLDAYEVENT:TRUE
X-MICROSOFT-MSNCALENDAR-ALLDAYEVENT:TRUE
SUMMARY:Good Friday/Easter Break
DESCRIPTION:Good Friday/Easter Break - No school
STATUS:CONFIRMED
END:VEVENT
END:VCALENDAR