BEGIN:VCALENDAR
VERSION:2.0
PRODID:-//SchoolCalendarAPI//school-calendar//EN
URL:https://api.schools-calendar.com/calendar?district_id=ne-westside-comm
 unity-schools&year=2025-26
NAME:Westside Community Schools School Calendar 2025-26
X-WR-CALNAME:Westside Community Schools School Calendar 2025-26
X-WR-CALDESC:Official school calendar for Westside Community Schools for t
 he 2025-26 school year.
REFRESH-INTERVAL;VALUE=DURATION:P1D
X-PUBLISHED-TTL:P1D
BEGIN:VEVENT
UID:78363f31-4ffe-49ab-a709-0b257d3fdb66
SEQUENCE:0
DTSTAMP:20260422T201539Z
DTSTART;VALUE=DATE:20250807
X-MICROSOFT-CDO-ALLDAYEVENT:TRUE
X-MICROSOFT-MSNCALENDAR-ALLDAYEVENT:TRUE
SUMMARY:First Day of School
DESCRIPTION:First day of the 2025-26 school year
STATUS:CONFIRMED
END:VEVENT
BEGIN:VEVENT
UID:e23ff88d-85e8-4d95-8f65-7bdf154aee44
SEQUENCE:0
DTSTAMP:20260422T201539Z
DTSTART;VALUE=DATE:20260522
X-MICROSOFT-CDO-ALLDAYEVENT:TRUE
X-MICROSOFT-MSNCALENDAR-ALLDAYEVENT:TRUE
SUMMARY:Last Day of School
DESCRIPTION:Last day of the 2025-26 school year
STATUS:CONFIRMED
END:VEVENT
BEGIN:VEVENT
UID:3eac6b60-a6b7-4c2a-9e15-4190f4bf8c10
SEQUENCE:0
DTSTAMP:20260422T201539Z
DTSTART;VALUE=DATE:20251126
DTEND;VALUE=DATE:20251129
X-MICROSOFT-CDO-ALLDAYEVENT:TRUE
X-MICROSOFT-MSNCALENDAR-ALLDAYEVENT:TRUE
SUMMARY:Thanksgiving Break
DESCRIPTION:Thanksgiving Break - No school
STATUS:CONFIRMED
END:VEVENT
BEGIN:VEVENT
UID:9a43eccf-4385-4282-ada7-a43ac75f20a8
SEQUENCE:0
DTSTAMP:20260422T201539Z
DTSTART;VALUE=DATE:20251222
DTEND;VALUE=DATE:20260103
X-MICROSOFT-CDO-ALLDAYEVENT:TRUE
X-MICROSOFT-MSNCALENDAR-ALLDAYEVENT:TRUE
SUMMARY:Winter Break
DESCRIPTION:Winter Break - No school
STATUS:CONFIRMED
END:VEVENT
BEGIN:VEVENT
UID:a1b37657-6b14-4f79-82ea-5bd973433a5b
SEQUENCE:0
DTSTAMP:20260422T201539Z
DTSTART;VALUE=DATE:20260406
DTEND;VALUE=DATE:20260411
X-MICROSOFT-CDO-ALLDAYEVENT:TRUE
X-MICROSOFT-MSNCALENDAR-ALLDAYEVENT:TRUE
SUMMARY:Spring Break
DESCRIPTION:Spring Break - No school
STATUS:CONFIRMED
END:VEVENT
BEGIN:VEVENT
UID:a1c634d3-1a1a-438b-9051-3c81a44b096a
SEQUENCE:0
DTSTAMP:20260422T201539Z
DTSTART;VALUE=DATE:20250901
X-MICROSOFT-CDO-ALLDAYEVENT:TRUE
X-MICROSOFT-MSNCALENDAR-ALLDAYEVENT:TRUE
SUMMARY:Labor Day
DESCRIPTION:Labor Day - No school
STATUS:CONFIRMED
END:VEVENT
BEGIN:VEVENT
UID:e8c60ec5-40bc-47e0-aabb-2fd2fd39137c
SEQUENCE:0
DTSTAMP:20260422T201539Z
DTSTART;VALUE=DATE:20250902
X-MICROSOFT-CDO-ALLDAYEVENT:TRUE
X-MICROSOFT-MSNCALENDAR-ALLDAYEVENT:TRUE
SUMMARY:Professional Learning Day
DESCRIPTION:Professional Learning Day - No school
STATUS:CONFIRMED
END:VEVENT
BEGIN:VEVENT
UID:f5b7f0b8-89c4-42c0-b933-ac21c0106de4
SEQUENCE:0
DTSTAMP:20260422T201539Z
DTSTART;VALUE=DATE:20251009
X-MICROSOFT-CDO-ALLDAYEVENT:TRUE
X-MICROSOFT-MSNCALENDAR-ALLDAYEVENT:TRUE
SUMMARY:Parent-Teacher Communication Day
DESCRIPTION:Parent-Teacher Communication Day - No school
STATUS:CONFIRMED
END:VEVENT
BEGIN:VEVENT
UID:aa623330-d45d-4e3e-a119-8e6953e75d03
SEQUENCE:0
DTSTAMP:20260422T201539Z
DTSTART;VALUE=DATE:20251010
X-MICROSOFT-CDO-ALLDAYEVENT:TRUE
X-MICROSOFT-MSNCALENDAR-ALLDAYEVENT:TRUE
SUMMARY:NO SCHOOL Day
DESCRIPTION:NO SCHOOL Day - No school
STATUS:CONFIRMED
END:VEVENT
BEGIN:VEVENT
UID:2f511202-6667-4c52-a8e2-9c5c11c33ec3
SEQUENCE:0
DTSTAMP:20260422T201539Z
DTSTART;VALUE=DATE:20251013
X-MICROSOFT-CDO-ALLDAYEVENT:TRUE
X-MICROSOFT-MSNCALENDAR-ALLDAYEVENT:TRUE
SUMMARY:Professional Learning Day
DESCRIPTION:Professional Learning Day - No school
STATUS:CONFIRMED
END:VEVENT
BEGIN:VEVENT
UID:e0fbe7ca-d065-46a4-8545-173167f634ee
SEQUENCE:0
DTSTAMP:20260422T201539Z
DTSTART;VALUE=DATE:20260105
X-MICROSOFT-CDO-ALLDAYEVENT:TRUE
X-MICROSOFT-MSNCALENDAR-ALLDAYEVENT:TRUE
SUMMARY:Teacher Work Day
DESCRIPTION:Teacher Work Day - No school
STATUS:CONFIRMED
END:VEVENT
BEGIN:VEVENT
UID:91d8776e-44b2-46bd-8514-bffd125bf8a2
SEQUENCE:0
DTSTAMP:20260422T201539Z
DTSTART;VALUE=DATE:20260116
X-MICROSOFT-CDO-ALLDAYEVENT:TRUE
X-MICROSOFT-MSNCALENDAR-ALLDAYEVENT:TRUE
SUMMARY:Professional Learning Day
DESCRIPTION:Professional Learning Day - No school
STATUS:CONFIRMED
END:VEVENT
BEGIN:VEVENT
UID:da0f0eed-cac7-4587-98e3-cda119922cec
SEQUENCE:0
DTSTAMP:20260422T201539Z
DTSTART;VALUE=DATE:20260119
X-MICROSOFT-CDO-ALLDAYEVENT:TRUE
X-MICROSOFT-MSNCALENDAR-ALLDAYEVENT:TRUE
SUMMARY:Martin Luther King Jr. Day
DESCRIPTION:Martin Luther King Jr. Day - No school
STATUS:CONFIRMED
END:VEVENT
BEGIN:VEVENT
UID:689dfc20-cbc8-4948-abc0-37474def8936
SEQUENCE:0
DTSTAMP:20260422T201539Z
DTSTART;VALUE=DATE:20260213
X-MICROSOFT-CDO-ALLDAYEVENT:TRUE
X-MICROSOFT-MSNCALENDAR-ALLDAYEVENT:TRUE
SUMMARY:Teacher Work Day
DESCRIPTION:Teacher Work Day - No school
STATUS:CONFIRMED
END:VEVENT
BEGIN:VEVENT
UID:d3277928-0492-48e0-a6ff-75b47dcd1d83
SEQUENCE:0
DTSTAMP:20260422T201539Z
DTSTART;VALUE=DATE:20260216
X-MICROSOFT-CDO-ALLDAYEVENT:TRUE
X-MICROSOFT-MSNCALENDAR-ALLDAYEVENT:TRUE
SUMMARY:Professional Learning Day
DESCRIPTION:Professional Learning Day - No school
STATUS:CONFIRMED
END:VEVENT
BEGIN:VEVENT
UID:e6a3baa3-d524-4004-914d-9cdcd984f2f2
SEQUENCE:0
DTSTAMP:20260422T201539Z
DTSTART;VALUE=DATE:20260319
X-MICROSOFT-CDO-ALLDAYEVENT:TRUE
X-MICROSOFT-MSNCALENDAR-ALLDAYEVENT:TRUE
SUMMARY:Parent-Teacher Communication Day
DESCRIPTION:Parent-Teacher Communication Day - No school
STATUS:CONFIRMED
END:VEVENT
BEGIN:VEVENT
UID:b8313aaa-6d76-4aec-b577-6a2f8aa233ff
SEQUENCE:0
DTSTAMP:20260422T201539Z
DTSTART;VALUE=DATE:20260320
X-MICROSOFT-CDO-ALLDAYEVENT:TRUE
X-MICROSOFT-MSNCALENDAR-ALLDAYEVENT:TRUE
SUMMARY:NO SCHOOL Day
DESCRIPTION:NO SCHOOL Day - No school
STATUS:CONFIRMED
END:VEVENT
BEGIN:VEVENT
UID:e63d4f9c-1a4c-4a16-8cb1-bb48d6e06b79
SEQUENCE:0
DTSTAMP:20260422T201539Z
DTSTART;VALUE=DATE:20260427
X-MICROSOFT-CDO-ALLDAYEVENT:TRUE
X-MICROSOFT-MSNCALENDAR-ALLDAYEVENT:TRUE
SUMMARY:Professional Learning Day
DESCRIPTION:Professional Learning Day - No school
STATUS:CONFIRMED
END:VEVENT
BEGIN:VEVENT
UID:0650ebed-0267-4de4-ae4b-d270527453ef
SEQUENCE:0
DTSTAMP:20260422T201539Z
DTSTART;VALUE=DATE:20260619
X-MICROSOFT-CDO-ALLDAYEVENT:TRUE
X-MICROSOFT-MSNCALENDAR-ALLDAYEVENT:TRUE
SUMMARY:Juneteenth
DESCRIPTION:Juneteenth - No school
STATUS:CONFIRMED
END:VEVENT
END:VCALENDAR