BEGIN:VCALENDAR
VERSION:2.0
PRODID:-//SchoolCalendarAPI//school-calendar//EN
URL:https://api.schools-calendar.com/calendar?district_id=ne-wilcox-hildre
 th-public-schools&year=2025-26
NAME:Wilcox-Hildreth Public Schools School Calendar 2025-26
X-WR-CALNAME:Wilcox-Hildreth Public Schools School Calendar 2025-26
X-WR-CALDESC:Official school calendar for Wilcox-Hildreth Public Schools f
 or the 2025-26 school year.
REFRESH-INTERVAL;VALUE=DURATION:P1D
X-PUBLISHED-TTL:P1D
BEGIN:VEVENT
UID:74ee9622-8fb6-4468-9c83-4defb857af23
SEQUENCE:0
DTSTAMP:20260422T201743Z
DTSTART;VALUE=DATE:20250814
X-MICROSOFT-CDO-ALLDAYEVENT:TRUE
X-MICROSOFT-MSNCALENDAR-ALLDAYEVENT:TRUE
SUMMARY:First Day of School
DESCRIPTION:First day of the 2025-26 school year
STATUS:CONFIRMED
END:VEVENT
BEGIN:VEVENT
UID:bd19b20b-1afb-4c5f-87a2-46aead2616b2
SEQUENCE:0
DTSTAMP:20260422T201743Z
DTSTART;VALUE=DATE:20260521
X-MICROSOFT-CDO-ALLDAYEVENT:TRUE
X-MICROSOFT-MSNCALENDAR-ALLDAYEVENT:TRUE
SUMMARY:Last Day of School
DESCRIPTION:Last day of the 2025-26 school year
STATUS:CONFIRMED
END:VEVENT
BEGIN:VEVENT
UID:e6fa85fc-b8ca-4537-a7d8-647c5b6f1a89
SEQUENCE:0
DTSTAMP:20260422T201743Z
DTSTART;VALUE=DATE:20251126
DTEND;VALUE=DATE:20251129
X-MICROSOFT-CDO-ALLDAYEVENT:TRUE
X-MICROSOFT-MSNCALENDAR-ALLDAYEVENT:TRUE
SUMMARY:Thanksgiving Break
DESCRIPTION:Thanksgiving Break - No school
STATUS:CONFIRMED
END:VEVENT
BEGIN:VEVENT
UID:fe1eb75b-abf7-4cd3-9ed7-c7cb2be943d2
SEQUENCE:0
DTSTAMP:20260422T201743Z
DTSTART;VALUE=DATE:20251222
DTEND;VALUE=DATE:20260107
X-MICROSOFT-CDO-ALLDAYEVENT:TRUE
X-MICROSOFT-MSNCALENDAR-ALLDAYEVENT:TRUE
SUMMARY:Christmas Break
DESCRIPTION:Christmas Break - No school
STATUS:CONFIRMED
END:VEVENT
BEGIN:VEVENT
UID:fd75fdfd-d082-4fb3-8032-9588cc7f57c3
SEQUENCE:0
DTSTAMP:20260422T201743Z
DTSTART;VALUE=DATE:20260309
DTEND;VALUE=DATE:20260314
X-MICROSOFT-CDO-ALLDAYEVENT:TRUE
X-MICROSOFT-MSNCALENDAR-ALLDAYEVENT:TRUE
SUMMARY:Spring Break
DESCRIPTION:Spring Break - No school
STATUS:CONFIRMED
END:VEVENT
BEGIN:VEVENT
UID:299932a1-0465-416d-9693-f485a8dec0eb
SEQUENCE:0
DTSTAMP:20260422T201743Z
DTSTART;VALUE=DATE:20260403
DTEND;VALUE=DATE:20260407
X-MICROSOFT-CDO-ALLDAYEVENT:TRUE
X-MICROSOFT-MSNCALENDAR-ALLDAYEVENT:TRUE
SUMMARY:Easter Break
DESCRIPTION:Easter Break - No school
STATUS:CONFIRMED
END:VEVENT
BEGIN:VEVENT
UID:8e0cdeab-fe75-41ec-af70-57058790ec3d
SEQUENCE:0
DTSTAMP:20260422T201743Z
DTSTART;VALUE=DATE:20250901
X-MICROSOFT-CDO-ALLDAYEVENT:TRUE
X-MICROSOFT-MSNCALENDAR-ALLDAYEVENT:TRUE
SUMMARY:Labor Day
DESCRIPTION:Labor Day - No school
STATUS:CONFIRMED
END:VEVENT
BEGIN:VEVENT
UID:e10cc426-76c2-4b6b-ade6-2634cc844d8f
SEQUENCE:0
DTSTAMP:20260422T201743Z
DTSTART;VALUE=DATE:20250811
X-MICROSOFT-CDO-ALLDAYEVENT:TRUE
X-MICROSOFT-MSNCALENDAR-ALLDAYEVENT:TRUE
SUMMARY:Teacher Inservice (Aug)
DESCRIPTION:Teacher Inservice (Aug) - No school
STATUS:CONFIRMED
END:VEVENT
BEGIN:VEVENT
UID:d4ed3c07-5303-4c30-bfdd-330f16d266f2
SEQUENCE:0
DTSTAMP:20260422T201743Z
DTSTART;VALUE=DATE:20250812
X-MICROSOFT-CDO-ALLDAYEVENT:TRUE
X-MICROSOFT-MSNCALENDAR-ALLDAYEVENT:TRUE
SUMMARY:Teacher Inservice (Aug)
DESCRIPTION:Teacher Inservice (Aug) - No school
STATUS:CONFIRMED
END:VEVENT
BEGIN:VEVENT
UID:b2727252-cde3-4ea3-b165-72be28f5a97c
SEQUENCE:0
DTSTAMP:20260422T201743Z
DTSTART;VALUE=DATE:20250813
X-MICROSOFT-CDO-ALLDAYEVENT:TRUE
X-MICROSOFT-MSNCALENDAR-ALLDAYEVENT:TRUE
SUMMARY:Teacher Inservice (Aug)
DESCRIPTION:Teacher Inservice (Aug) - No school
STATUS:CONFIRMED
END:VEVENT
BEGIN:VEVENT
UID:e6260b2f-f5cc-46a9-b33f-ef720fa00c84
SEQUENCE:0
DTSTAMP:20260422T201743Z
DTSTART;VALUE=DATE:20250926
X-MICROSOFT-CDO-ALLDAYEVENT:TRUE
X-MICROSOFT-MSNCALENDAR-ALLDAYEVENT:TRUE
SUMMARY:No School (Sept)
DESCRIPTION:No School (Sept) - No school
STATUS:CONFIRMED
END:VEVENT
BEGIN:VEVENT
UID:66bb6d64-7cdd-4587-875c-f950965837b3
SEQUENCE:0
DTSTAMP:20260422T201743Z
DTSTART;VALUE=DATE:20251006
X-MICROSOFT-CDO-ALLDAYEVENT:TRUE
X-MICROSOFT-MSNCALENDAR-ALLDAYEVENT:TRUE
SUMMARY:ESU Fall Conference - Teacher Inservice
DESCRIPTION:ESU Fall Conference - Teacher Inservice - No school
STATUS:CONFIRMED
END:VEVENT
BEGIN:VEVENT
UID:8db409ac-4b01-46f4-a31b-5986cebf0072
SEQUENCE:0
DTSTAMP:20260422T201743Z
DTSTART;VALUE=DATE:20251201
X-MICROSOFT-CDO-ALLDAYEVENT:TRUE
X-MICROSOFT-MSNCALENDAR-ALLDAYEVENT:TRUE
SUMMARY:Teacher Inservice (Dec)
DESCRIPTION:Teacher Inservice (Dec) - No school
STATUS:CONFIRMED
END:VEVENT
BEGIN:VEVENT
UID:a9837685-8c90-4488-ad25-27e52ea2fa12
SEQUENCE:0
DTSTAMP:20260422T201743Z
DTSTART;VALUE=DATE:20251224
X-MICROSOFT-CDO-ALLDAYEVENT:TRUE
X-MICROSOFT-MSNCALENDAR-ALLDAYEVENT:TRUE
SUMMARY:NSAA Moratorium
DESCRIPTION:NSAA Moratorium - No school
STATUS:CONFIRMED
END:VEVENT
BEGIN:VEVENT
UID:4bd1ca46-15e9-409d-9663-5100b2dcfc10
SEQUENCE:0
DTSTAMP:20260422T201743Z
DTSTART;VALUE=DATE:20251225
X-MICROSOFT-CDO-ALLDAYEVENT:TRUE
X-MICROSOFT-MSNCALENDAR-ALLDAYEVENT:TRUE
SUMMARY:NSAA Moratorium
DESCRIPTION:NSAA Moratorium - No school
STATUS:CONFIRMED
END:VEVENT
BEGIN:VEVENT
UID:f5dbb2d8-af61-4f01-aa46-8c0341dc0321
SEQUENCE:0
DTSTAMP:20260422T201743Z
DTSTART;VALUE=DATE:20251226
X-MICROSOFT-CDO-ALLDAYEVENT:TRUE
X-MICROSOFT-MSNCALENDAR-ALLDAYEVENT:TRUE
SUMMARY:NSAA Moratorium
DESCRIPTION:NSAA Moratorium - No school
STATUS:CONFIRMED
END:VEVENT
BEGIN:VEVENT
UID:c3aef790-8078-45b0-ad76-1417d8aca709
SEQUENCE:0
DTSTAMP:20260422T201743Z
DTSTART;VALUE=DATE:20251227
X-MICROSOFT-CDO-ALLDAYEVENT:TRUE
X-MICROSOFT-MSNCALENDAR-ALLDAYEVENT:TRUE
SUMMARY:NSAA Moratorium
DESCRIPTION:NSAA Moratorium - No school
STATUS:CONFIRMED
END:VEVENT
BEGIN:VEVENT
UID:1c2c1b09-f5bf-4be3-a3da-d3f228499593
SEQUENCE:0
DTSTAMP:20260422T201743Z
DTSTART;VALUE=DATE:20251228
X-MICROSOFT-CDO-ALLDAYEVENT:TRUE
X-MICROSOFT-MSNCALENDAR-ALLDAYEVENT:TRUE
SUMMARY:NSAA Moratorium
DESCRIPTION:NSAA Moratorium - No school
STATUS:CONFIRMED
END:VEVENT
BEGIN:VEVENT
UID:80203d08-9cfc-438d-aeff-d39ffb5b8719
SEQUENCE:0
DTSTAMP:20260422T201743Z
DTSTART;VALUE=DATE:20260105
X-MICROSOFT-CDO-ALLDAYEVENT:TRUE
X-MICROSOFT-MSNCALENDAR-ALLDAYEVENT:TRUE
SUMMARY:Teacher Inservice (Jan)
DESCRIPTION:Teacher Inservice (Jan) - No school
STATUS:CONFIRMED
END:VEVENT
BEGIN:VEVENT
UID:da3b848d-b2ab-44cc-a9c2-1719e5cd67ee
SEQUENCE:0
DTSTAMP:20260422T201743Z
DTSTART;VALUE=DATE:20260213
X-MICROSOFT-CDO-ALLDAYEVENT:TRUE
X-MICROSOFT-MSNCALENDAR-ALLDAYEVENT:TRUE
SUMMARY:No School (Feb)
DESCRIPTION:No School (Feb) - No school
STATUS:CONFIRMED
END:VEVENT
BEGIN:VEVENT
UID:28fc44a8-fff1-4213-9009-921892cf8355
SEQUENCE:0
DTSTAMP:20260422T201743Z
DTSTART;VALUE=DATE:20260309
X-MICROSOFT-CDO-ALLDAYEVENT:TRUE
X-MICROSOFT-MSNCALENDAR-ALLDAYEVENT:TRUE
SUMMARY:Teacher Inservice (Mar)
DESCRIPTION:Teacher Inservice (Mar) - No school
STATUS:CONFIRMED
END:VEVENT
BEGIN:VEVENT
UID:1a011652-0c9e-4a28-a7fe-d068adf0aee9
SEQUENCE:0
DTSTAMP:20260422T201743Z
DTSTART;VALUE=DATE:20260310
X-MICROSOFT-CDO-ALLDAYEVENT:TRUE
X-MICROSOFT-MSNCALENDAR-ALLDAYEVENT:TRUE
SUMMARY:Teacher Inservice (Mar)
DESCRIPTION:Teacher Inservice (Mar) - No school
STATUS:CONFIRMED
END:VEVENT
BEGIN:VEVENT
UID:47e3c30c-4693-4cdb-86b6-9f6e8a279df4
SEQUENCE:0
DTSTAMP:20260422T201743Z
DTSTART;VALUE=DATE:20260522
X-MICROSOFT-CDO-ALLDAYEVENT:TRUE
X-MICROSOFT-MSNCALENDAR-ALLDAYEVENT:TRUE
SUMMARY:Teacher Inservice (May)
DESCRIPTION:Teacher Inservice (May) - No school
STATUS:CONFIRMED
END:VEVENT
BEGIN:VEVENT
UID:edd9062d-285d-478f-9a8f-9a1664cf0289
SEQUENCE:0
DTSTAMP:20260422T201743Z
DTSTART;VALUE=DATE:20260525
X-MICROSOFT-CDO-ALLDAYEVENT:TRUE
X-MICROSOFT-MSNCALENDAR-ALLDAYEVENT:TRUE
SUMMARY:Staff Inservice - No School (May)
DESCRIPTION:Staff Inservice - No School (May) - No school
STATUS:CONFIRMED
END:VEVENT
BEGIN:VEVENT
UID:57fe1ce1-c3ff-41cb-998b-c772ca87d556
SEQUENCE:0
DTSTAMP:20260422T201743Z
DTSTART;VALUE=DATE:20260526
X-MICROSOFT-CDO-ALLDAYEVENT:TRUE
X-MICROSOFT-MSNCALENDAR-ALLDAYEVENT:TRUE
SUMMARY:Staff Inservice - No School (May)
DESCRIPTION:Staff Inservice - No School (May) - No school
STATUS:CONFIRMED
END:VEVENT
BEGIN:VEVENT
UID:9563dfe9-288c-4d54-811d-57d3c3739e74
SEQUENCE:0
DTSTAMP:20260422T201743Z
DTSTART;VALUE=DATE:20260527
X-MICROSOFT-CDO-ALLDAYEVENT:TRUE
X-MICROSOFT-MSNCALENDAR-ALLDAYEVENT:TRUE
SUMMARY:Staff Inservice - No School (May)
DESCRIPTION:Staff Inservice - No School (May) - No school
STATUS:CONFIRMED
END:VEVENT
BEGIN:VEVENT
UID:c82e4e6a-da0a-4f0f-81a2-1c58561bd17a
SEQUENCE:0
DTSTAMP:20260422T201743Z
DTSTART;VALUE=DATE:20260528
X-MICROSOFT-CDO-ALLDAYEVENT:TRUE
X-MICROSOFT-MSNCALENDAR-ALLDAYEVENT:TRUE
SUMMARY:Staff Inservice - No School (May)
DESCRIPTION:Staff Inservice - No School (May) - No school
STATUS:CONFIRMED
END:VEVENT
BEGIN:VEVENT
UID:aeeaf676-0473-40f1-9a0b-d56e255860c6
SEQUENCE:0
DTSTAMP:20260422T201743Z
DTSTART;VALUE=DATE:20260529
X-MICROSOFT-CDO-ALLDAYEVENT:TRUE
X-MICROSOFT-MSNCALENDAR-ALLDAYEVENT:TRUE
SUMMARY:Staff Inservice - No School (May)
DESCRIPTION:Staff Inservice - No School (May) - No school
STATUS:CONFIRMED
END:VEVENT
BEGIN:VEVENT
UID:c5e8a09f-7d0b-40ab-93f1-323650e190fb
SEQUENCE:0
DTSTAMP:20260422T201743Z
DTSTART;VALUE=DATE:20260530
X-MICROSOFT-CDO-ALLDAYEVENT:TRUE
X-MICROSOFT-MSNCALENDAR-ALLDAYEVENT:TRUE
SUMMARY:Staff Inservice - No School (May)
DESCRIPTION:Staff Inservice - No School (May) - No school
STATUS:CONFIRMED
END:VEVENT
BEGIN:VEVENT
UID:dbb069b4-4ce4-44ef-acc6-167972030b8b
SEQUENCE:0
DTSTAMP:20260422T201743Z
DTSTART;VALUE=DATE:20260531
X-MICROSOFT-CDO-ALLDAYEVENT:TRUE
X-MICROSOFT-MSNCALENDAR-ALLDAYEVENT:TRUE
SUMMARY:Staff Inservice - No School (May)
DESCRIPTION:Staff Inservice - No School (May) - No school
STATUS:CONFIRMED
END:VEVENT
END:VCALENDAR