BEGIN:VCALENDAR
VERSION:2.0
PRODID:-//SchoolCalendarAPI//school-calendar//EN
URL:https://api.schools-calendar.com/calendar?district_id=nh-bedford-schoo
 l-district&year=2025-26
NAME:Bedford School District School Calendar 2025-26
X-WR-CALNAME:Bedford School District School Calendar 2025-26
X-WR-CALDESC:Official school calendar for Bedford School District for the 
 2025-26 school year.
REFRESH-INTERVAL;VALUE=DURATION:P1D
X-PUBLISHED-TTL:P1D
BEGIN:VEVENT
UID:6b3a3038-e341-49c5-aa87-411648a99d2d
SEQUENCE:0
DTSTAMP:20260424T203134Z
DTSTART;VALUE=DATE:20250829
X-MICROSOFT-CDO-ALLDAYEVENT:TRUE
X-MICROSOFT-MSNCALENDAR-ALLDAYEVENT:TRUE
SUMMARY:First Day of School
DESCRIPTION:First day of the 2025-26 school year
STATUS:CONFIRMED
END:VEVENT
BEGIN:VEVENT
UID:5545fbc0-d92a-4970-8a5c-43501fd8a328
SEQUENCE:0
DTSTAMP:20260424T203134Z
DTSTART;VALUE=DATE:20260613
X-MICROSOFT-CDO-ALLDAYEVENT:TRUE
X-MICROSOFT-MSNCALENDAR-ALLDAYEVENT:TRUE
SUMMARY:Last Day of School
DESCRIPTION:Last day of the 2025-26 school year
STATUS:CONFIRMED
END:VEVENT
BEGIN:VEVENT
UID:c1a1b922-8d6e-4a09-9fc6-b0a9cd25b672
SEQUENCE:0
DTSTAMP:20260424T203134Z
DTSTART;VALUE=DATE:20251122
DTEND;VALUE=DATE:20251125
X-MICROSOFT-CDO-ALLDAYEVENT:TRUE
X-MICROSOFT-MSNCALENDAR-ALLDAYEVENT:TRUE
SUMMARY:Thanksgiving Recess
DESCRIPTION:Thanksgiving Recess - No school
STATUS:CONFIRMED
END:VEVENT
BEGIN:VEVENT
UID:f4a880a0-4c8d-4df3-aa80-9912df881328
SEQUENCE:0
DTSTAMP:20260424T203134Z
DTSTART;VALUE=DATE:20251225
DTEND;VALUE=DATE:20260102
X-MICROSOFT-CDO-ALLDAYEVENT:TRUE
X-MICROSOFT-MSNCALENDAR-ALLDAYEVENT:TRUE
SUMMARY:Holiday Recess
DESCRIPTION:Holiday Recess - No school
STATUS:CONFIRMED
END:VEVENT
BEGIN:VEVENT
UID:17bbfb7b-0b5e-4820-8da8-5b00c2d7899d
SEQUENCE:0
DTSTAMP:20260424T203134Z
DTSTART;VALUE=DATE:20260226
DTEND;VALUE=DATE:20260302
X-MICROSOFT-CDO-ALLDAYEVENT:TRUE
X-MICROSOFT-MSNCALENDAR-ALLDAYEVENT:TRUE
SUMMARY:Winter Vacation
DESCRIPTION:Winter Vacation - No school
STATUS:CONFIRMED
END:VEVENT
BEGIN:VEVENT
UID:9635321f-d355-4807-af93-a7b49d7fa2c4
SEQUENCE:0
DTSTAMP:20260424T203134Z
DTSTART;VALUE=DATE:20260422
DTEND;VALUE=DATE:20260427
X-MICROSOFT-CDO-ALLDAYEVENT:TRUE
X-MICROSOFT-MSNCALENDAR-ALLDAYEVENT:TRUE
SUMMARY:Spring Vacation
DESCRIPTION:Spring Vacation - No school
STATUS:CONFIRMED
END:VEVENT
BEGIN:VEVENT
UID:895e54ad-911a-41f7-9313-d9a3386ae7c8
SEQUENCE:0
DTSTAMP:20260424T203134Z
DTSTART;VALUE=DATE:20250904
X-MICROSOFT-CDO-ALLDAYEVENT:TRUE
X-MICROSOFT-MSNCALENDAR-ALLDAYEVENT:TRUE
SUMMARY:Labor Day Observance
DESCRIPTION:Labor Day Observance - No school
STATUS:CONFIRMED
END:VEVENT
BEGIN:VEVENT
UID:8dbfb6df-d7f1-4bd9-a157-0ad22c9d5cf0
SEQUENCE:0
DTSTAMP:20260424T203134Z
DTSTART;VALUE=DATE:20251009
X-MICROSOFT-CDO-ALLDAYEVENT:TRUE
X-MICROSOFT-MSNCALENDAR-ALLDAYEVENT:TRUE
SUMMARY:Columbus Day Observance
DESCRIPTION:Columbus Day Observance - No school
STATUS:CONFIRMED
END:VEVENT
BEGIN:VEVENT
UID:988f5fbb-804b-4c4e-90fb-799174557db1
SEQUENCE:0
DTSTAMP:20260424T203134Z
DTSTART;VALUE=DATE:20251110
X-MICROSOFT-CDO-ALLDAYEVENT:TRUE
X-MICROSOFT-MSNCALENDAR-ALLDAYEVENT:TRUE
SUMMARY:Veterans Day Observance
DESCRIPTION:Veterans Day Observance - No school
STATUS:CONFIRMED
END:VEVENT
BEGIN:VEVENT
UID:3efcdde2-e91c-4f43-aac2-a798548bd7f9
SEQUENCE:0
DTSTAMP:20260424T203134Z
DTSTART;VALUE=DATE:20260115
X-MICROSOFT-CDO-ALLDAYEVENT:TRUE
X-MICROSOFT-MSNCALENDAR-ALLDAYEVENT:TRUE
SUMMARY:Martin Luther King Day Observance
DESCRIPTION:Martin Luther King Day Observance - No school
STATUS:CONFIRMED
END:VEVENT
BEGIN:VEVENT
UID:16d06c42-cb80-48d0-8bd5-bc79975de6c3
SEQUENCE:0
DTSTAMP:20260424T203134Z
DTSTART;VALUE=DATE:20260527
X-MICROSOFT-CDO-ALLDAYEVENT:TRUE
X-MICROSOFT-MSNCALENDAR-ALLDAYEVENT:TRUE
SUMMARY:Memorial Day Observed
DESCRIPTION:Memorial Day Observed - No school
STATUS:CONFIRMED
END:VEVENT
END:VCALENDAR