BEGIN:VCALENDAR
VERSION:2.0
PRODID:-//SchoolCalendarAPI//school-calendar//EN
URL:https://api.schools-calendar.com/calendar?district_id=nh-manchester-sc
 hool-district&year=2025-26
NAME:Manchester School District School Calendar 2025-26
X-WR-CALNAME:Manchester School District School Calendar 2025-26
X-WR-CALDESC:Official school calendar for Manchester School District for t
 he 2025-26 school year.
REFRESH-INTERVAL;VALUE=DURATION:P1D
X-PUBLISHED-TTL:P1D
BEGIN:VEVENT
UID:a1d47dc3-232c-41e8-8f37-31edd2a11143
SEQUENCE:0
DTSTAMP:20260424T190302Z
DTSTART;VALUE=DATE:20250904
X-MICROSOFT-CDO-ALLDAYEVENT:TRUE
X-MICROSOFT-MSNCALENDAR-ALLDAYEVENT:TRUE
SUMMARY:First Day of School
DESCRIPTION:First day of the 2025-26 school year
STATUS:CONFIRMED
END:VEVENT
BEGIN:VEVENT
UID:6ad6d493-a010-4e42-8c84-2335d464e74e
SEQUENCE:0
DTSTAMP:20260424T190302Z
DTSTART;VALUE=DATE:20260617
X-MICROSOFT-CDO-ALLDAYEVENT:TRUE
X-MICROSOFT-MSNCALENDAR-ALLDAYEVENT:TRUE
SUMMARY:Last Day of School
DESCRIPTION:Last day of the 2025-26 school year
STATUS:CONFIRMED
END:VEVENT
BEGIN:VEVENT
UID:9c771a2e-8dd7-480e-9f38-b64a6735c932
SEQUENCE:0
DTSTAMP:20260424T190302Z
DTSTART;VALUE=DATE:20251126
DTEND;VALUE=DATE:20251129
X-MICROSOFT-CDO-ALLDAYEVENT:TRUE
X-MICROSOFT-MSNCALENDAR-ALLDAYEVENT:TRUE
SUMMARY:Thanksgiving Break
DESCRIPTION:Thanksgiving Break - No school
STATUS:CONFIRMED
END:VEVENT
BEGIN:VEVENT
UID:d2a07617-ee05-4929-9d7a-3d2f442ba4bf
SEQUENCE:0
DTSTAMP:20260424T190302Z
DTSTART;VALUE=DATE:20251224
DTEND;VALUE=DATE:20260103
X-MICROSOFT-CDO-ALLDAYEVENT:TRUE
X-MICROSOFT-MSNCALENDAR-ALLDAYEVENT:TRUE
SUMMARY:Winter Vacation
DESCRIPTION:Winter Vacation - No school
STATUS:CONFIRMED
END:VEVENT
BEGIN:VEVENT
UID:808c0ee3-ba7e-4604-b608-9118ecc0eecf
SEQUENCE:0
DTSTAMP:20260424T190302Z
DTSTART;VALUE=DATE:20260223
DTEND;VALUE=DATE:20260228
X-MICROSOFT-CDO-ALLDAYEVENT:TRUE
X-MICROSOFT-MSNCALENDAR-ALLDAYEVENT:TRUE
SUMMARY:February Vacation
DESCRIPTION:February Vacation - No school
STATUS:CONFIRMED
END:VEVENT
BEGIN:VEVENT
UID:c6f770e2-4ad7-43ec-adc1-9c405bea2b6c
SEQUENCE:0
DTSTAMP:20260424T190302Z
DTSTART;VALUE=DATE:20260427
DTEND;VALUE=DATE:20260502
X-MICROSOFT-CDO-ALLDAYEVENT:TRUE
X-MICROSOFT-MSNCALENDAR-ALLDAYEVENT:TRUE
SUMMARY:April Vacation
DESCRIPTION:April Vacation - No school
STATUS:CONFIRMED
END:VEVENT
BEGIN:VEVENT
UID:912111c1-66d5-4287-99c1-36d14b17e491
SEQUENCE:0
DTSTAMP:20260424T190302Z
DTSTART;VALUE=DATE:20250916
X-MICROSOFT-CDO-ALLDAYEVENT:TRUE
X-MICROSOFT-MSNCALENDAR-ALLDAYEVENT:TRUE
SUMMARY:Primary Election Day
DESCRIPTION:Primary Election Day - No school
STATUS:CONFIRMED
END:VEVENT
BEGIN:VEVENT
UID:031407dd-78ef-402c-a5b4-2ec9ce276e31
SEQUENCE:0
DTSTAMP:20260424T190302Z
DTSTART;VALUE=DATE:20251010
X-MICROSOFT-CDO-ALLDAYEVENT:TRUE
X-MICROSOFT-MSNCALENDAR-ALLDAYEVENT:TRUE
SUMMARY:Professional Learning Day
DESCRIPTION:Professional Learning Day - No school
STATUS:CONFIRMED
END:VEVENT
BEGIN:VEVENT
UID:24107862-db58-46a8-8089-64f9757a5ddd
SEQUENCE:0
DTSTAMP:20260424T190302Z
DTSTART;VALUE=DATE:20251013
X-MICROSOFT-CDO-ALLDAYEVENT:TRUE
X-MICROSOFT-MSNCALENDAR-ALLDAYEVENT:TRUE
SUMMARY:Columbus Day
DESCRIPTION:Columbus Day - No school
STATUS:CONFIRMED
END:VEVENT
BEGIN:VEVENT
UID:ffa0d2a6-8841-4d63-98a9-0057893f0d72
SEQUENCE:0
DTSTAMP:20260424T190302Z
DTSTART;VALUE=DATE:20251104
X-MICROSOFT-CDO-ALLDAYEVENT:TRUE
X-MICROSOFT-MSNCALENDAR-ALLDAYEVENT:TRUE
SUMMARY:Election Day
DESCRIPTION:Election Day - No school
STATUS:CONFIRMED
END:VEVENT
BEGIN:VEVENT
UID:2c3853f1-ce32-4d68-ae47-299e6c120cca
SEQUENCE:0
DTSTAMP:20260424T190302Z
DTSTART;VALUE=DATE:20251111
X-MICROSOFT-CDO-ALLDAYEVENT:TRUE
X-MICROSOFT-MSNCALENDAR-ALLDAYEVENT:TRUE
SUMMARY:Veterans Day
DESCRIPTION:Veterans Day - No school
STATUS:CONFIRMED
END:VEVENT
BEGIN:VEVENT
UID:ab3a1aea-ed19-4789-b172-442cd73c558b
SEQUENCE:0
DTSTAMP:20260424T190302Z
DTSTART;VALUE=DATE:20260119
X-MICROSOFT-CDO-ALLDAYEVENT:TRUE
X-MICROSOFT-MSNCALENDAR-ALLDAYEVENT:TRUE
SUMMARY:Dr. Martin Luther King\, Jr. Day
DESCRIPTION:Dr. Martin Luther King\, Jr. Day - No school
STATUS:CONFIRMED
END:VEVENT
BEGIN:VEVENT
UID:68b14396-7c77-4541-bb25-e6a77757c2de
SEQUENCE:0
DTSTAMP:20260424T190302Z
DTSTART;VALUE=DATE:20260216
X-MICROSOFT-CDO-ALLDAYEVENT:TRUE
X-MICROSOFT-MSNCALENDAR-ALLDAYEVENT:TRUE
SUMMARY:Presidents Day
DESCRIPTION:Presidents Day - No school
STATUS:CONFIRMED
END:VEVENT
BEGIN:VEVENT
UID:b80f06ef-9d90-4651-8515-4c29feef4523
SEQUENCE:0
DTSTAMP:20260424T190302Z
DTSTART;VALUE=DATE:20260316
X-MICROSOFT-CDO-ALLDAYEVENT:TRUE
X-MICROSOFT-MSNCALENDAR-ALLDAYEVENT:TRUE
SUMMARY:Professional Learning Day
DESCRIPTION:Professional Learning Day - No school
STATUS:CONFIRMED
END:VEVENT
BEGIN:VEVENT
UID:b9979a7f-90ea-48b7-9f5c-f599f6395a8c
SEQUENCE:0
DTSTAMP:20260424T190302Z
DTSTART;VALUE=DATE:20260525
X-MICROSOFT-CDO-ALLDAYEVENT:TRUE
X-MICROSOFT-MSNCALENDAR-ALLDAYEVENT:TRUE
SUMMARY:Memorial Day Holiday
DESCRIPTION:Memorial Day Holiday - No school
STATUS:CONFIRMED
END:VEVENT
END:VCALENDAR