BEGIN:VCALENDAR
VERSION:2.0
PRODID:-//SchoolCalendarAPI//school-calendar//EN
URL:https://api.schools-calendar.com/calendar?district_id=va-york-county-p
 ublic-schools&year=2025-26
NAME:York County Public Schools School Calendar 2025-26
X-WR-CALNAME:York County Public Schools School Calendar 2025-26
X-WR-CALDESC:Official school calendar for York County Public Schools for t
 he 2025-26 school year.
REFRESH-INTERVAL;VALUE=DURATION:P1D
X-PUBLISHED-TTL:P1D
BEGIN:VEVENT
UID:3650d991-8e2b-4ce4-9b8d-828d61ab1647
SEQUENCE:0
DTSTAMP:20260421T080521Z
DTSTART;VALUE=DATE:20250825
X-MICROSOFT-CDO-ALLDAYEVENT:TRUE
X-MICROSOFT-MSNCALENDAR-ALLDAYEVENT:TRUE
SUMMARY:First Day of School
DESCRIPTION:First day of the 2025-26 school year
STATUS:CONFIRMED
END:VEVENT
BEGIN:VEVENT
UID:0c801a57-6b29-4c6f-8c16-6755bf9afd7e
SEQUENCE:0
DTSTAMP:20260421T080521Z
DTSTART;VALUE=DATE:20260610
X-MICROSOFT-CDO-ALLDAYEVENT:TRUE
X-MICROSOFT-MSNCALENDAR-ALLDAYEVENT:TRUE
SUMMARY:Last Day of School
DESCRIPTION:Last day of the 2025-26 school year
STATUS:CONFIRMED
END:VEVENT
BEGIN:VEVENT
UID:4a003bcc-babc-4a86-9b58-72d381b24129
SEQUENCE:0
DTSTAMP:20260421T080521Z
DTSTART;VALUE=DATE:20251126
DTEND;VALUE=DATE:20251129
X-MICROSOFT-CDO-ALLDAYEVENT:TRUE
X-MICROSOFT-MSNCALENDAR-ALLDAYEVENT:TRUE
SUMMARY:Thanksgiving Break
DESCRIPTION:Thanksgiving Break - No school
STATUS:CONFIRMED
END:VEVENT
BEGIN:VEVENT
UID:666243cb-74e1-407c-a70f-3d3e074db9d7
SEQUENCE:0
DTSTAMP:20260421T080521Z
DTSTART;VALUE=DATE:20251222
DTEND;VALUE=DATE:20260103
X-MICROSOFT-CDO-ALLDAYEVENT:TRUE
X-MICROSOFT-MSNCALENDAR-ALLDAYEVENT:TRUE
SUMMARY:Winter Break
DESCRIPTION:Winter Break - No school
STATUS:CONFIRMED
END:VEVENT
BEGIN:VEVENT
UID:c25ad12f-e51f-4a7e-b626-915ee939c1d2
SEQUENCE:0
DTSTAMP:20260421T080521Z
DTSTART;VALUE=DATE:20260406
DTEND;VALUE=DATE:20260411
X-MICROSOFT-CDO-ALLDAYEVENT:TRUE
X-MICROSOFT-MSNCALENDAR-ALLDAYEVENT:TRUE
SUMMARY:Spring Break
DESCRIPTION:Spring Break - No school
STATUS:CONFIRMED
END:VEVENT
BEGIN:VEVENT
UID:fb89a6a1-2492-454d-bcdf-a5339cbfb250
SEQUENCE:0
DTSTAMP:20260421T080521Z
DTSTART;VALUE=DATE:20250704
X-MICROSOFT-CDO-ALLDAYEVENT:TRUE
X-MICROSOFT-MSNCALENDAR-ALLDAYEVENT:TRUE
SUMMARY:Independence Day
DESCRIPTION:Independence Day - No school
STATUS:CONFIRMED
END:VEVENT
BEGIN:VEVENT
UID:e413ec38-7dec-4628-b4a8-0af65c46759a
SEQUENCE:0
DTSTAMP:20260421T080521Z
DTSTART;VALUE=DATE:20250829
X-MICROSOFT-CDO-ALLDAYEVENT:TRUE
X-MICROSOFT-MSNCALENDAR-ALLDAYEVENT:TRUE
SUMMARY:Student Holiday
DESCRIPTION:Student Holiday - No school
STATUS:CONFIRMED
END:VEVENT
BEGIN:VEVENT
UID:e20d94d2-d60b-4427-833a-c7440446a23a
SEQUENCE:0
DTSTAMP:20260421T080521Z
DTSTART;VALUE=DATE:20250901
X-MICROSOFT-CDO-ALLDAYEVENT:TRUE
X-MICROSOFT-MSNCALENDAR-ALLDAYEVENT:TRUE
SUMMARY:Labor Day
DESCRIPTION:Labor Day - No school
STATUS:CONFIRMED
END:VEVENT
BEGIN:VEVENT
UID:75993db3-596d-457f-8885-389a405f7867
SEQUENCE:0
DTSTAMP:20260421T080521Z
DTSTART;VALUE=DATE:20251003
X-MICROSOFT-CDO-ALLDAYEVENT:TRUE
X-MICROSOFT-MSNCALENDAR-ALLDAYEVENT:TRUE
SUMMARY:Student Holiday
DESCRIPTION:Student Holiday - No school
STATUS:CONFIRMED
END:VEVENT
BEGIN:VEVENT
UID:bf9b4f41-e3af-4f68-8613-8a0bc01533e7
SEQUENCE:0
DTSTAMP:20260421T080521Z
DTSTART;VALUE=DATE:20251009
X-MICROSOFT-CDO-ALLDAYEVENT:TRUE
X-MICROSOFT-MSNCALENDAR-ALLDAYEVENT:TRUE
SUMMARY:Student Holiday
DESCRIPTION:Student Holiday - No school
STATUS:CONFIRMED
END:VEVENT
BEGIN:VEVENT
UID:b973b619-6b7c-47c7-92d8-5ef166c57654
SEQUENCE:0
DTSTAMP:20260421T080521Z
DTSTART;VALUE=DATE:20251013
X-MICROSOFT-CDO-ALLDAYEVENT:TRUE
X-MICROSOFT-MSNCALENDAR-ALLDAYEVENT:TRUE
SUMMARY:Columbus Day
DESCRIPTION:Columbus Day - No school
STATUS:CONFIRMED
END:VEVENT
BEGIN:VEVENT
UID:0f814ec3-7ca4-4ebe-a51f-93a3446edff1
SEQUENCE:0
DTSTAMP:20260421T080521Z
DTSTART;VALUE=DATE:20251031
X-MICROSOFT-CDO-ALLDAYEVENT:TRUE
X-MICROSOFT-MSNCALENDAR-ALLDAYEVENT:TRUE
SUMMARY:Student Holiday
DESCRIPTION:Student Holiday - No school
STATUS:CONFIRMED
END:VEVENT
BEGIN:VEVENT
UID:5eb9c968-af57-4bb7-a7c9-ca31b9b32c6c
SEQUENCE:0
DTSTAMP:20260421T080521Z
DTSTART;VALUE=DATE:20251103
X-MICROSOFT-CDO-ALLDAYEVENT:TRUE
X-MICROSOFT-MSNCALENDAR-ALLDAYEVENT:TRUE
SUMMARY:Student Holidays
DESCRIPTION:Student Holidays - No school
STATUS:CONFIRMED
END:VEVENT
BEGIN:VEVENT
UID:4cc95e03-6cf6-4a93-b595-8180ae02e972
SEQUENCE:0
DTSTAMP:20260421T080521Z
DTSTART;VALUE=DATE:20251104
X-MICROSOFT-CDO-ALLDAYEVENT:TRUE
X-MICROSOFT-MSNCALENDAR-ALLDAYEVENT:TRUE
SUMMARY:Student Holidays
DESCRIPTION:Student Holidays - No school
STATUS:CONFIRMED
END:VEVENT
BEGIN:VEVENT
UID:b50f07cf-0fad-4698-b902-77fc2debde63
SEQUENCE:0
DTSTAMP:20260421T080521Z
DTSTART;VALUE=DATE:20251105
X-MICROSOFT-CDO-ALLDAYEVENT:TRUE
X-MICROSOFT-MSNCALENDAR-ALLDAYEVENT:TRUE
SUMMARY:Student Holiday
DESCRIPTION:Student Holiday - No school
STATUS:CONFIRMED
END:VEVENT
BEGIN:VEVENT
UID:f5afef2c-d26b-45eb-b8ce-309da7f86dd5
SEQUENCE:0
DTSTAMP:20260421T080521Z
DTSTART;VALUE=DATE:20251106
X-MICROSOFT-CDO-ALLDAYEVENT:TRUE
X-MICROSOFT-MSNCALENDAR-ALLDAYEVENT:TRUE
SUMMARY:Student Holiday
DESCRIPTION:Student Holiday - No school
STATUS:CONFIRMED
END:VEVENT
BEGIN:VEVENT
UID:ab6bab48-f6ad-4453-82f7-225091e2e86c
SEQUENCE:0
DTSTAMP:20260421T080521Z
DTSTART;VALUE=DATE:20251111
X-MICROSOFT-CDO-ALLDAYEVENT:TRUE
X-MICROSOFT-MSNCALENDAR-ALLDAYEVENT:TRUE
SUMMARY:Veterans Day
DESCRIPTION:Veterans Day - No school
STATUS:CONFIRMED
END:VEVENT
BEGIN:VEVENT
UID:1b383971-667d-48a2-8e29-687fb0d5729f
SEQUENCE:0
DTSTAMP:20260421T080521Z
DTSTART;VALUE=DATE:20251218
X-MICROSOFT-CDO-ALLDAYEVENT:TRUE
X-MICROSOFT-MSNCALENDAR-ALLDAYEVENT:TRUE
SUMMARY:Student Holiday
DESCRIPTION:Student Holiday - No school
STATUS:CONFIRMED
END:VEVENT
BEGIN:VEVENT
UID:4b96dd33-6861-455d-8c07-a3d8f6ab29d6
SEQUENCE:0
DTSTAMP:20260421T080521Z
DTSTART;VALUE=DATE:20260119
X-MICROSOFT-CDO-ALLDAYEVENT:TRUE
X-MICROSOFT-MSNCALENDAR-ALLDAYEVENT:TRUE
SUMMARY:MLK Day
DESCRIPTION:MLK Day - No school
STATUS:CONFIRMED
END:VEVENT
BEGIN:VEVENT
UID:bffc5f52-1c3c-477a-ba87-33919a17d822
SEQUENCE:0
DTSTAMP:20260421T080521Z
DTSTART;VALUE=DATE:20260123
X-MICROSOFT-CDO-ALLDAYEVENT:TRUE
X-MICROSOFT-MSNCALENDAR-ALLDAYEVENT:TRUE
SUMMARY:Student Holiday
DESCRIPTION:Student Holiday - No school
STATUS:CONFIRMED
END:VEVENT
BEGIN:VEVENT
UID:708b8bd4-6568-4aaa-835c-ac729daf0d3f
SEQUENCE:0
DTSTAMP:20260421T080521Z
DTSTART;VALUE=DATE:20260126
X-MICROSOFT-CDO-ALLDAYEVENT:TRUE
X-MICROSOFT-MSNCALENDAR-ALLDAYEVENT:TRUE
SUMMARY:Student Holiday
DESCRIPTION:Student Holiday - No school
STATUS:CONFIRMED
END:VEVENT
BEGIN:VEVENT
UID:c33890b1-0483-4969-af3c-fa226bc03b47
SEQUENCE:0
DTSTAMP:20260421T080521Z
DTSTART;VALUE=DATE:20260127
X-MICROSOFT-CDO-ALLDAYEVENT:TRUE
X-MICROSOFT-MSNCALENDAR-ALLDAYEVENT:TRUE
SUMMARY:Student Holiday
DESCRIPTION:Student Holiday - No school
STATUS:CONFIRMED
END:VEVENT
BEGIN:VEVENT
UID:76ab275b-d924-4aff-80ab-544667146ce6
SEQUENCE:0
DTSTAMP:20260421T080521Z
DTSTART;VALUE=DATE:20260129
X-MICROSOFT-CDO-ALLDAYEVENT:TRUE
X-MICROSOFT-MSNCALENDAR-ALLDAYEVENT:TRUE
SUMMARY:Student Holiday
DESCRIPTION:Student Holiday - No school
STATUS:CONFIRMED
END:VEVENT
BEGIN:VEVENT
UID:02377cf0-9993-4e87-b314-768a1f37ccb8
SEQUENCE:0
DTSTAMP:20260421T080521Z
DTSTART;VALUE=DATE:20260216
X-MICROSOFT-CDO-ALLDAYEVENT:TRUE
X-MICROSOFT-MSNCALENDAR-ALLDAYEVENT:TRUE
SUMMARY:Presidents Day
DESCRIPTION:Presidents Day - No school
STATUS:CONFIRMED
END:VEVENT
BEGIN:VEVENT
UID:757dd54b-f344-411a-b50a-3835ee42ca6c
SEQUENCE:0
DTSTAMP:20260421T080521Z
DTSTART;VALUE=DATE:20260306
X-MICROSOFT-CDO-ALLDAYEVENT:TRUE
X-MICROSOFT-MSNCALENDAR-ALLDAYEVENT:TRUE
SUMMARY:Student Holiday
DESCRIPTION:Student Holiday - No school
STATUS:CONFIRMED
END:VEVENT
BEGIN:VEVENT
UID:8812e02b-360f-4b26-b413-f58de36b39d9
SEQUENCE:0
DTSTAMP:20260421T080521Z
DTSTART;VALUE=DATE:20260312
X-MICROSOFT-CDO-ALLDAYEVENT:TRUE
X-MICROSOFT-MSNCALENDAR-ALLDAYEVENT:TRUE
SUMMARY:Student Holiday
DESCRIPTION:Student Holiday - No school
STATUS:CONFIRMED
END:VEVENT
BEGIN:VEVENT
UID:0c52a838-0bba-410f-bb5a-3efb317a4d79
SEQUENCE:0
DTSTAMP:20260421T080521Z
DTSTART;VALUE=DATE:20260403
X-MICROSOFT-CDO-ALLDAYEVENT:TRUE
X-MICROSOFT-MSNCALENDAR-ALLDAYEVENT:TRUE
SUMMARY:Good Friday
DESCRIPTION:Good Friday - No school
STATUS:CONFIRMED
END:VEVENT
BEGIN:VEVENT
UID:167d8ac8-cc0a-4c7d-ade8-c788ad71684a
SEQUENCE:0
DTSTAMP:20260421T080521Z
DTSTART;VALUE=DATE:20260413
X-MICROSOFT-CDO-ALLDAYEVENT:TRUE
X-MICROSOFT-MSNCALENDAR-ALLDAYEVENT:TRUE
SUMMARY:Student Holiday
DESCRIPTION:Student Holiday - No school
STATUS:CONFIRMED
END:VEVENT
BEGIN:VEVENT
UID:7c2ced35-33bf-49c3-84e2-bf85ab9f00d2
SEQUENCE:0
DTSTAMP:20260421T080521Z
DTSTART;VALUE=DATE:20260416
X-MICROSOFT-CDO-ALLDAYEVENT:TRUE
X-MICROSOFT-MSNCALENDAR-ALLDAYEVENT:TRUE
SUMMARY:Student Holiday
DESCRIPTION:Student Holiday - No school
STATUS:CONFIRMED
END:VEVENT
BEGIN:VEVENT
UID:d97b07ec-c2ad-4cc7-9d2d-0954dc4684d7
SEQUENCE:0
DTSTAMP:20260421T080521Z
DTSTART;VALUE=DATE:20260501
X-MICROSOFT-CDO-ALLDAYEVENT:TRUE
X-MICROSOFT-MSNCALENDAR-ALLDAYEVENT:TRUE
SUMMARY:Student Holiday
DESCRIPTION:Student Holiday - No school
STATUS:CONFIRMED
END:VEVENT
BEGIN:VEVENT
UID:739fe5da-3f9d-4218-a48b-f690c6c06ba7
SEQUENCE:0
DTSTAMP:20260421T080521Z
DTSTART;VALUE=DATE:20260507
X-MICROSOFT-CDO-ALLDAYEVENT:TRUE
X-MICROSOFT-MSNCALENDAR-ALLDAYEVENT:TRUE
SUMMARY:Student Holiday
DESCRIPTION:Student Holiday - No school
STATUS:CONFIRMED
END:VEVENT
BEGIN:VEVENT
UID:a766b7f5-4c49-4823-8cf2-81328098da03
SEQUENCE:0
DTSTAMP:20260421T080521Z
DTSTART;VALUE=DATE:20260525
X-MICROSOFT-CDO-ALLDAYEVENT:TRUE
X-MICROSOFT-MSNCALENDAR-ALLDAYEVENT:TRUE
SUMMARY:Memorial Day
DESCRIPTION:Memorial Day - No school
STATUS:CONFIRMED
END:VEVENT
BEGIN:VEVENT
UID:b265fa37-e495-4485-b222-5e87a593ab22
SEQUENCE:0
DTSTAMP:20260421T080521Z
DTSTART;VALUE=DATE:20260611
X-MICROSOFT-CDO-ALLDAYEVENT:TRUE
X-MICROSOFT-MSNCALENDAR-ALLDAYEVENT:TRUE
SUMMARY:Student Holiday
DESCRIPTION:Student Holiday - No school
STATUS:CONFIRMED
END:VEVENT
BEGIN:VEVENT
UID:6e74757e-901c-497a-8624-5977bfcf58eb
SEQUENCE:0
DTSTAMP:20260421T080521Z
DTSTART;VALUE=DATE:20260619
X-MICROSOFT-CDO-ALLDAYEVENT:TRUE
X-MICROSOFT-MSNCALENDAR-ALLDAYEVENT:TRUE
SUMMARY:Juneteenth
DESCRIPTION:Juneteenth - No school
STATUS:CONFIRMED
END:VEVENT
END:VCALENDAR