BEGIN:VCALENDAR
VERSION:2.0
PRODID:-//SchoolCalendarAPI//school-calendar//EN
URL:https://api.schools-calendar.com/calendar?district_id=wi-cochrane-foun
 tain-city-school-district&year=2025-26
NAME:Cochrane-Fountain City School District School Calendar 2025-26
X-WR-CALNAME:Cochrane-Fountain City School District School Calendar 2025-2
 6
X-WR-CALDESC:Official school calendar for Cochrane-Fountain City School Di
 strict for the 2025-26 school year.
REFRESH-INTERVAL;VALUE=DURATION:P1D
X-PUBLISHED-TTL:P1D
BEGIN:VEVENT
UID:0511ad58-4807-47c8-8596-71cbe2cd2f8d
SEQUENCE:0
DTSTAMP:20260421T081029Z
DTSTART;VALUE=DATE:20250818
X-MICROSOFT-CDO-ALLDAYEVENT:TRUE
X-MICROSOFT-MSNCALENDAR-ALLDAYEVENT:TRUE
SUMMARY:First Day of School
DESCRIPTION:First day of the 2025-26 school year
STATUS:CONFIRMED
END:VEVENT
BEGIN:VEVENT
UID:8eabb733-ff49-4404-ae2c-23e35f7c2de4
SEQUENCE:0
DTSTAMP:20260421T081029Z
DTSTART;VALUE=DATE:20260529
X-MICROSOFT-CDO-ALLDAYEVENT:TRUE
X-MICROSOFT-MSNCALENDAR-ALLDAYEVENT:TRUE
SUMMARY:Last Day of School
DESCRIPTION:Last day of the 2025-26 school year
STATUS:CONFIRMED
END:VEVENT
BEGIN:VEVENT
UID:2c5869aa-c8bb-4080-882b-99fb0f020126
SEQUENCE:0
DTSTAMP:20260421T081029Z
DTSTART;VALUE=DATE:20251126
DTEND;VALUE=DATE:20251129
X-MICROSOFT-CDO-ALLDAYEVENT:TRUE
X-MICROSOFT-MSNCALENDAR-ALLDAYEVENT:TRUE
SUMMARY:Thanksgiving Break
DESCRIPTION:Thanksgiving Break - No school
STATUS:CONFIRMED
END:VEVENT
BEGIN:VEVENT
UID:352c2e0a-c820-4d22-bd7b-699a1a153f4e
SEQUENCE:0
DTSTAMP:20260421T081029Z
DTSTART;VALUE=DATE:20251224
DTEND;VALUE=DATE:20260103
X-MICROSOFT-CDO-ALLDAYEVENT:TRUE
X-MICROSOFT-MSNCALENDAR-ALLDAYEVENT:TRUE
SUMMARY:Winter Break
DESCRIPTION:Winter Break - No school
STATUS:CONFIRMED
END:VEVENT
BEGIN:VEVENT
UID:10b31616-cec7-4e1c-b238-480863593a06
SEQUENCE:0
DTSTAMP:20260421T081029Z
DTSTART;VALUE=DATE:20260401
DTEND;VALUE=DATE:20260407
X-MICROSOFT-CDO-ALLDAYEVENT:TRUE
X-MICROSOFT-MSNCALENDAR-ALLDAYEVENT:TRUE
SUMMARY:Spring Break
DESCRIPTION:Spring Break - No school
STATUS:CONFIRMED
END:VEVENT
BEGIN:VEVENT
UID:d04175f8-0fc7-4cde-ac76-3aaf446871cf
SEQUENCE:0
DTSTAMP:20260421T081029Z
DTSTART;VALUE=DATE:20250901
X-MICROSOFT-CDO-ALLDAYEVENT:TRUE
X-MICROSOFT-MSNCALENDAR-ALLDAYEVENT:TRUE
SUMMARY:Labor Day
DESCRIPTION:Labor Day - No school
STATUS:CONFIRMED
END:VEVENT
BEGIN:VEVENT
UID:56343c0c-c1cd-46eb-bb11-aec7c08b2fd0
SEQUENCE:0
DTSTAMP:20260421T081029Z
DTSTART;VALUE=DATE:20260525
X-MICROSOFT-CDO-ALLDAYEVENT:TRUE
X-MICROSOFT-MSNCALENDAR-ALLDAYEVENT:TRUE
SUMMARY:Memorial Day
DESCRIPTION:Memorial Day - No school
STATUS:CONFIRMED
END:VEVENT
BEGIN:VEVENT
UID:6a6ac5e0-41a1-4302-b683-1f93bafd4b07
SEQUENCE:0
DTSTAMP:20260421T081029Z
DTSTART;VALUE=DATE:20250902
X-MICROSOFT-CDO-ALLDAYEVENT:TRUE
X-MICROSOFT-MSNCALENDAR-ALLDAYEVENT:TRUE
SUMMARY:No School / Holiday
DESCRIPTION:No School / Holiday - No school
STATUS:CONFIRMED
END:VEVENT
BEGIN:VEVENT
UID:c659f02f-9923-4af7-8ff2-61df61b1d672
SEQUENCE:0
DTSTAMP:20260421T081029Z
DTSTART;VALUE=DATE:20251003
X-MICROSOFT-CDO-ALLDAYEVENT:TRUE
X-MICROSOFT-MSNCALENDAR-ALLDAYEVENT:TRUE
SUMMARY:No School / Holiday
DESCRIPTION:No School / Holiday - No school
STATUS:CONFIRMED
END:VEVENT
BEGIN:VEVENT
UID:fa77d3fb-ffe4-4403-88bb-112fdb25d353
SEQUENCE:0
DTSTAMP:20260421T081029Z
DTSTART;VALUE=DATE:20251021
X-MICROSOFT-CDO-ALLDAYEVENT:TRUE
X-MICROSOFT-MSNCALENDAR-ALLDAYEVENT:TRUE
SUMMARY:No School / Holiday
DESCRIPTION:No School / Holiday - No school
STATUS:CONFIRMED
END:VEVENT
BEGIN:VEVENT
UID:10236b07-21cf-456d-adf5-c2d21aa46e6a
SEQUENCE:0
DTSTAMP:20260421T081029Z
DTSTART;VALUE=DATE:20251023
X-MICROSOFT-CDO-ALLDAYEVENT:TRUE
X-MICROSOFT-MSNCALENDAR-ALLDAYEVENT:TRUE
SUMMARY:No School / Holiday
DESCRIPTION:No School / Holiday - No school
STATUS:CONFIRMED
END:VEVENT
BEGIN:VEVENT
UID:cf849248-3018-4e4a-adce-61f13abdac9d
SEQUENCE:0
DTSTAMP:20260421T081029Z
DTSTART;VALUE=DATE:20251024
X-MICROSOFT-CDO-ALLDAYEVENT:TRUE
X-MICROSOFT-MSNCALENDAR-ALLDAYEVENT:TRUE
SUMMARY:No School / Holiday
DESCRIPTION:No School / Holiday - No school
STATUS:CONFIRMED
END:VEVENT
BEGIN:VEVENT
UID:e675c4ce-50f7-4666-99f5-be733576dd67
SEQUENCE:0
DTSTAMP:20260421T081029Z
DTSTART;VALUE=DATE:20260116
X-MICROSOFT-CDO-ALLDAYEVENT:TRUE
X-MICROSOFT-MSNCALENDAR-ALLDAYEVENT:TRUE
SUMMARY:No School / Holiday
DESCRIPTION:No School / Holiday - No school
STATUS:CONFIRMED
END:VEVENT
BEGIN:VEVENT
UID:ba4961ba-6dee-4e8a-8066-ad7fc0a967ff
SEQUENCE:0
DTSTAMP:20260421T081029Z
DTSTART;VALUE=DATE:20260213
X-MICROSOFT-CDO-ALLDAYEVENT:TRUE
X-MICROSOFT-MSNCALENDAR-ALLDAYEVENT:TRUE
SUMMARY:No School / Holiday
DESCRIPTION:No School / Holiday - No school
STATUS:CONFIRMED
END:VEVENT
BEGIN:VEVENT
UID:45573f75-2db3-4fbe-a30f-88c8103c46ae
SEQUENCE:0
DTSTAMP:20260421T081029Z
DTSTART;VALUE=DATE:20260216
X-MICROSOFT-CDO-ALLDAYEVENT:TRUE
X-MICROSOFT-MSNCALENDAR-ALLDAYEVENT:TRUE
SUMMARY:No School / Holiday
DESCRIPTION:No School / Holiday - No school
STATUS:CONFIRMED
END:VEVENT
BEGIN:VEVENT
UID:8ce270f5-578e-4b31-8950-2caa70e232dd
SEQUENCE:0
DTSTAMP:20260421T081029Z
DTSTART;VALUE=DATE:20260313
X-MICROSOFT-CDO-ALLDAYEVENT:TRUE
X-MICROSOFT-MSNCALENDAR-ALLDAYEVENT:TRUE
SUMMARY:No School / Holiday
DESCRIPTION:No School / Holiday - No school
STATUS:CONFIRMED
END:VEVENT
BEGIN:VEVENT
UID:0800e323-a566-441d-82ea-45065ace722d
SEQUENCE:0
DTSTAMP:20260421T081029Z
DTSTART;VALUE=DATE:20260330
X-MICROSOFT-CDO-ALLDAYEVENT:TRUE
X-MICROSOFT-MSNCALENDAR-ALLDAYEVENT:TRUE
SUMMARY:No School / Holiday
DESCRIPTION:No School / Holiday - No school
STATUS:CONFIRMED
END:VEVENT
BEGIN:VEVENT
UID:cbe399e5-e5de-43d0-b1f8-186faaad44da
SEQUENCE:0
DTSTAMP:20260421T081029Z
DTSTART;VALUE=DATE:20260331
X-MICROSOFT-CDO-ALLDAYEVENT:TRUE
X-MICROSOFT-MSNCALENDAR-ALLDAYEVENT:TRUE
SUMMARY:No School / Holiday
DESCRIPTION:No School / Holiday - No school
STATUS:CONFIRMED
END:VEVENT
END:VCALENDAR