BEGIN:VCALENDAR
VERSION:2.0
PRODID:-//SchoolCalendarAPI//school-calendar//EN
URL:https://api.schools-calendar.com/calendar?district_id=wi-galesville-et
 trick-trempealeau-school-district&year=2025-26
NAME:Galesville-Ettrick-Trempealeau School District School Calendar 2025-2
 6
X-WR-CALNAME:Galesville-Ettrick-Trempealeau School District School Calenda
 r 2025-26
X-WR-CALDESC:Official school calendar for Galesville-Ettrick-Trempealeau S
 chool District for the 2025-26 school year.
REFRESH-INTERVAL;VALUE=DURATION:P1D
X-PUBLISHED-TTL:P1D
BEGIN:VEVENT
UID:3cf49f7e-656e-44a5-b553-0a692ee9cf6e
SEQUENCE:0
DTSTAMP:20260421T081029Z
DTSTART;VALUE=DATE:20250820
X-MICROSOFT-CDO-ALLDAYEVENT:TRUE
X-MICROSOFT-MSNCALENDAR-ALLDAYEVENT:TRUE
SUMMARY:First Day of School
DESCRIPTION:First day of the 2025-26 school year
STATUS:CONFIRMED
END:VEVENT
BEGIN:VEVENT
UID:f3f2d09b-26f7-4a13-bc5c-fb41358be219
SEQUENCE:0
DTSTAMP:20260421T081029Z
DTSTART;VALUE=DATE:20260529
X-MICROSOFT-CDO-ALLDAYEVENT:TRUE
X-MICROSOFT-MSNCALENDAR-ALLDAYEVENT:TRUE
SUMMARY:Last Day of School
DESCRIPTION:Last day of the 2025-26 school year
STATUS:CONFIRMED
END:VEVENT
BEGIN:VEVENT
UID:1ae93a6f-949b-4b1f-a952-074faefd4bf5
SEQUENCE:0
DTSTAMP:20260421T081029Z
DTSTART;VALUE=DATE:20251126
DTEND;VALUE=DATE:20251129
X-MICROSOFT-CDO-ALLDAYEVENT:TRUE
X-MICROSOFT-MSNCALENDAR-ALLDAYEVENT:TRUE
SUMMARY:Thanksgiving Break
DESCRIPTION:Thanksgiving Break - No school
STATUS:CONFIRMED
END:VEVENT
BEGIN:VEVENT
UID:e3303d3a-4ebf-44ac-a164-e4e322c5a194
SEQUENCE:0
DTSTAMP:20260421T081029Z
DTSTART;VALUE=DATE:20251224
DTEND;VALUE=DATE:20260103
X-MICROSOFT-CDO-ALLDAYEVENT:TRUE
X-MICROSOFT-MSNCALENDAR-ALLDAYEVENT:TRUE
SUMMARY:Winter Break
DESCRIPTION:Winter Break - No school
STATUS:CONFIRMED
END:VEVENT
BEGIN:VEVENT
UID:24b2483e-f4c1-4b8c-94c0-d58e275f7e6c
SEQUENCE:0
DTSTAMP:20260421T081029Z
DTSTART;VALUE=DATE:20260403
DTEND;VALUE=DATE:20260407
X-MICROSOFT-CDO-ALLDAYEVENT:TRUE
X-MICROSOFT-MSNCALENDAR-ALLDAYEVENT:TRUE
SUMMARY:Spring Break
DESCRIPTION:Spring Break - No school
STATUS:CONFIRMED
END:VEVENT
BEGIN:VEVENT
UID:459b4317-d9ce-431f-8b6f-4f819bbf33ec
SEQUENCE:0
DTSTAMP:20260421T081029Z
DTSTART;VALUE=DATE:20250820
X-MICROSOFT-CDO-ALLDAYEVENT:TRUE
X-MICROSOFT-MSNCALENDAR-ALLDAYEVENT:TRUE
SUMMARY:Registration Day
DESCRIPTION:Registration Day - No school
STATUS:CONFIRMED
END:VEVENT
BEGIN:VEVENT
UID:159f7f57-6a17-4a9a-9bee-5b0c46869c95
SEQUENCE:0
DTSTAMP:20260421T081029Z
DTSTART;VALUE=DATE:20250826
X-MICROSOFT-CDO-ALLDAYEVENT:TRUE
X-MICROSOFT-MSNCALENDAR-ALLDAYEVENT:TRUE
SUMMARY:Open House
DESCRIPTION:Open House - No school
STATUS:CONFIRMED
END:VEVENT
BEGIN:VEVENT
UID:ad5818af-3985-4f15-b684-f3fabe3edfa2
SEQUENCE:0
DTSTAMP:20260421T081029Z
DTSTART;VALUE=DATE:20250827
X-MICROSOFT-CDO-ALLDAYEVENT:TRUE
X-MICROSOFT-MSNCALENDAR-ALLDAYEVENT:TRUE
SUMMARY:Open House
DESCRIPTION:Open House - No school
STATUS:CONFIRMED
END:VEVENT
BEGIN:VEVENT
UID:daa01df9-57a5-42b4-93af-6482ce24f18e
SEQUENCE:0
DTSTAMP:20260421T081029Z
DTSTART;VALUE=DATE:20250828
X-MICROSOFT-CDO-ALLDAYEVENT:TRUE
X-MICROSOFT-MSNCALENDAR-ALLDAYEVENT:TRUE
SUMMARY:Open House
DESCRIPTION:Open House - No school
STATUS:CONFIRMED
END:VEVENT
BEGIN:VEVENT
UID:74c73153-5ca8-453f-89d1-3e3ff549a8cd
SEQUENCE:0
DTSTAMP:20260421T081029Z
DTSTART;VALUE=DATE:20251126
X-MICROSOFT-CDO-ALLDAYEVENT:TRUE
X-MICROSOFT-MSNCALENDAR-ALLDAYEVENT:TRUE
SUMMARY:Teacher Inservice
DESCRIPTION:Teacher Inservice - No school
STATUS:CONFIRMED
END:VEVENT
BEGIN:VEVENT
UID:b7c89c1a-3754-4b00-bd34-e3508bc7fdcb
SEQUENCE:0
DTSTAMP:20260421T081029Z
DTSTART;VALUE=DATE:20251127
X-MICROSOFT-CDO-ALLDAYEVENT:TRUE
X-MICROSOFT-MSNCALENDAR-ALLDAYEVENT:TRUE
SUMMARY:Teacher Inservice
DESCRIPTION:Teacher Inservice - No school
STATUS:CONFIRMED
END:VEVENT
BEGIN:VEVENT
UID:9c8e322b-fdbe-4e09-a80c-4da80d612c66
SEQUENCE:0
DTSTAMP:20260421T081029Z
DTSTART;VALUE=DATE:20251128
X-MICROSOFT-CDO-ALLDAYEVENT:TRUE
X-MICROSOFT-MSNCALENDAR-ALLDAYEVENT:TRUE
SUMMARY:Teacher Inservice
DESCRIPTION:Teacher Inservice - No school
STATUS:CONFIRMED
END:VEVENT
BEGIN:VEVENT
UID:1098cc3b-d2a8-4469-b2bc-12faf7e2506a
SEQUENCE:0
DTSTAMP:20260421T081029Z
DTSTART;VALUE=DATE:20260529
X-MICROSOFT-CDO-ALLDAYEVENT:TRUE
X-MICROSOFT-MSNCALENDAR-ALLDAYEVENT:TRUE
SUMMARY:Half Day with Students
DESCRIPTION:Half Day with Students - No school
STATUS:CONFIRMED
END:VEVENT
END:VCALENDAR