BEGIN:VCALENDAR
VERSION:2.0
PRODID:-//SchoolCalendarAPI//school-calendar//EN
URL:https://api.schools-calendar.com/calendar?district_id=wi-marinette-sch
 ool-district&year=2025-26
NAME:Marinette School District School Calendar 2025-26
X-WR-CALNAME:Marinette School District School Calendar 2025-26
X-WR-CALDESC:Official school calendar for Marinette School District for th
 e 2025-26 school year.
REFRESH-INTERVAL;VALUE=DURATION:P1D
X-PUBLISHED-TTL:P1D
BEGIN:VEVENT
UID:aab118a7-1656-435e-a52f-b90d716c256d
SEQUENCE:0
DTSTAMP:20260421T080205Z
DTSTART;VALUE=DATE:20250825
X-MICROSOFT-CDO-ALLDAYEVENT:TRUE
X-MICROSOFT-MSNCALENDAR-ALLDAYEVENT:TRUE
SUMMARY:First Day of School
DESCRIPTION:First day of the 2025-26 school year
STATUS:CONFIRMED
END:VEVENT
BEGIN:VEVENT
UID:a6d1b327-71cc-4250-bb4c-aa17d1312b06
SEQUENCE:0
DTSTAMP:20260421T080205Z
DTSTART;VALUE=DATE:20260529
X-MICROSOFT-CDO-ALLDAYEVENT:TRUE
X-MICROSOFT-MSNCALENDAR-ALLDAYEVENT:TRUE
SUMMARY:Last Day of School
DESCRIPTION:Last day of the 2025-26 school year
STATUS:CONFIRMED
END:VEVENT
BEGIN:VEVENT
UID:e34d5c24-3134-4b2f-8810-173ff9dfd4e2
SEQUENCE:0
DTSTAMP:20260421T080205Z
DTSTART;VALUE=DATE:20251126
DTEND;VALUE=DATE:20251129
X-MICROSOFT-CDO-ALLDAYEVENT:TRUE
X-MICROSOFT-MSNCALENDAR-ALLDAYEVENT:TRUE
SUMMARY:Thanksgiving Break
DESCRIPTION:Thanksgiving Break - No school
STATUS:CONFIRMED
END:VEVENT
BEGIN:VEVENT
UID:4e898f70-c1a9-4c16-9e96-2e00b14f557c
SEQUENCE:0
DTSTAMP:20260421T080205Z
DTSTART;VALUE=DATE:20251224
DTEND;VALUE=DATE:20260103
X-MICROSOFT-CDO-ALLDAYEVENT:TRUE
X-MICROSOFT-MSNCALENDAR-ALLDAYEVENT:TRUE
SUMMARY:Christmas Break
DESCRIPTION:Christmas Break - No school
STATUS:CONFIRMED
END:VEVENT
BEGIN:VEVENT
UID:5b012d4a-122a-48dc-9d94-3224799f948d
SEQUENCE:0
DTSTAMP:20260421T080205Z
DTSTART;VALUE=DATE:20260330
DTEND;VALUE=DATE:20260407
X-MICROSOFT-CDO-ALLDAYEVENT:TRUE
X-MICROSOFT-MSNCALENDAR-ALLDAYEVENT:TRUE
SUMMARY:Easter Break
DESCRIPTION:Easter Break - No school
STATUS:CONFIRMED
END:VEVENT
BEGIN:VEVENT
UID:c3f20302-0fb2-438d-83ce-83db4031517f
SEQUENCE:0
DTSTAMP:20260421T080205Z
DTSTART;VALUE=DATE:20250901
X-MICROSOFT-CDO-ALLDAYEVENT:TRUE
X-MICROSOFT-MSNCALENDAR-ALLDAYEVENT:TRUE
SUMMARY:Labor Day
DESCRIPTION:Labor Day - No school
STATUS:CONFIRMED
END:VEVENT
BEGIN:VEVENT
UID:71500598-c211-46e1-8e1b-ada9e7beceb2
SEQUENCE:0
DTSTAMP:20260421T080205Z
DTSTART;VALUE=DATE:20251003
X-MICROSOFT-CDO-ALLDAYEVENT:TRUE
X-MICROSOFT-MSNCALENDAR-ALLDAYEVENT:TRUE
SUMMARY:No School - Inservice
DESCRIPTION:No School - Inservice - No school
STATUS:CONFIRMED
END:VEVENT
BEGIN:VEVENT
UID:39f0490e-e4c9-4e63-8642-dff9a0f58450
SEQUENCE:0
DTSTAMP:20260421T080205Z
DTSTART;VALUE=DATE:20251029
X-MICROSOFT-CDO-ALLDAYEVENT:TRUE
X-MICROSOFT-MSNCALENDAR-ALLDAYEVENT:TRUE
SUMMARY:Teachers Conference
DESCRIPTION:Teachers Conference - No school
STATUS:CONFIRMED
END:VEVENT
BEGIN:VEVENT
UID:fd71f5dc-80f7-47c0-b884-552919816924
SEQUENCE:0
DTSTAMP:20260421T080205Z
DTSTART;VALUE=DATE:20251030
X-MICROSOFT-CDO-ALLDAYEVENT:TRUE
X-MICROSOFT-MSNCALENDAR-ALLDAYEVENT:TRUE
SUMMARY:Teachers Conference
DESCRIPTION:Teachers Conference - No school
STATUS:CONFIRMED
END:VEVENT
BEGIN:VEVENT
UID:42172afd-b948-4852-a984-9425cc82a6d8
SEQUENCE:0
DTSTAMP:20260421T080205Z
DTSTART;VALUE=DATE:20251031
X-MICROSOFT-CDO-ALLDAYEVENT:TRUE
X-MICROSOFT-MSNCALENDAR-ALLDAYEVENT:TRUE
SUMMARY:Teachers Conference
DESCRIPTION:Teachers Conference - No school
STATUS:CONFIRMED
END:VEVENT
BEGIN:VEVENT
UID:370bb67a-4f47-49f0-a2c7-345849eb92fd
SEQUENCE:0
DTSTAMP:20260421T080205Z
DTSTART;VALUE=DATE:20260130
X-MICROSOFT-CDO-ALLDAYEVENT:TRUE
X-MICROSOFT-MSNCALENDAR-ALLDAYEVENT:TRUE
SUMMARY:No School - Inservice
DESCRIPTION:No School - Inservice - No school
STATUS:CONFIRMED
END:VEVENT
BEGIN:VEVENT
UID:eb59e720-b784-4a73-bc6a-e58bf464ff2a
SEQUENCE:0
DTSTAMP:20260421T080205Z
DTSTART;VALUE=DATE:20260501
X-MICROSOFT-CDO-ALLDAYEVENT:TRUE
X-MICROSOFT-MSNCALENDAR-ALLDAYEVENT:TRUE
SUMMARY:No School - Inservice
DESCRIPTION:No School - Inservice - No school
STATUS:CONFIRMED
END:VEVENT
BEGIN:VEVENT
UID:a99f5948-d81a-40d3-8d95-7dcfa67aac6c
SEQUENCE:0
DTSTAMP:20260421T080205Z
DTSTART;VALUE=DATE:20260525
X-MICROSOFT-CDO-ALLDAYEVENT:TRUE
X-MICROSOFT-MSNCALENDAR-ALLDAYEVENT:TRUE
SUMMARY:Memorial Day
DESCRIPTION:Memorial Day - No school
STATUS:CONFIRMED
END:VEVENT
END:VCALENDAR