BEGIN:VCALENDAR
VERSION:2.0
PRODID:-//SchoolCalendarAPI//school-calendar//EN
URL:https://api.schools-calendar.com/calendar?district_id=wi-northern-ozau
 kee-school-district&year=2025-26
NAME:Northern Ozaukee School District School Calendar 2025-26
X-WR-CALNAME:Northern Ozaukee School District School Calendar 2025-26
X-WR-CALDESC:Official school calendar for Northern Ozaukee School District
  for the 2025-26 school year.
REFRESH-INTERVAL;VALUE=DURATION:P1D
X-PUBLISHED-TTL:P1D
BEGIN:VEVENT
UID:c07fa530-a559-4712-97c0-ce48509332b2
SEQUENCE:0
DTSTAMP:20260421T080539Z
DTSTART;VALUE=DATE:20250902
X-MICROSOFT-CDO-ALLDAYEVENT:TRUE
X-MICROSOFT-MSNCALENDAR-ALLDAYEVENT:TRUE
SUMMARY:First Day of School
DESCRIPTION:First day of the 2025-26 school year
STATUS:CONFIRMED
END:VEVENT
BEGIN:VEVENT
UID:ea3eb450-b296-4dae-b068-6bd018923de4
SEQUENCE:0
DTSTAMP:20260421T080539Z
DTSTART;VALUE=DATE:20260603
X-MICROSOFT-CDO-ALLDAYEVENT:TRUE
X-MICROSOFT-MSNCALENDAR-ALLDAYEVENT:TRUE
SUMMARY:Last Day of School
DESCRIPTION:Last day of the 2025-26 school year
STATUS:CONFIRMED
END:VEVENT
BEGIN:VEVENT
UID:938b90f7-ec6e-446f-bb7a-6ac7daf6ced2
SEQUENCE:0
DTSTAMP:20260421T080539Z
DTSTART;VALUE=DATE:20251126
DTEND;VALUE=DATE:20251129
X-MICROSOFT-CDO-ALLDAYEVENT:TRUE
X-MICROSOFT-MSNCALENDAR-ALLDAYEVENT:TRUE
SUMMARY:Thanksgiving Break
DESCRIPTION:Thanksgiving Break - No school
STATUS:CONFIRMED
END:VEVENT
BEGIN:VEVENT
UID:023c2369-abdb-4d3a-b5ae-7e5a7f09bd29
SEQUENCE:0
DTSTAMP:20260421T080539Z
DTSTART;VALUE=DATE:20251224
DTEND;VALUE=DATE:20260103
X-MICROSOFT-CDO-ALLDAYEVENT:TRUE
X-MICROSOFT-MSNCALENDAR-ALLDAYEVENT:TRUE
SUMMARY:Winter Break
DESCRIPTION:Winter Break - No school
STATUS:CONFIRMED
END:VEVENT
BEGIN:VEVENT
UID:213af528-9e30-4617-9ce5-e25e4a466d57
SEQUENCE:0
DTSTAMP:20260421T080539Z
DTSTART;VALUE=DATE:20260330
DTEND;VALUE=DATE:20260404
X-MICROSOFT-CDO-ALLDAYEVENT:TRUE
X-MICROSOFT-MSNCALENDAR-ALLDAYEVENT:TRUE
SUMMARY:Spring Break
DESCRIPTION:Spring Break - No school
STATUS:CONFIRMED
END:VEVENT
BEGIN:VEVENT
UID:ae929826-6743-4035-b12f-072a87df87ce
SEQUENCE:0
DTSTAMP:20260421T080539Z
DTSTART;VALUE=DATE:20250901
X-MICROSOFT-CDO-ALLDAYEVENT:TRUE
X-MICROSOFT-MSNCALENDAR-ALLDAYEVENT:TRUE
SUMMARY:Labor Day
DESCRIPTION:Labor Day - No school
STATUS:CONFIRMED
END:VEVENT
BEGIN:VEVENT
UID:cabdf1b4-1385-4ae3-a991-98e15435efd1
SEQUENCE:0
DTSTAMP:20260421T080539Z
DTSTART;VALUE=DATE:20260525
X-MICROSOFT-CDO-ALLDAYEVENT:TRUE
X-MICROSOFT-MSNCALENDAR-ALLDAYEVENT:TRUE
SUMMARY:Memorial Day
DESCRIPTION:Memorial Day - No school
STATUS:CONFIRMED
END:VEVENT
BEGIN:VEVENT
UID:57a51785-4ccf-4b26-9c4b-7bd12d1f88c3
SEQUENCE:0
DTSTAMP:20260421T080539Z
DTSTART;VALUE=DATE:20251017
X-MICROSOFT-CDO-ALLDAYEVENT:TRUE
X-MICROSOFT-MSNCALENDAR-ALLDAYEVENT:TRUE
SUMMARY:No School (no students or staff)
DESCRIPTION:No School (no students or staff) - No school
STATUS:CONFIRMED
END:VEVENT
BEGIN:VEVENT
UID:ae2409e3-a1c6-4d9e-b3d6-68c0cce53ede
SEQUENCE:0
DTSTAMP:20260421T080539Z
DTSTART;VALUE=DATE:20260227
X-MICROSOFT-CDO-ALLDAYEVENT:TRUE
X-MICROSOFT-MSNCALENDAR-ALLDAYEVENT:TRUE
SUMMARY:No School (no students or staff)
DESCRIPTION:No School (no students or staff) - No school
STATUS:CONFIRMED
END:VEVENT
BEGIN:VEVENT
UID:5d42f4d9-3466-4808-90fa-d21ae893002b
SEQUENCE:0
DTSTAMP:20260421T080539Z
DTSTART;VALUE=DATE:20260406
X-MICROSOFT-CDO-ALLDAYEVENT:TRUE
X-MICROSOFT-MSNCALENDAR-ALLDAYEVENT:TRUE
SUMMARY:No School (no students or staff)
DESCRIPTION:No School (no students or staff) - No school
STATUS:CONFIRMED
END:VEVENT
BEGIN:VEVENT
UID:49f06371-6a5c-45d8-978e-e2a1b871ea46
SEQUENCE:0
DTSTAMP:20260421T080539Z
DTSTART;VALUE=DATE:20260501
X-MICROSOFT-CDO-ALLDAYEVENT:TRUE
X-MICROSOFT-MSNCALENDAR-ALLDAYEVENT:TRUE
SUMMARY:No School (no students or staff)
DESCRIPTION:No School (no students or staff) - No school
STATUS:CONFIRMED
END:VEVENT
BEGIN:VEVENT
UID:e7897b34-fb6c-4b6f-a56d-c53e7f14c31e
SEQUENCE:0
DTSTAMP:20260421T080539Z
DTSTART;VALUE=DATE:20251107
X-MICROSOFT-CDO-ALLDAYEVENT:TRUE
X-MICROSOFT-MSNCALENDAR-ALLDAYEVENT:TRUE
SUMMARY:Records Day (no students)
DESCRIPTION:Records Day (no students) - No school
STATUS:CONFIRMED
END:VEVENT
BEGIN:VEVENT
UID:77a40dde-f2f6-4bcb-8b85-142123cbea08
SEQUENCE:0
DTSTAMP:20260421T080539Z
DTSTART;VALUE=DATE:20260123
X-MICROSOFT-CDO-ALLDAYEVENT:TRUE
X-MICROSOFT-MSNCALENDAR-ALLDAYEVENT:TRUE
SUMMARY:Records Day (no students)
DESCRIPTION:Records Day (no students) - No school
STATUS:CONFIRMED
END:VEVENT
BEGIN:VEVENT
UID:eacbad74-2124-44a1-86be-caf8859832b0
SEQUENCE:0
DTSTAMP:20260421T080539Z
DTSTART;VALUE=DATE:20260604
X-MICROSOFT-CDO-ALLDAYEVENT:TRUE
X-MICROSOFT-MSNCALENDAR-ALLDAYEVENT:TRUE
SUMMARY:Records Day (no students)
DESCRIPTION:Records Day (no students) - No school
STATUS:CONFIRMED
END:VEVENT
BEGIN:VEVENT
UID:336e49de-314f-4bf4-acb4-4cfd9248a60d
SEQUENCE:0
DTSTAMP:20260421T080539Z
DTSTART;VALUE=DATE:20250819
X-MICROSOFT-CDO-ALLDAYEVENT:TRUE
X-MICROSOFT-MSNCALENDAR-ALLDAYEVENT:TRUE
SUMMARY:Professional Learning Day
DESCRIPTION:Professional Learning Day - No school
STATUS:CONFIRMED
END:VEVENT
BEGIN:VEVENT
UID:eb608893-df2c-46c9-b738-2eab6bd7b1ca
SEQUENCE:0
DTSTAMP:20260421T080539Z
DTSTART;VALUE=DATE:20250820
X-MICROSOFT-CDO-ALLDAYEVENT:TRUE
X-MICROSOFT-MSNCALENDAR-ALLDAYEVENT:TRUE
SUMMARY:Professional Learning Day
DESCRIPTION:Professional Learning Day - No school
STATUS:CONFIRMED
END:VEVENT
BEGIN:VEVENT
UID:7659df94-69ff-49a2-adad-3283782c876b
SEQUENCE:0
DTSTAMP:20260421T080539Z
DTSTART;VALUE=DATE:20250821
X-MICROSOFT-CDO-ALLDAYEVENT:TRUE
X-MICROSOFT-MSNCALENDAR-ALLDAYEVENT:TRUE
SUMMARY:Professional Learning Day
DESCRIPTION:Professional Learning Day - No school
STATUS:CONFIRMED
END:VEVENT
BEGIN:VEVENT
UID:aee9810b-55b5-454b-a1c3-f6980c7df29d
SEQUENCE:0
DTSTAMP:20260421T080539Z
DTSTART;VALUE=DATE:20250826
X-MICROSOFT-CDO-ALLDAYEVENT:TRUE
X-MICROSOFT-MSNCALENDAR-ALLDAYEVENT:TRUE
SUMMARY:Back to School Picnic
DESCRIPTION:Back to School Picnic - No school
STATUS:CONFIRMED
END:VEVENT
BEGIN:VEVENT
UID:ada2977a-c67f-4fb1-b565-b541b5eab19a
SEQUENCE:0
DTSTAMP:20260421T080539Z
DTSTART;VALUE=DATE:20260531
X-MICROSOFT-CDO-ALLDAYEVENT:TRUE
X-MICROSOFT-MSNCALENDAR-ALLDAYEVENT:TRUE
SUMMARY:Graduation
DESCRIPTION:Graduation - No school
STATUS:CONFIRMED
END:VEVENT
END:VCALENDAR