BEGIN:VCALENDAR
VERSION:2.0
PRODID:-//SchoolCalendarAPI//school-calendar//EN
URL:https://api.schools-calendar.com/calendar?district_id=wi-rice-lake-are
 a-school-district&year=2025-26
NAME:Rice Lake Area School District School Calendar 2025-26
X-WR-CALNAME:Rice Lake Area School District School Calendar 2025-26
X-WR-CALDESC:Official school calendar for Rice Lake Area School District f
 or the 2025-26 school year.
REFRESH-INTERVAL;VALUE=DURATION:P1D
X-PUBLISHED-TTL:P1D
BEGIN:VEVENT
UID:e91e2d41-7be9-4382-ba71-02567d632ab2
SEQUENCE:0
DTSTAMP:20260421T080722Z
DTSTART;VALUE=DATE:20250825
X-MICROSOFT-CDO-ALLDAYEVENT:TRUE
X-MICROSOFT-MSNCALENDAR-ALLDAYEVENT:TRUE
SUMMARY:First Day of School
DESCRIPTION:First day of the 2025-26 school year
STATUS:CONFIRMED
END:VEVENT
BEGIN:VEVENT
UID:ffd7c176-c357-46c5-b6ff-6aad857f73f1
SEQUENCE:0
DTSTAMP:20260421T080722Z
DTSTART;VALUE=DATE:20260602
X-MICROSOFT-CDO-ALLDAYEVENT:TRUE
X-MICROSOFT-MSNCALENDAR-ALLDAYEVENT:TRUE
SUMMARY:Last Day of School
DESCRIPTION:Last day of the 2025-26 school year
STATUS:CONFIRMED
END:VEVENT
BEGIN:VEVENT
UID:478c03a4-af95-48a6-aa5e-81a0b5922cfd
SEQUENCE:0
DTSTAMP:20260421T080722Z
DTSTART;VALUE=DATE:20251125
DTEND;VALUE=DATE:20251129
X-MICROSOFT-CDO-ALLDAYEVENT:TRUE
X-MICROSOFT-MSNCALENDAR-ALLDAYEVENT:TRUE
SUMMARY:Thanksgiving Vacation
DESCRIPTION:Thanksgiving Vacation - No school
STATUS:CONFIRMED
END:VEVENT
BEGIN:VEVENT
UID:bd1a830b-03c0-4774-ab65-bf0ab79ee488
SEQUENCE:0
DTSTAMP:20260421T080722Z
DTSTART;VALUE=DATE:20251219
DTEND;VALUE=DATE:20260105
X-MICROSOFT-CDO-ALLDAYEVENT:TRUE
X-MICROSOFT-MSNCALENDAR-ALLDAYEVENT:TRUE
SUMMARY:Winter Vacation
DESCRIPTION:Winter Vacation - No school
STATUS:CONFIRMED
END:VEVENT
BEGIN:VEVENT
UID:44934be9-3aae-4d62-a23d-0bd3f28402bf
SEQUENCE:0
DTSTAMP:20260421T080722Z
DTSTART;VALUE=DATE:20260306
DTEND;VALUE=DATE:20260316
X-MICROSOFT-CDO-ALLDAYEVENT:TRUE
X-MICROSOFT-MSNCALENDAR-ALLDAYEVENT:TRUE
SUMMARY:Spring Vacation
DESCRIPTION:Spring Vacation - No school
STATUS:CONFIRMED
END:VEVENT
BEGIN:VEVENT
UID:e65dd949-0416-4a0b-bf31-730eb7662f92
SEQUENCE:0
DTSTAMP:20260421T080722Z
DTSTART;VALUE=DATE:20250901
X-MICROSOFT-CDO-ALLDAYEVENT:TRUE
X-MICROSOFT-MSNCALENDAR-ALLDAYEVENT:TRUE
SUMMARY:Labor Day
DESCRIPTION:Labor Day - No school
STATUS:CONFIRMED
END:VEVENT
BEGIN:VEVENT
UID:cfdc06a9-ba6c-4de0-b5c0-5e10d100f8e0
SEQUENCE:0
DTSTAMP:20260421T080722Z
DTSTART;VALUE=DATE:20251006
X-MICROSOFT-CDO-ALLDAYEVENT:TRUE
X-MICROSOFT-MSNCALENDAR-ALLDAYEVENT:TRUE
SUMMARY:Teacher In-service/Work Day
DESCRIPTION:Teacher In-service/Work Day - No school
STATUS:CONFIRMED
END:VEVENT
BEGIN:VEVENT
UID:c650b793-766d-4311-a346-eb0ce9568411
SEQUENCE:0
DTSTAMP:20260421T080722Z
DTSTART;VALUE=DATE:20251027
X-MICROSOFT-CDO-ALLDAYEVENT:TRUE
X-MICROSOFT-MSNCALENDAR-ALLDAYEVENT:TRUE
SUMMARY:Teacher In-service/Work Day
DESCRIPTION:Teacher In-service/Work Day - No school
STATUS:CONFIRMED
END:VEVENT
BEGIN:VEVENT
UID:1c0466bd-ac7a-49a9-a493-e541a4105ff0
SEQUENCE:0
DTSTAMP:20260421T080722Z
DTSTART;VALUE=DATE:20260116
X-MICROSOFT-CDO-ALLDAYEVENT:TRUE
X-MICROSOFT-MSNCALENDAR-ALLDAYEVENT:TRUE
SUMMARY:Teacher In-service/Work Day
DESCRIPTION:Teacher In-service/Work Day - No school
STATUS:CONFIRMED
END:VEVENT
BEGIN:VEVENT
UID:0c6f285f-1f3b-4210-b27f-aebb038d50be
SEQUENCE:0
DTSTAMP:20260421T080722Z
DTSTART;VALUE=DATE:20260216
X-MICROSOFT-CDO-ALLDAYEVENT:TRUE
X-MICROSOFT-MSNCALENDAR-ALLDAYEVENT:TRUE
SUMMARY:Teacher In-service/Work Day
DESCRIPTION:Teacher In-service/Work Day - No school
STATUS:CONFIRMED
END:VEVENT
BEGIN:VEVENT
UID:90d8452d-efd1-47b9-90b0-a4145433f4a2
SEQUENCE:0
DTSTAMP:20260421T080722Z
DTSTART;VALUE=DATE:20260327
X-MICROSOFT-CDO-ALLDAYEVENT:TRUE
X-MICROSOFT-MSNCALENDAR-ALLDAYEVENT:TRUE
SUMMARY:Teacher In-service/Work Day
DESCRIPTION:Teacher In-service/Work Day - No school
STATUS:CONFIRMED
END:VEVENT
BEGIN:VEVENT
UID:d110629c-17be-43fc-a3d7-9ba56c20c8f4
SEQUENCE:0
DTSTAMP:20260421T080722Z
DTSTART;VALUE=DATE:20260403
X-MICROSOFT-CDO-ALLDAYEVENT:TRUE
X-MICROSOFT-MSNCALENDAR-ALLDAYEVENT:TRUE
SUMMARY:Vacation Day
DESCRIPTION:Vacation Day - No school
STATUS:CONFIRMED
END:VEVENT
BEGIN:VEVENT
UID:d0cfdd13-1547-4661-93f1-640fb96b83be
SEQUENCE:0
DTSTAMP:20260421T080722Z
DTSTART;VALUE=DATE:20260508
X-MICROSOFT-CDO-ALLDAYEVENT:TRUE
X-MICROSOFT-MSNCALENDAR-ALLDAYEVENT:TRUE
SUMMARY:Teacher In-service/Work Day
DESCRIPTION:Teacher In-service/Work Day - No school
STATUS:CONFIRMED
END:VEVENT
BEGIN:VEVENT
UID:778cba2e-0f2d-4ece-b860-30deb20b3e9a
SEQUENCE:0
DTSTAMP:20260421T080722Z
DTSTART;VALUE=DATE:20260525
X-MICROSOFT-CDO-ALLDAYEVENT:TRUE
X-MICROSOFT-MSNCALENDAR-ALLDAYEVENT:TRUE
SUMMARY:Memorial Day
DESCRIPTION:Memorial Day - No school
STATUS:CONFIRMED
END:VEVENT
BEGIN:VEVENT
UID:b23824b2-6867-4f41-98d8-3ba094095d46
SEQUENCE:0
DTSTAMP:20260421T080722Z
DTSTART;VALUE=DATE:20260603
X-MICROSOFT-CDO-ALLDAYEVENT:TRUE
X-MICROSOFT-MSNCALENDAR-ALLDAYEVENT:TRUE
SUMMARY:Teacher In-service/Work Day
DESCRIPTION:Teacher In-service/Work Day - No school
STATUS:CONFIRMED
END:VEVENT
END:VCALENDAR